BEGIN:VCALENDAR
VERSION:2.0
PRODID:-//RiverCal – Events in the Siuslaw Region - ECPv6.15.20//NONSGML v1.0//EN
CALSCALE:GREGORIAN
METHOD:PUBLISH
X-WR-CALNAME:RiverCal – Events in the Siuslaw Region
X-ORIGINAL-URL:https://www.rivercal.org
X-WR-CALDESC:Events for RiverCal – Events in the Siuslaw Region
REFRESH-INTERVAL;VALUE=DURATION:PT1H
X-Robots-Tag:noindex
X-PUBLISHED-TTL:PT1H
BEGIN:VTIMEZONE
TZID:America/Los_Angeles
BEGIN:DAYLIGHT
TZOFFSETFROM:-0800
TZOFFSETTO:-0700
TZNAME:PDT
DTSTART:20240310T100000
END:DAYLIGHT
BEGIN:STANDARD
TZOFFSETFROM:-0700
TZOFFSETTO:-0800
TZNAME:PST
DTSTART:20241103T090000
END:STANDARD
BEGIN:DAYLIGHT
TZOFFSETFROM:-0800
TZOFFSETTO:-0700
TZNAME:PDT
DTSTART:20250309T100000
END:DAYLIGHT
BEGIN:STANDARD
TZOFFSETFROM:-0700
TZOFFSETTO:-0800
TZNAME:PST
DTSTART:20251102T090000
END:STANDARD
BEGIN:DAYLIGHT
TZOFFSETFROM:-0800
TZOFFSETTO:-0700
TZNAME:PDT
DTSTART:20260308T100000
END:DAYLIGHT
BEGIN:STANDARD
TZOFFSETFROM:-0700
TZOFFSETTO:-0800
TZNAME:PST
DTSTART:20261101T090000
END:STANDARD
BEGIN:DAYLIGHT
TZOFFSETFROM:-0800
TZOFFSETTO:-0700
TZNAME:PDT
DTSTART:20270314T100000
END:DAYLIGHT
BEGIN:STANDARD
TZOFFSETFROM:-0700
TZOFFSETTO:-0800
TZNAME:PST
DTSTART:20271107T090000
END:STANDARD
END:VTIMEZONE
BEGIN:VEVENT
DTSTART;TZID=America/Los_Angeles:20251218T080000
DTEND;TZID=America/Los_Angeles:20260131T170000
DTSTAMP:20260422T000954
CREATED:20251218T170437Z
LAST-MODIFIED:20251218T170437Z
UID:10030387-1766044800-1769878800@www.rivercal.org
SUMMARY:Youth Health Council
DESCRIPTION:Community Advisory Council is seeking new Youth Health Council members. You must be under 18 years old. \nRegularly meeting twice per month with the current cohort of students. \nCouncil is working on: \nStudent Health Kits ideas \nPlanning for School Health Summit \nParticipation in Lane County Youth Voice Network. \nFor more information\, contact marissa.lovell@lanecountyor.gov or 458-239-2684 \n 
URL:https://www.rivercal.org/event/youth-health-council/
LOCATION:OR
END:VEVENT
BEGIN:VEVENT
DTSTART;VALUE=DATE:20260102
DTEND;VALUE=DATE:20260131
DTSTAMP:20260422T000954
CREATED:20260106T004112Z
LAST-MODIFIED:20260106T004112Z
UID:10030541-1767312000-1769817599@www.rivercal.org
SUMMARY:Curt Peters Displays Original Costa Rica Photos at Library
DESCRIPTION:Curt Peters is pleased to announce his photo show at Siuslaw Public Library.  This show consists of 35 unreleased images from Curt’s journeys to Costa Rica. \nCurt has been traveling to and photographing the vibrant heart of Costa Rica’s rainforests for over 30 years.  He loves spending hours in the humidity\, waiting motionless amid sudden rains and insect swarms with some of his photographic treasures which include: fiery red-crowned woodpeckers\, soaring white-fronted parrots\, blazing summer tanagers\, cobalt land crabs\, curious white-faced capuchins\, golden-mantled howlers\, rainbow scarlet macaws\, crested plumed basilisks\, jewel-like hummingbirds\, velvet gartered trogons\, emerald great green macaws\, cascading pagoda flowers and lobster-claw heliconias\, massive-billed chestnut-mandibled toucans\, scarlet-gazed red-eyed treefrogs\, jade-tailed resplendent quetzals\, slow-dreaming brown-throated sloths and a spectacled owl.  These images capture the rainforest’s explosive colors\, intoxicating smells\, and untamed sounds-a living tapestry of wonder. \nCurt Peters is an award-winning photographer and master printer based in Florence\, Oregon. With over 50 years of experience in photography\, he has dedicated his career to capturing the beauty of landscapes\, wildlife\, and human moments while mastering the art of digital imaging and fine art printing. \nCurt’s journey began in his youth\, sparked by early experiments with cameras that quickly evolved into a lifelong passion. After brief studies at Oregon State University\, he transferred to the University of Arizona in Tucson\, honing his skills amid diverse environments. Post-college\, he pointed his lens at the landscapes of 27 countries\, from the Caribbean to Alaska\, building a vast portfolio of hundreds of thousands of images.  Upon settling down in Florence in 2006\, he founded “Digital Dunes Photography”.  Digital Dunes Photography offers a full spectrum of services: wedding\, portrait\, senior\, family\, event\, and product photography\, alongside expert photo restorations\, custom fine art printing\, and reproductions. \nWhile the commercial work at Digital Dunes Photography sustains the studio\, Curt’s true passion lies in fine art landscape and wildlife photography where he has showcased dramatic coastal lighthouses\, Thor’s Well\, the Siuslaw River Bridge\, to name a few locally  A full scope of his images can be found on his “Curtis Peters Photography” website\, curtpeters.com.  Curt says\,” I strive for perfection in every stage from ethical wild shooting\, meticulous post-processing in Adobe Lightroom Classic to preserve natural tones and details\, and obsessive calibration for prints that breath life into the scene.” \nThis show will be on display from January 2 through the end of the month in the lobby of the Siuslaw Public Library located at 1460 9th Street in Florence.
URL:https://www.rivercal.org/event/curt-peters-displays-original-costa-rica-photos-at-library/
LOCATION:Siuslaw Public Library – Florence\, 1460 9th Street\, Florence\, OR\, 97439\, United States
CATEGORIES:-- Siuslaw Public Library District,Arts & Culture
ATTACH;FMTTYPE=image/jpeg:https://www.rivercal.org/wp-content/uploads/2026/01/Curt-photo.jpg
GEO:43.974663;-124.10618
X-APPLE-STRUCTURED-LOCATION;VALUE=URI;X-ADDRESS=Siuslaw Public Library – Florence 1460 9th Street Florence OR 97439 United States;X-APPLE-RADIUS=500;X-TITLE=1460 9th Street:geo:-124.10618,43.974663
END:VEVENT
BEGIN:VEVENT
DTSTART;TZID=America/Los_Angeles:20260115T110000
DTEND;TZID=America/Los_Angeles:20260115T130000
DTSTAMP:20260422T000954
CREATED:20250827T191000Z
LAST-MODIFIED:20260326T190312Z
UID:10030525-1768474800-1768482000@www.rivercal.org
SUMMARY:Age Cafe
DESCRIPTION:An age cafe is a safe space to engage in conversation on topics including transitions and changes\, gratitude\, inter-generational communities\, health and wellness\, preparing for death\, spirituality\, and more. Sponsored by Siuslaw Public Library. Free and open to all; no registration required.
URL:https://www.rivercal.org/event/age-cafe-3/2026-01-15/
LOCATION:Siuslaw Public Library – Florence\, 1460 9th Street\, Florence\, OR\, 97439\, United States
CATEGORIES:-- Siuslaw Public Library District,Education/Classes,Government
ATTACH;FMTTYPE=image/jpeg:https://www.rivercal.org/wp-content/uploads/2025/03/LibraryLogoStandard_color-web-300x205-3.jpg
ORGANIZER;CN="Siuslaw Public Library District":MAILTO:ref@siuslawlibrary.org
GEO:43.974663;-124.10618
X-APPLE-STRUCTURED-LOCATION;VALUE=URI;X-ADDRESS=Siuslaw Public Library – Florence 1460 9th Street Florence OR 97439 United States;X-APPLE-RADIUS=500;X-TITLE=1460 9th Street:geo:-124.10618,43.974663
END:VEVENT
BEGIN:VEVENT
DTSTART;TZID=America/Los_Angeles:20260115T113000
DTEND;TZID=America/Los_Angeles:20260115T123000
DTSTAMP:20260422T000954
CREATED:20251024T013414Z
LAST-MODIFIED:20251024T013420Z
UID:10028854-1768476600-1768480200@www.rivercal.org
SUMMARY:FLorence Methodist Free Lunch Program
DESCRIPTION:Yes\, there is such a thing as a free lunch.  The Florence Methodist church has been providing a free lunch to anyone who wishes to come every Tuesday and Thursday for over 30 years.  Come enjoy a fresh-cooked meal in our dining room.  Lunch is served from 11:30 to 12:30 every Tuesday and Thursday.  We are located at 333 Kingwood St. in the Florence United Methodist Church (the yellow church).  Everyone is invited.  Come and bring a friend. \n(Note:  Lunch is served 11:30-12:30.  Don’t know why under “recurring events” it says 8:00)
URL:https://www.rivercal.org/event/florence-methodist-free-lunch-program/2026-01-15/
LOCATION:Florence United Methodist Church\, 333 Kingwood Ave\, Florence\, OR\, 97439\, United States
ATTACH;FMTTYPE=image/jpeg:https://www.rivercal.org/wp-content/uploads/2025/10/flyer-green-yes-free-lunch-1-1.jpg
GEO:43.969003;-124.109038
X-APPLE-STRUCTURED-LOCATION;VALUE=URI;X-ADDRESS=Florence United Methodist Church 333 Kingwood Ave Florence OR 97439 United States;X-APPLE-RADIUS=500;X-TITLE=333 Kingwood Ave:geo:-124.109038,43.969003
END:VEVENT
BEGIN:VEVENT
DTSTART;TZID=America/Los_Angeles:20260115T150000
DTEND;TZID=America/Los_Angeles:20260115T163000
DTSTAMP:20260422T000954
CREATED:20260105T034418Z
LAST-MODIFIED:20260105T034418Z
UID:10030538-1768489200-1768494600@www.rivercal.org
SUMMARY:Crafting Your Family Legacy: From Stories to Published Books
DESCRIPTION:Start writing your family history today. You may have years of research\, or perhaps a relative just shared a new anecdote. Whatever the case\, document it now. You can write an article\, a book\, or make an electronic recording. The important thing is to start before more memories fade. \nFirst meeting (Jan 15): come hear a presentation by local genealogist\, Cindy Webb\, who will give ideas in what to include. \nSecond meeting (Feb 19): Come share portions of your creations!
URL:https://www.rivercal.org/event/crafting-your-family-legacy-from-stories-to-published-books/
LOCATION:Bromley Room @ Siuslaw Library\, 1460 9th St.\, Florence\, OR\, 97439\, United States
ORGANIZER;CN="Siuslaw Genealogical Society":MAILTO:siuslawgenealogy@gmail.com
END:VEVENT
BEGIN:VEVENT
DTSTART;TZID=America/Los_Angeles:20260115T150000
DTEND;TZID=America/Los_Angeles:20260115T163000
DTSTAMP:20260422T000954
CREATED:20260105T035545Z
LAST-MODIFIED:20260105T035545Z
UID:10030539-1768489200-1768494600@www.rivercal.org
SUMMARY:Crafting Your Family Legacy: From Stories to Published Books
DESCRIPTION:Crafting Your Family Legacy: From Stories to Published Books \nStart writing your family history today. You may have years of research\, or perhaps a relative just shared a new anecdote. Whatever the case\, document it now. You can write an article\, a book\, or make an electronic recording. The important thing is to start before more memories fade. \nFirst meeting (Jan 15): come hear a presentation by local genealogist\, Cindy Webb\, who will give ideas in what to include. \nSecond meeting (Feb 19): Come share portions of your creations! \n  \n 
URL:https://www.rivercal.org/event/crafting-your-family-legacy-from-stories-to-published-books-2/
LOCATION:Bromley Room @ Siuslaw Library\, 1460 9th St.\, Florence\, OR\, 97439\, United States
ATTACH;FMTTYPE=image/gif:https://www.rivercal.org/wp-content/uploads/2026/01/Untitled.gif
ORGANIZER;CN="Siuslaw Genealogical Society":MAILTO:siuslawgenealogy@gmail.com
END:VEVENT
BEGIN:VEVENT
DTSTART;TZID=America/Los_Angeles:20260115T160000
DTEND;TZID=America/Los_Angeles:20260115T171500
DTSTAMP:20260422T000954
CREATED:20250630T221014Z
LAST-MODIFIED:20250630T221125Z
UID:10026371-1768492800-1768497300@www.rivercal.org
SUMMARY:Pet Grief Support Group
DESCRIPTION:Florence Pet Grief Support Group \nsponsored by the Florence Unitarian Universalist Fellowship (FUUF) Animal Ministry \nAre you… \nGrieving the death of a pet? \nAnticipating the death of your pet? \nWondering when if/when to euthanize an ailing pet? \nYou don’t have to go through this alone. \nCome receive and offer understanding and support to others who are coping \nwith the intense feelings and challenging issues related to pet grief \nThe group is facilitated by professional counselors/coaches who are animal lovers \nwith training in griefwork \n  \nWhen: First and Third Thursdays of the month\, 4:00 pm to 5:15 pm (starts July 18\, 2024) \nWhere: FUUF Center: 87738 Route 101 at Heceta Beach Rd.\, Florence\, OR \nWho: Adults 18 and over \nCost:  All are welcome free of charge.  “Love donation” requested. \nFacilitators: \nJudy Dolmatch\, MSW\, LCSW: Judy has worked as a private practice psychotherapist for over 40 years. She is a facilitator for the Florence Death Cafe\, and is certified in pet griefwork. \nDhyan Summers: Dhyan Summers is proud mum to Babu a 12 yr old rescued Shitzu.   When she’s not catering to Babu’s every whim she’s a psychotherapist working w individuals and couples.  You’ll also find her walking on the beach or trails (typically wBabu) baking\, cooking\, reading dancing and playing with friends. \nK.S. Stanley: MA\, Wellness; 20+ years working in animal shelters/rescues; Chapter Leader of the FUUF Animal Ministry\, and as such\, works to build love\, compassion\, and justice for animals and people in the Florence community. Has two adorable rescue dogs\, Windy & Maizy. \nFor more information\, contact: K.S. Stanley at fuffanimalministry@gmail.com
URL:https://www.rivercal.org/event/pet-grief-support-group-2/2026-01-15/
LOCATION:Florence Unitarian Universalist Fellowship\, 87338 U.S Hwy 101\, Florence\, OR\, 97439\, United States
END:VEVENT
BEGIN:VEVENT
DTSTART;TZID=America/Los_Angeles:20260115T173000
DTEND;TZID=America/Los_Angeles:20260115T203000
DTSTAMP:20260422T000954
CREATED:20251018T233519Z
LAST-MODIFIED:20260115T220407Z
UID:10028812-1768498200-1768509000@www.rivercal.org
SUMMARY:MSD: HS BB vs Siletz
DESCRIPTION:
URL:https://www.rivercal.org/event/msd-hs-bb-siletz/
LOCATION:OR
CATEGORIES:Education/Classes
END:VEVENT
END:VCALENDAR