BEGIN:VCALENDAR
VERSION:2.0
PRODID:-//RiverCal – Events in the Siuslaw Region - ECPv6.15.20//NONSGML v1.0//EN
CALSCALE:GREGORIAN
METHOD:PUBLISH
X-ORIGINAL-URL:https://www.rivercal.org
X-WR-CALDESC:Events for RiverCal – Events in the Siuslaw Region
REFRESH-INTERVAL;VALUE=DURATION:PT1H
X-Robots-Tag:noindex
X-PUBLISHED-TTL:PT1H
BEGIN:VTIMEZONE
TZID:America/Los_Angeles
BEGIN:DAYLIGHT
TZOFFSETFROM:-0800
TZOFFSETTO:-0700
TZNAME:PDT
DTSTART:20240310T100000
END:DAYLIGHT
BEGIN:STANDARD
TZOFFSETFROM:-0700
TZOFFSETTO:-0800
TZNAME:PST
DTSTART:20241103T090000
END:STANDARD
BEGIN:DAYLIGHT
TZOFFSETFROM:-0800
TZOFFSETTO:-0700
TZNAME:PDT
DTSTART:20250309T100000
END:DAYLIGHT
BEGIN:STANDARD
TZOFFSETFROM:-0700
TZOFFSETTO:-0800
TZNAME:PST
DTSTART:20251102T090000
END:STANDARD
BEGIN:DAYLIGHT
TZOFFSETFROM:-0800
TZOFFSETTO:-0700
TZNAME:PDT
DTSTART:20260308T100000
END:DAYLIGHT
BEGIN:STANDARD
TZOFFSETFROM:-0700
TZOFFSETTO:-0800
TZNAME:PST
DTSTART:20261101T090000
END:STANDARD
BEGIN:DAYLIGHT
TZOFFSETFROM:-0800
TZOFFSETTO:-0700
TZNAME:PDT
DTSTART:20270314T100000
END:DAYLIGHT
BEGIN:STANDARD
TZOFFSETFROM:-0700
TZOFFSETTO:-0800
TZNAME:PST
DTSTART:20271107T090000
END:STANDARD
END:VTIMEZONE
BEGIN:VEVENT
DTSTART;TZID=America/Los_Angeles:20251218T080000
DTEND;TZID=America/Los_Angeles:20260131T170000
DTSTAMP:20260422T000811
CREATED:20251218T170437Z
LAST-MODIFIED:20251218T170437Z
UID:10030387-1766044800-1769878800@www.rivercal.org
SUMMARY:Youth Health Council
DESCRIPTION:Community Advisory Council is seeking new Youth Health Council members. You must be under 18 years old. \nRegularly meeting twice per month with the current cohort of students. \nCouncil is working on: \nStudent Health Kits ideas \nPlanning for School Health Summit \nParticipation in Lane County Youth Voice Network. \nFor more information\, contact marissa.lovell@lanecountyor.gov or 458-239-2684 \n 
URL:https://www.rivercal.org/event/youth-health-council/
LOCATION:OR
END:VEVENT
BEGIN:VEVENT
DTSTART;VALUE=DATE:20260102
DTEND;VALUE=DATE:20260131
DTSTAMP:20260422T000811
CREATED:20260106T004112Z
LAST-MODIFIED:20260106T004112Z
UID:10030541-1767312000-1769817599@www.rivercal.org
SUMMARY:Curt Peters Displays Original Costa Rica Photos at Library
DESCRIPTION:Curt Peters is pleased to announce his photo show at Siuslaw Public Library.  This show consists of 35 unreleased images from Curt’s journeys to Costa Rica. \nCurt has been traveling to and photographing the vibrant heart of Costa Rica’s rainforests for over 30 years.  He loves spending hours in the humidity\, waiting motionless amid sudden rains and insect swarms with some of his photographic treasures which include: fiery red-crowned woodpeckers\, soaring white-fronted parrots\, blazing summer tanagers\, cobalt land crabs\, curious white-faced capuchins\, golden-mantled howlers\, rainbow scarlet macaws\, crested plumed basilisks\, jewel-like hummingbirds\, velvet gartered trogons\, emerald great green macaws\, cascading pagoda flowers and lobster-claw heliconias\, massive-billed chestnut-mandibled toucans\, scarlet-gazed red-eyed treefrogs\, jade-tailed resplendent quetzals\, slow-dreaming brown-throated sloths and a spectacled owl.  These images capture the rainforest’s explosive colors\, intoxicating smells\, and untamed sounds-a living tapestry of wonder. \nCurt Peters is an award-winning photographer and master printer based in Florence\, Oregon. With over 50 years of experience in photography\, he has dedicated his career to capturing the beauty of landscapes\, wildlife\, and human moments while mastering the art of digital imaging and fine art printing. \nCurt’s journey began in his youth\, sparked by early experiments with cameras that quickly evolved into a lifelong passion. After brief studies at Oregon State University\, he transferred to the University of Arizona in Tucson\, honing his skills amid diverse environments. Post-college\, he pointed his lens at the landscapes of 27 countries\, from the Caribbean to Alaska\, building a vast portfolio of hundreds of thousands of images.  Upon settling down in Florence in 2006\, he founded “Digital Dunes Photography”.  Digital Dunes Photography offers a full spectrum of services: wedding\, portrait\, senior\, family\, event\, and product photography\, alongside expert photo restorations\, custom fine art printing\, and reproductions. \nWhile the commercial work at Digital Dunes Photography sustains the studio\, Curt’s true passion lies in fine art landscape and wildlife photography where he has showcased dramatic coastal lighthouses\, Thor’s Well\, the Siuslaw River Bridge\, to name a few locally  A full scope of his images can be found on his “Curtis Peters Photography” website\, curtpeters.com.  Curt says\,” I strive for perfection in every stage from ethical wild shooting\, meticulous post-processing in Adobe Lightroom Classic to preserve natural tones and details\, and obsessive calibration for prints that breath life into the scene.” \nThis show will be on display from January 2 through the end of the month in the lobby of the Siuslaw Public Library located at 1460 9th Street in Florence.
URL:https://www.rivercal.org/event/curt-peters-displays-original-costa-rica-photos-at-library/
LOCATION:Siuslaw Public Library – Florence\, 1460 9th Street\, Florence\, OR\, 97439\, United States
CATEGORIES:-- Siuslaw Public Library District,Arts & Culture
ATTACH;FMTTYPE=image/jpeg:https://www.rivercal.org/wp-content/uploads/2026/01/Curt-photo.jpg
GEO:43.974663;-124.10618
X-APPLE-STRUCTURED-LOCATION;VALUE=URI;X-ADDRESS=Siuslaw Public Library – Florence 1460 9th Street Florence OR 97439 United States;X-APPLE-RADIUS=500;X-TITLE=1460 9th Street:geo:-124.10618,43.974663
END:VEVENT
BEGIN:VEVENT
DTSTART;TZID=America/Los_Angeles:20260116T090000
DTEND;TZID=America/Los_Angeles:20260116T130000
DTSTAMP:20260422T000811
CREATED:20251018T233519Z
LAST-MODIFIED:20260115T220407Z
UID:10028813-1768554000-1768568400@www.rivercal.org
SUMMARY:MSD: Friday School and Elementary Program
DESCRIPTION:
URL:https://www.rivercal.org/event/msd-friday-school-and-elementary-program-40/
LOCATION:see Carly or Carrie for bus info
CATEGORIES:Education/Classes
END:VEVENT
BEGIN:VEVENT
DTSTART;TZID=America/Los_Angeles:20260116T103000
DTEND;TZID=America/Los_Angeles:20260116T113000
DTSTAMP:20260422T000811
CREATED:20251203T192938Z
LAST-MODIFIED:20251203T234527Z
UID:10029839-1768559400-1768563000@www.rivercal.org
SUMMARY:Library Storytime (Florence)
DESCRIPTION:Join us for about 30 minutes of singing\, rhyming\, reading\, and play followed by a craft or project.
URL:https://www.rivercal.org/event/library-storytime-florence/2026-01-16/
LOCATION:Siuslaw Public Library – Florence\, 1460 9th Street\, Florence\, OR\, 97439\, United States
CATEGORIES:-- Siuslaw Public Library District
ATTACH;FMTTYPE=image/png:https://www.rivercal.org/wp-content/uploads/2023/10/FinalLogoTransparent.png
ORGANIZER;CN="Siuslaw Public Library District":MAILTO:ref@siuslawlibrary.org
GEO:43.974663;-124.10618
X-APPLE-STRUCTURED-LOCATION;VALUE=URI;X-ADDRESS=Siuslaw Public Library – Florence 1460 9th Street Florence OR 97439 United States;X-APPLE-RADIUS=500;X-TITLE=1460 9th Street:geo:-124.10618,43.974663
END:VEVENT
BEGIN:VEVENT
DTSTART;TZID=America/Los_Angeles:20260116T130000
DTEND;TZID=America/Los_Angeles:20260116T143000
DTSTAMP:20260422T000811
CREATED:20250206T091351Z
LAST-MODIFIED:20260310T171349Z
UID:10024771-1768568400-1768573800@www.rivercal.org
SUMMARY:Florence Art Chat
DESCRIPTION:Art Chats are a chance to connect with like minded creative people and share in lively discussion about whatever is on our minds. This group is for our Studio creative community\, but is also open to the general public.  \nBring creative work in progress to share and/or get feedback or technical help on. You can also bring your own project to work on during the group\, or a small “make and take” for the group to work on.  \nThis group will be held in our main workshop\, which includes access to our coffee/tea/water station\, high speed Wi-Fi\, big screen monitor\, Bluetooth stereo\, and any additional art or craft supplies needed.  \nNOTE: As of December 2025\, this group is now free of charge\, but donations to help us cover rent and supplies are always appreciated!
URL:https://www.rivercal.org/event/florence-art-chat/2026-01-16/
LOCATION:Serene Abundance Studio Space\, 148 Maple Street\, Suite B\, Florence\, OR\, 97439\, United States
CATEGORIES:Arts & Culture
ATTACH;FMTTYPE=image/jpeg:https://www.rivercal.org/wp-content/uploads/2025/02/Florence-Art-Chat-Perpetual-Graphic-2025.jpg
ORGANIZER;CN="Serena Appel":MAILTO:inbox@sereneabundancemagic.com
END:VEVENT
BEGIN:VEVENT
DTSTART;TZID=America/Los_Angeles:20260116T140000
DTEND;TZID=America/Los_Angeles:20260116T150000
DTSTAMP:20260422T000811
CREATED:20250326T194517Z
LAST-MODIFIED:20251124T193811Z
UID:10025165-1768572000-1768575600@www.rivercal.org
SUMMARY:LEGO Club
DESCRIPTION:Make your own LEGO creations at the library. All supplies provided. Ages 5-12.
URL:https://www.rivercal.org/event/lego-club/2026-01-16/
LOCATION:Siuslaw Public Library – Florence\, 1460 9th Street\, Florence\, OR\, 97439\, United States
CATEGORIES:-- Siuslaw Public Library District,Clubs & Organizations,Government,Recreation
ATTACH;FMTTYPE=image/jpeg:https://www.rivercal.org/wp-content/uploads/2025/03/LibraryLogoStandard_color-web-300x205-7.jpg
ORGANIZER;CN="Siuslaw Public Library District":MAILTO:ref@siuslawlibrary.org
GEO:43.974663;-124.10618
X-APPLE-STRUCTURED-LOCATION;VALUE=URI;X-ADDRESS=Siuslaw Public Library – Florence 1460 9th Street Florence OR 97439 United States;X-APPLE-RADIUS=500;X-TITLE=1460 9th Street:geo:-124.10618,43.974663
END:VEVENT
BEGIN:VEVENT
DTSTART;TZID=America/Los_Angeles:20260116T160000
DTEND;TZID=America/Los_Angeles:20260116T174500
DTSTAMP:20260422T000811
CREATED:20250428T175347Z
LAST-MODIFIED:20260326T185416Z
UID:10030529-1768579200-1768585500@www.rivercal.org
SUMMARY:Teen/Tween Game Time
DESCRIPTION:Teens and tweens! Join us for board games\, crafts\, and Nintendo Switch fun. Free and open to all!
URL:https://www.rivercal.org/event/teen-game-time-3/2026-01-16/
LOCATION:Siuslaw Public Library – Florence\, 1460 9th Street\, Florence\, OR\, 97439\, United States
CATEGORIES:Clubs & Organizations,Government,Recreation
ATTACH;FMTTYPE=image/png:https://www.rivercal.org/wp-content/uploads/2025/04/LibraryLogoStandard_color-web-300x205-5.png
ORGANIZER;CN="Siuslaw Public Library District":MAILTO:ref@siuslawlibrary.org
GEO:43.974663;-124.10618
X-APPLE-STRUCTURED-LOCATION;VALUE=URI;X-ADDRESS=Siuslaw Public Library – Florence 1460 9th Street Florence OR 97439 United States;X-APPLE-RADIUS=500;X-TITLE=1460 9th Street:geo:-124.10618,43.974663
END:VEVENT
END:VCALENDAR