BEGIN:VCALENDAR
VERSION:2.0
PRODID:-//RiverCal – Events in the Siuslaw Region - ECPv6.15.20//NONSGML v1.0//EN
CALSCALE:GREGORIAN
METHOD:PUBLISH
X-ORIGINAL-URL:https://www.rivercal.org
X-WR-CALDESC:Events for RiverCal – Events in the Siuslaw Region
REFRESH-INTERVAL;VALUE=DURATION:PT1H
X-Robots-Tag:noindex
X-PUBLISHED-TTL:PT1H
BEGIN:VTIMEZONE
TZID:America/Los_Angeles
BEGIN:DAYLIGHT
TZOFFSETFROM:-0800
TZOFFSETTO:-0700
TZNAME:PDT
DTSTART:20250309T100000
END:DAYLIGHT
BEGIN:STANDARD
TZOFFSETFROM:-0700
TZOFFSETTO:-0800
TZNAME:PST
DTSTART:20251102T090000
END:STANDARD
BEGIN:DAYLIGHT
TZOFFSETFROM:-0800
TZOFFSETTO:-0700
TZNAME:PDT
DTSTART:20260308T100000
END:DAYLIGHT
BEGIN:STANDARD
TZOFFSETFROM:-0700
TZOFFSETTO:-0800
TZNAME:PST
DTSTART:20261101T090000
END:STANDARD
BEGIN:DAYLIGHT
TZOFFSETFROM:-0800
TZOFFSETTO:-0700
TZNAME:PDT
DTSTART:20270314T100000
END:DAYLIGHT
BEGIN:STANDARD
TZOFFSETFROM:-0700
TZOFFSETTO:-0800
TZNAME:PST
DTSTART:20271107T090000
END:STANDARD
END:VTIMEZONE
BEGIN:VEVENT
DTSTART;TZID=America/Los_Angeles:20260304T103000
DTEND;TZID=America/Los_Angeles:20260304T120000
DTSTAMP:20260423T181626
CREATED:20250521T194426Z
LAST-MODIFIED:20250521T202224Z
UID:10021941-1772620200-1772625600@www.rivercal.org
SUMMARY:PPC Playgroup / Grupo de juego
DESCRIPTION:PPC Playgroup for parents/guardians and children 0-5 years’ of age. A safe and fun space to play with your child(ren)\, meet other families\, and make connections. Free! \nPPC Grupo de juego\n0-5 años\nMiércoles\, 10:30 a.m. a mediodía\n¡Encuentre una comunidad y haga conexiones con otras familias locales!\nllamar o enviar un mensaje de texto (541) 999-2427
URL:https://www.rivercal.org/event/fun-connections-playgroup-3/2026-03-04/
LOCATION:Pregnancy and Parenting Center\, 475 Laurel Street\, Florence\, OR\, 97439\, United States
ATTACH;FMTTYPE=image/png:https://www.rivercal.org/wp-content/uploads/2025/05/PPC-PlayGroup-2025.png
END:VEVENT
BEGIN:VEVENT
DTSTART;TZID=America/Los_Angeles:20260304T104500
DTEND;TZID=America/Los_Angeles:20260304T120000
DTSTAMP:20260423T181626
CREATED:20260224T000022Z
LAST-MODIFIED:20260224T225219Z
UID:10034060-1772621100-1772625600@www.rivercal.org
SUMMARY:FACC March 4th Meeting features  Saint Vince dePaul’s HOPE Community Homes manufactured housing program
DESCRIPTION:The March 4th 2026 regular meeting of the Florence Area Community Coalition features Jacon Taylor\, Development Manager with Saint Vincent dePaul’s HOPE Community Homes\, Oregon’s first non-profit factory-built home manufacturer.  He will explain their innovative contribution to solving our affordable housing crisis. \nLearn how they built Oregon’s first non-profit state-of-the-art 100\,000 square foot manufacturing facility in Eugene. And how since 2024 they have offered factory-built durable and high-quality manufactured homes for low-income Oregon communities and victims of natural disasters. Learn how their ENERGY STAR NEEM+ certification may qualify for energy-saving incentives. \nFACC’s regular monthly meetings start at 10:45 am in the Bromley Room of the Siuslaw Public Library District\, 1460 9th Street in Florence\, and adjourn by noon. Hybrid meetings offer an opportunity to participate with Zoom. After the speaker and a short business meeting\, all those attending\, whether in the room or joining by Zoom\, have an opportunity to share upcoming events\, needs\, and opportunities to learn or participate. \nFACC’s mission is to improve the quality of life in Western Lane County through partnerships\, networking\, volunteerism\, community involvement\, education\, and awareness. As an all-volunteer 501(c)(3) membership organization it has been at this work for over 25 years. \nFACC meetings are free and open to the public. Light refreshments are served. Membership dues are $50 for agencies and organizations and $25 for individuals wishing to join.
URL:https://www.rivercal.org/event/facc-march-4th-meeting-features-saint-vince-depauls-hope-manufactured-housing-program/
LOCATION:Bromley Room @ Siuslaw Library\, 1460 9th St.\, Florence\, OR\, 97439\, United States
CATEGORIES:Clubs & Organizations
ATTACH;FMTTYPE=image/jpeg:https://www.rivercal.org/wp-content/uploads/2026/02/HopeCommunityHomes.jpg
ORGANIZER;CN="Florence Area Community Coalition":MAILTO:florenceareacc@gmail.com
END:VEVENT
BEGIN:VEVENT
DTSTART;TZID=America/Los_Angeles:20260304T110000
DTEND;TZID=America/Los_Angeles:20260304T120000
DTSTAMP:20260423T181626
CREATED:20251203T193217Z
LAST-MODIFIED:20251203T193217Z
UID:10025728-1772622000-1772625600@www.rivercal.org
SUMMARY:Library Storytime (Mapleton)
DESCRIPTION:Join us for reading\, singing\, and crafts! Recommended for ages 0-5.
URL:https://www.rivercal.org/event/storytime-mapleton-2-2/2026-03-04/
LOCATION:Siuslaw Public Library – Mapleton\, 88148 Riverview Ave\, Mapleton\, OR\, 97453\, United States
CATEGORIES:-- Siuslaw Public Library District,Education/Classes,Government
ATTACH;FMTTYPE=image/png:https://www.rivercal.org/wp-content/uploads/2025/04/LibraryLogoStandard_color-web-300x205-1.png
ORGANIZER;CN="Siuslaw Public Library District":MAILTO:ref@siuslawlibrary.org
GEO:44.028368;-123.857932
X-APPLE-STRUCTURED-LOCATION;VALUE=URI;X-ADDRESS=Siuslaw Public Library – Mapleton 88148 Riverview Ave Mapleton OR 97453 United States;X-APPLE-RADIUS=500;X-TITLE=88148 Riverview Ave:geo:-123.857932,44.028368
END:VEVENT
END:VCALENDAR