BEGIN:VCALENDAR
VERSION:2.0
PRODID:-//RiverCal – Events in the Siuslaw Region - ECPv6.15.20//NONSGML v1.0//EN
CALSCALE:GREGORIAN
METHOD:PUBLISH
X-ORIGINAL-URL:https://www.rivercal.org
X-WR-CALDESC:Events for RiverCal – Events in the Siuslaw Region
REFRESH-INTERVAL;VALUE=DURATION:PT1H
X-Robots-Tag:noindex
X-PUBLISHED-TTL:PT1H
BEGIN:VTIMEZONE
TZID:America/Los_Angeles
BEGIN:DAYLIGHT
TZOFFSETFROM:-0800
TZOFFSETTO:-0700
TZNAME:PDT
DTSTART:20250309T100000
END:DAYLIGHT
BEGIN:STANDARD
TZOFFSETFROM:-0700
TZOFFSETTO:-0800
TZNAME:PST
DTSTART:20251102T090000
END:STANDARD
BEGIN:DAYLIGHT
TZOFFSETFROM:-0800
TZOFFSETTO:-0700
TZNAME:PDT
DTSTART:20260308T100000
END:DAYLIGHT
BEGIN:STANDARD
TZOFFSETFROM:-0700
TZOFFSETTO:-0800
TZNAME:PST
DTSTART:20261101T090000
END:STANDARD
BEGIN:DAYLIGHT
TZOFFSETFROM:-0800
TZOFFSETTO:-0700
TZNAME:PDT
DTSTART:20270314T100000
END:DAYLIGHT
BEGIN:STANDARD
TZOFFSETFROM:-0700
TZOFFSETTO:-0800
TZNAME:PST
DTSTART:20271107T090000
END:STANDARD
END:VTIMEZONE
BEGIN:VEVENT
DTSTART;TZID=America/Los_Angeles:20260306T090000
DTEND;TZID=America/Los_Angeles:20260307T140000
DTSTAMP:20260421T193111
CREATED:20260306T210242Z
LAST-MODIFIED:20260306T210248Z
UID:10031152-1772787600-1772892000@www.rivercal.org
SUMMARY:Women Build 2026
DESCRIPTION:Join us for an empowering\, hands-on Women Build event as we come together to build toolboxes and planter boxes! No experience necessary — just a willingness to learn\, connect\, and make a difference in our community.\nMarch 6 or March 7\n9am – 2pm\n$25 per person*\n(includes instruction\, materials for create and take\, lunch\, t-shirt and a fun filled day.)\nBuilding Skills. Growing Community. Creating Hope.\n*Space is limited\, preregistration required
URL:https://www.rivercal.org/event/women-build-2026-2/
LOCATION:OR
CATEGORIES:-- City of Florence,-- Florence Area Chamber Member Event,Education/Classes
ATTACH;FMTTYPE=image/png:https://www.rivercal.org/wp-content/uploads/2026/01/Women-Build-Facebook-1.png
ORGANIZER;CN="Florence Habitat for Humanity":MAILTO:info@florencehabitat.org
END:VEVENT
BEGIN:VEVENT
DTSTART;TZID=America/Los_Angeles:20260307T090000
DTEND;TZID=America/Los_Angeles:20260307T140000
DTSTAMP:20260421T193111
CREATED:20260126T221839Z
LAST-MODIFIED:20260306T210202Z
UID:10034174-1772874000-1772892000@www.rivercal.org
SUMMARY:Women Build 2026
DESCRIPTION:Join us for an empowering\, hands-on Women Build event as we come together to build toolboxes and planter boxes! No experience necessary — just a willingness to learn\, connect\, and make a difference in our community.\nMarch 6 or March 7\n9am – 2pm\n$25 per person*\n(includes instruction\, materials for create and take\, lunch\, t-shirt and a fun filled day.)\nBuilding Skills. Growing Community. Creating Hope.\n*Space is limited\, preregistration required
URL:https://www.rivercal.org/event/women-build-2026/2026-03-07/
LOCATION:OR
CATEGORIES:-- City of Florence,-- Florence Area Chamber Member Event,Education/Classes
ATTACH;FMTTYPE=image/png:https://www.rivercal.org/wp-content/uploads/2026/01/Women-Build-Facebook-1.png
ORGANIZER;CN="Florence Habitat for Humanity":MAILTO:info@florencehabitat.org
END:VEVENT
END:VCALENDAR