BEGIN:VCALENDAR
VERSION:2.0
PRODID:-//RiverCal – Events in the Siuslaw Region - ECPv6.15.20//NONSGML v1.0//EN
CALSCALE:GREGORIAN
METHOD:PUBLISH
X-WR-CALNAME:RiverCal – Events in the Siuslaw Region
X-ORIGINAL-URL:https://www.rivercal.org
X-WR-CALDESC:Events for RiverCal – Events in the Siuslaw Region
REFRESH-INTERVAL;VALUE=DURATION:PT1H
X-Robots-Tag:noindex
X-PUBLISHED-TTL:PT1H
BEGIN:VTIMEZONE
TZID:America/Los_Angeles
BEGIN:DAYLIGHT
TZOFFSETFROM:-0800
TZOFFSETTO:-0700
TZNAME:PDT
DTSTART:20250309T100000
END:DAYLIGHT
BEGIN:STANDARD
TZOFFSETFROM:-0700
TZOFFSETTO:-0800
TZNAME:PST
DTSTART:20251102T090000
END:STANDARD
BEGIN:DAYLIGHT
TZOFFSETFROM:-0800
TZOFFSETTO:-0700
TZNAME:PDT
DTSTART:20260308T100000
END:DAYLIGHT
BEGIN:STANDARD
TZOFFSETFROM:-0700
TZOFFSETTO:-0800
TZNAME:PST
DTSTART:20261101T090000
END:STANDARD
BEGIN:DAYLIGHT
TZOFFSETFROM:-0800
TZOFFSETTO:-0700
TZNAME:PDT
DTSTART:20270314T100000
END:DAYLIGHT
BEGIN:STANDARD
TZOFFSETFROM:-0700
TZOFFSETTO:-0800
TZNAME:PST
DTSTART:20271107T090000
END:STANDARD
END:VTIMEZONE
BEGIN:VEVENT
DTSTART;TZID=America/Los_Angeles:20260317T103000
DTEND;TZID=America/Los_Angeles:20260317T113000
DTSTAMP:20260419T194643
CREATED:20260128T201550Z
LAST-MODIFIED:20260128T201551Z
UID:10029856-1773743400-1773747000@www.rivercal.org
SUMMARY:Library Storytime (Florence)
DESCRIPTION:Join us for about 30 minutes of singing\, rhyming\, reading\, and play followed by a craft or project.
URL:https://www.rivercal.org/event/library-storytime-florence-2/2026-03-17/
LOCATION:Siuslaw Public Library – Florence\, 1460 9th Street\, Florence\, OR\, 97439\, United States
CATEGORIES:-- Siuslaw Public Library District
ATTACH;FMTTYPE=image/png:https://www.rivercal.org/wp-content/uploads/2023/10/FinalLogoTransparent.png
ORGANIZER;CN="Siuslaw Public Library District":MAILTO:ref@siuslawlibrary.org
GEO:43.974663;-124.10618
X-APPLE-STRUCTURED-LOCATION;VALUE=URI;X-ADDRESS=Siuslaw Public Library – Florence 1460 9th Street Florence OR 97439 United States;X-APPLE-RADIUS=500;X-TITLE=1460 9th Street:geo:-124.10618,43.974663
END:VEVENT
BEGIN:VEVENT
DTSTART;TZID=America/Los_Angeles:20260317T113000
DTEND;TZID=America/Los_Angeles:20260317T123000
DTSTAMP:20260419T194643
CREATED:20251024T013414Z
LAST-MODIFIED:20251024T013420Z
UID:10028871-1773747000-1773750600@www.rivercal.org
SUMMARY:FLorence Methodist Free Lunch Program
DESCRIPTION:Yes\, there is such a thing as a free lunch.  The Florence Methodist church has been providing a free lunch to anyone who wishes to come every Tuesday and Thursday for over 30 years.  Come enjoy a fresh-cooked meal in our dining room.  Lunch is served from 11:30 to 12:30 every Tuesday and Thursday.  We are located at 333 Kingwood St. in the Florence United Methodist Church (the yellow church).  Everyone is invited.  Come and bring a friend. \n(Note:  Lunch is served 11:30-12:30.  Don’t know why under “recurring events” it says 8:00)
URL:https://www.rivercal.org/event/florence-methodist-free-lunch-program/2026-03-17/
LOCATION:Florence United Methodist Church\, 333 Kingwood Ave\, Florence\, OR\, 97439\, United States
ATTACH;FMTTYPE=image/jpeg:https://www.rivercal.org/wp-content/uploads/2025/10/flyer-green-yes-free-lunch-1-1.jpg
GEO:43.969003;-124.109038
X-APPLE-STRUCTURED-LOCATION;VALUE=URI;X-ADDRESS=Florence United Methodist Church 333 Kingwood Ave Florence OR 97439 United States;X-APPLE-RADIUS=500;X-TITLE=333 Kingwood Ave:geo:-124.109038,43.969003
END:VEVENT
BEGIN:VEVENT
DTSTART;TZID=America/Los_Angeles:20260317T114500
DTEND;TZID=America/Los_Angeles:20260317T130000
DTSTAMP:20260419T194643
CREATED:20260303T221927Z
LAST-MODIFIED:20260316T234937Z
UID:10034145-1773747900-1773752400@www.rivercal.org
SUMMARY:MSD: Rotary student of the quarter luncheon
DESCRIPTION:
URL:https://www.rivercal.org/event/msd-rotary-student-of-the-quarter-luncheon/
LOCATION:Florence event center
CATEGORIES:Education/Classes
END:VEVENT
BEGIN:VEVENT
DTSTART;TZID=America/Los_Angeles:20260317T120000
DTEND;TZID=America/Los_Angeles:20260317T130000
DTSTAMP:20260419T194643
CREATED:20250319T205319Z
LAST-MODIFIED:20250527T170313Z
UID:10024964-1773748800-1773752400@www.rivercal.org
SUMMARY:Rotary Club of Florence Weekly Meeting
DESCRIPTION:Join us for our weekly Rotary meeting where we provide inspiring\, educational\, and informative programs for our members and their guests.
URL:https://www.rivercal.org/event/rotary-club-of-florence-weekly-meeting/2026-03-17/
LOCATION:Florence Events Center\, 715 Quince St\, Florence\, OR\, United States
CATEGORIES:Clubs & Organizations
ATTACH;FMTTYPE=image/jpeg:https://www.rivercal.org/wp-content/uploads/2025/03/Rotary-Club-of-Florence-Logo.jpg
GEO:43.973232;-124.101247
X-APPLE-STRUCTURED-LOCATION;VALUE=URI;X-ADDRESS=Florence Events Center 715 Quince St Florence OR United States;X-APPLE-RADIUS=500;X-TITLE=715 Quince St:geo:-124.101247,43.973232
END:VEVENT
BEGIN:VEVENT
DTSTART;TZID=America/Los_Angeles:20260317T120000
DTEND;TZID=America/Los_Angeles:20260317T130000
DTSTAMP:20260419T194643
CREATED:20250521T203335Z
LAST-MODIFIED:20250521T203522Z
UID:10020166-1773748800-1773752400@www.rivercal.org
SUMMARY:Parent/Guardian Support Lunch
DESCRIPTION:Finding support and learning parenting together. Lunch provided\, child care available. Third Tuesday of every month. 475 Laurel Street\, Florence\, OR. 97439\nFree
URL:https://www.rivercal.org/event/parent-to-parent-support-lunch-2-2/2026-03-17/
LOCATION:Pregnancy and Parenting Center\, 475 Laurel Street\, Florence\, OR\, 97439\, United States
CATEGORIES:Education/Classes
ATTACH;FMTTYPE=image/png:https://www.rivercal.org/wp-content/uploads/2025/05/PPC-lunch_2025_cropped.png
END:VEVENT
BEGIN:VEVENT
DTSTART;TZID=America/Los_Angeles:20260317T130000
DTEND;TZID=America/Los_Angeles:20260317T150000
DTSTAMP:20260419T194643
CREATED:20251231T012817Z
LAST-MODIFIED:20251231T012818Z
UID:10025395-1773752400-1773759600@www.rivercal.org
SUMMARY:Tech Help Lab
DESCRIPTION:Got questions about your phone\, tablet\, or computer? Want to learn more about email\, apps\, or searching the internet? Stop by our free tech lab for assistance. Bring your device if you have specific questions (and don’t forget your power cords and passwords). Help is first come\, first served\, as time allows. \nTechnology labs are held on the first and third Tuesday of each month at the library.
URL:https://www.rivercal.org/event/tech-help-lab-2/2026-03-17/
LOCATION:Siuslaw Public Library – Florence\, 1460 9th Street\, Florence\, OR\, 97439\, United States
CATEGORIES:-- Siuslaw Public Library District,Education/Classes,Government
ATTACH;FMTTYPE=image/png:https://www.rivercal.org/wp-content/uploads/2025/03/Technology-Open-Lab-graphic-only.png
ORGANIZER;CN="Siuslaw Public Library District":MAILTO:ref@siuslawlibrary.org
GEO:43.974663;-124.10618
X-APPLE-STRUCTURED-LOCATION;VALUE=URI;X-ADDRESS=Siuslaw Public Library – Florence 1460 9th Street Florence OR 97439 United States;X-APPLE-RADIUS=500;X-TITLE=1460 9th Street:geo:-124.10618,43.974663
END:VEVENT
BEGIN:VEVENT
DTSTART;TZID=America/Los_Angeles:20260317T160000
DTEND;TZID=America/Los_Angeles:20260317T170000
DTSTAMP:20260419T194643
CREATED:20260128T202058Z
LAST-MODIFIED:20260128T202058Z
UID:10031550-1773763200-1773766800@www.rivercal.org
SUMMARY:Pokemon Club
DESCRIPTION:Join us every week for Pokemon Battle Academy\, crafts\, and other themed activities. Recommended for ages 5-14; families welcome.
URL:https://www.rivercal.org/event/pokemon-club/2026-03-17/
LOCATION:Siuslaw Public Library – Florence\, 1460 9th Street\, Florence\, OR\, 97439\, United States
CATEGORIES:-- Siuslaw Public Library District,Clubs & Organizations,Education/Classes,Government,Recreation
ATTACH;FMTTYPE=image/png:https://www.rivercal.org/wp-content/uploads/2026/01/Pokemon-club-poster-Feb-2026-11-x-8.5-in.png
ORGANIZER;CN="Siuslaw Public Library District":MAILTO:ref@siuslawlibrary.org
GEO:43.974663;-124.10618
X-APPLE-STRUCTURED-LOCATION;VALUE=URI;X-ADDRESS=Siuslaw Public Library – Florence 1460 9th Street Florence OR 97439 United States;X-APPLE-RADIUS=500;X-TITLE=1460 9th Street:geo:-124.10618,43.974663
END:VEVENT
BEGIN:VEVENT
DTSTART;TZID=America/Los_Angeles:20260317T170000
DTEND;TZID=America/Los_Angeles:20260317T183000
DTSTAMP:20260419T194643
CREATED:20260309T224910Z
LAST-MODIFIED:20260316T234937Z
UID:10034178-1773766800-1773772200@www.rivercal.org
SUMMARY:MSD: Open Mic Night
DESCRIPTION:
URL:https://www.rivercal.org/event/msd-open-mic-night/
LOCATION:Mapleton MS Building
CATEGORIES:Education/Classes
END:VEVENT
BEGIN:VEVENT
DTSTART;TZID=America/Los_Angeles:20260317T183000
DTEND;TZID=America/Los_Angeles:20260317T203000
DTSTAMP:20260419T194643
CREATED:20251221T153418Z
LAST-MODIFIED:20260315T153406Z
UID:10030391-1773772200-1773779400@www.rivercal.org
SUMMARY:Rhody Society: Siuslaw Chapter Meeting
DESCRIPTION:6:30pm for refreshments\, 7:00pm for the meeting
URL:https://www.rivercal.org/event/rhody-society-siuslaw-chapter-meeting-38/
LOCATION:Presbyterian Church of the Siuslaw\, Florence\, OR\, United States
CATEGORIES:Clubs & Organizations
GEO:44.064723;-123.996747
END:VEVENT
END:VCALENDAR