BEGIN:VCALENDAR
VERSION:2.0
PRODID:-//RiverCal – Events in the Siuslaw Region - ECPv6.15.20//NONSGML v1.0//EN
CALSCALE:GREGORIAN
METHOD:PUBLISH
X-ORIGINAL-URL:https://www.rivercal.org
X-WR-CALDESC:Events for RiverCal – Events in the Siuslaw Region
REFRESH-INTERVAL;VALUE=DURATION:PT1H
X-Robots-Tag:noindex
X-PUBLISHED-TTL:PT1H
BEGIN:VTIMEZONE
TZID:America/Los_Angeles
BEGIN:DAYLIGHT
TZOFFSETFROM:-0800
TZOFFSETTO:-0700
TZNAME:PDT
DTSTART:20250309T100000
END:DAYLIGHT
BEGIN:STANDARD
TZOFFSETFROM:-0700
TZOFFSETTO:-0800
TZNAME:PST
DTSTART:20251102T090000
END:STANDARD
BEGIN:DAYLIGHT
TZOFFSETFROM:-0800
TZOFFSETTO:-0700
TZNAME:PDT
DTSTART:20260308T100000
END:DAYLIGHT
BEGIN:STANDARD
TZOFFSETFROM:-0700
TZOFFSETTO:-0800
TZNAME:PST
DTSTART:20261101T090000
END:STANDARD
BEGIN:DAYLIGHT
TZOFFSETFROM:-0800
TZOFFSETTO:-0700
TZNAME:PDT
DTSTART:20270314T100000
END:DAYLIGHT
BEGIN:STANDARD
TZOFFSETFROM:-0700
TZOFFSETTO:-0800
TZNAME:PST
DTSTART:20271107T090000
END:STANDARD
END:VTIMEZONE
BEGIN:VEVENT
DTSTART;TZID=America/Los_Angeles:20260320T103000
DTEND;TZID=America/Los_Angeles:20260320T113000
DTSTAMP:20260419T194336
CREATED:20260128T201550Z
LAST-MODIFIED:20260128T201551Z
UID:10029857-1774002600-1774006200@www.rivercal.org
SUMMARY:Library Storytime (Florence)
DESCRIPTION:Join us for about 30 minutes of singing\, rhyming\, reading\, and play followed by a craft or project.
URL:https://www.rivercal.org/event/library-storytime-florence-2/2026-03-20/
LOCATION:Siuslaw Public Library – Florence\, 1460 9th Street\, Florence\, OR\, 97439\, United States
CATEGORIES:-- Siuslaw Public Library District
ATTACH;FMTTYPE=image/png:https://www.rivercal.org/wp-content/uploads/2023/10/FinalLogoTransparent.png
ORGANIZER;CN="Siuslaw Public Library District":MAILTO:ref@siuslawlibrary.org
GEO:43.974663;-124.10618
X-APPLE-STRUCTURED-LOCATION;VALUE=URI;X-ADDRESS=Siuslaw Public Library – Florence 1460 9th Street Florence OR 97439 United States;X-APPLE-RADIUS=500;X-TITLE=1460 9th Street:geo:-124.10618,43.974663
END:VEVENT
BEGIN:VEVENT
DTSTART;TZID=America/Los_Angeles:20260320T110000
DTEND;TZID=America/Los_Angeles:20260320T140000
DTSTAMP:20260419T194336
CREATED:20251002T185533Z
LAST-MODIFIED:20251231T225010Z
UID:10028765-1774004400-1774015200@www.rivercal.org
SUMMARY:Siuslaw High School Student Career Fair
DESCRIPTION:Siuslaw High School Student Career Fair ~ Florence\, OR\nFriday\, March 20\, 2026 from 11am – 2pm\n\nOnce again\, this will be a career fair for our 9th-12th grade students only\, and an opportunity for businesses\, organizations and community partners to represent/share job opportunities & career insights with local high school students.\n\n\n\nAre you in need of staffing for the upcoming busy tourist season\, or interested in recruiting volunteers and future hires for your organization/business? THIS would be a great opportunity to forge those relationships with a captive audience. FREE TO PARTICIPATE.\n\n\n\n\n\nIf you are interested in more information or to secure your spot\, contact Pam at 541-997-5470 or phickson@siuslaw.k12.or.us\n\n\n\nWe look forward to planning and seeing you at this event.\n\nPam Hickson\, Human Resources Specialist ~ Siuslaw School District 97J\n\nDirect: 541-997-5470 \nphickson@siuslaw.k12.or.us
URL:https://www.rivercal.org/event/siuslaw-high-school-student-career-fair/
LOCATION:OR
CATEGORIES:-- Siuslaw High School Events Calendar,Business,Clubs & Organizations,Government
ATTACH;FMTTYPE=image/png:https://www.rivercal.org/wp-content/uploads/2025/10/Classic-Viking-Logo-Right.png
END:VEVENT
BEGIN:VEVENT
DTSTART;TZID=America/Los_Angeles:20260320T130000
DTEND;TZID=America/Los_Angeles:20260320T143000
DTSTAMP:20260419T194336
CREATED:20250206T091351Z
LAST-MODIFIED:20260310T171349Z
UID:10024773-1774011600-1774017000@www.rivercal.org
SUMMARY:Florence Art Chat
DESCRIPTION:Art Chats are a chance to connect with like minded creative people and share in lively discussion about whatever is on our minds. This group is for our Studio creative community\, but is also open to the general public.  \nBring creative work in progress to share and/or get feedback or technical help on. You can also bring your own project to work on during the group\, or a small “make and take” for the group to work on.  \nThis group will be held in our main workshop\, which includes access to our coffee/tea/water station\, high speed Wi-Fi\, big screen monitor\, Bluetooth stereo\, and any additional art or craft supplies needed.  \nNOTE: As of December 2025\, this group is now free of charge\, but donations to help us cover rent and supplies are always appreciated!
URL:https://www.rivercal.org/event/florence-art-chat/2026-03-20/
LOCATION:Serene Abundance Studio Space\, 148 Maple Street\, Suite B\, Florence\, OR\, 97439\, United States
CATEGORIES:Arts & Culture
ATTACH;FMTTYPE=image/jpeg:https://www.rivercal.org/wp-content/uploads/2025/02/Florence-Art-Chat-Perpetual-Graphic-2025.jpg
ORGANIZER;CN="Serena Appel":MAILTO:inbox@sereneabundancemagic.com
END:VEVENT
BEGIN:VEVENT
DTSTART;TZID=America/Los_Angeles:20260320T140000
DTEND;TZID=America/Los_Angeles:20260320T150000
DTSTAMP:20260419T194336
CREATED:20260128T201627Z
LAST-MODIFIED:20260128T201628Z
UID:10025174-1774015200-1774018800@www.rivercal.org
SUMMARY:LEGO Club
DESCRIPTION:Make your own LEGO creations at the library. All supplies provided. Ages 5-12.
URL:https://www.rivercal.org/event/lego-club-2/2026-03-20/
LOCATION:Siuslaw Public Library – Florence\, 1460 9th Street\, Florence\, OR\, 97439\, United States
CATEGORIES:-- Siuslaw Public Library District,Clubs & Organizations,Government,Recreation
ATTACH;FMTTYPE=image/jpeg:https://www.rivercal.org/wp-content/uploads/2025/03/LibraryLogoStandard_color-web-300x205-7.jpg
ORGANIZER;CN="Siuslaw Public Library District":MAILTO:ref@siuslawlibrary.org
GEO:43.974663;-124.10618
X-APPLE-STRUCTURED-LOCATION;VALUE=URI;X-ADDRESS=Siuslaw Public Library – Florence 1460 9th Street Florence OR 97439 United States;X-APPLE-RADIUS=500;X-TITLE=1460 9th Street:geo:-124.10618,43.974663
END:VEVENT
BEGIN:VEVENT
DTSTART;TZID=America/Los_Angeles:20260320T150000
DTEND;TZID=America/Los_Angeles:20260320T170000
DTSTAMP:20260419T194336
CREATED:20260316T051816Z
LAST-MODIFIED:20260316T051816Z
UID:10034192-1774018800-1774026000@www.rivercal.org
SUMMARY:"Thundering Daffodils" Spring Equinox Poetry Open MIC
DESCRIPTION:Celebrate spring vibes with our quarterly open mic —come share your words live! \nJoin us in person for the Thundering Daffodils Spring Equinox Poetry Open Mic\, featuring host “Panhead Rod” Hatter\, Motorcycle Poet of Florence. Celebrate the change of seasons with awesome local writers and open mic slots for you to share your own work. Bring your vibes\, your verses\, and your friends for an afternoon full of creativity and community. Don’t miss out on this spring equinox poetry bash!
URL:https://www.rivercal.org/event/thundering-daffodils-spring-equinox-poetry-open-mic/
LOCATION:Serene Abundance Studio Space\, 148 Maple Street\, Suite B\, Florence\, OR\, 97439\, United States
CATEGORIES:Arts & Culture
ATTACH;FMTTYPE=image/jpeg:https://www.rivercal.org/wp-content/uploads/2026/03/THUNDERING-DAFFODILS-Spring-Equinox-Poetry-Open-MIC.jpg
ORGANIZER;CN="Serena Appel":MAILTO:inbox@sereneabundancemagic.com
END:VEVENT
END:VCALENDAR