BEGIN:VCALENDAR
VERSION:2.0
PRODID:-//RiverCal – Events in the Siuslaw Region - ECPv6.15.20//NONSGML v1.0//EN
CALSCALE:GREGORIAN
METHOD:PUBLISH
X-WR-CALNAME:RiverCal – Events in the Siuslaw Region
X-ORIGINAL-URL:https://www.rivercal.org
X-WR-CALDESC:Events for RiverCal – Events in the Siuslaw Region
REFRESH-INTERVAL;VALUE=DURATION:PT1H
X-Robots-Tag:noindex
X-PUBLISHED-TTL:PT1H
BEGIN:VTIMEZONE
TZID:America/Los_Angeles
BEGIN:DAYLIGHT
TZOFFSETFROM:-0800
TZOFFSETTO:-0700
TZNAME:PDT
DTSTART:20250309T100000
END:DAYLIGHT
BEGIN:STANDARD
TZOFFSETFROM:-0700
TZOFFSETTO:-0800
TZNAME:PST
DTSTART:20251102T090000
END:STANDARD
BEGIN:DAYLIGHT
TZOFFSETFROM:-0800
TZOFFSETTO:-0700
TZNAME:PDT
DTSTART:20260308T100000
END:DAYLIGHT
BEGIN:STANDARD
TZOFFSETFROM:-0700
TZOFFSETTO:-0800
TZNAME:PST
DTSTART:20261101T090000
END:STANDARD
BEGIN:DAYLIGHT
TZOFFSETFROM:-0800
TZOFFSETTO:-0700
TZNAME:PDT
DTSTART:20270314T100000
END:DAYLIGHT
BEGIN:STANDARD
TZOFFSETFROM:-0700
TZOFFSETTO:-0800
TZNAME:PST
DTSTART:20271107T090000
END:STANDARD
END:VTIMEZONE
BEGIN:VEVENT
DTSTART;TZID=America/Los_Angeles:20260401T080000
DTEND;TZID=America/Los_Angeles:20260504T170000
DTSTAMP:20260424T013242
CREATED:20260414T231002Z
LAST-MODIFIED:20260414T231449Z
UID:10034714-1775030400-1777914000@www.rivercal.org
SUMMARY:2026 Fresh Impressions Youth Art Exhibition
DESCRIPTION:  \nYou’re Invited! \nTake a Fresh Look at Youth Art!  \nGala Reception\, April 30th\, 2026: An Artists Reception and Awards Ceremony is planned for April 23rd from 5:00 to 7:00 PM\, with awards announced at 6:00 PM. This all-ages event is free and open to the public\, and visitors will have plenty of time to view the art\, enjoy refreshments\, chat with the artists\, and perhaps purchase one of their works.  \nProceeds from all art sales go directly to the Youth Artists.  \nInfo about the show: \nThe Gallery Committee of Florence Arts\, Culture & Entertainment (FACE)\, is thrilled to announce the 2026 Fresh Impressions Youth Art Exhibition is now open for viewing!  \nThis annual exhibition is a Florence favorite\, showcasing the incredible artistic skills of students at Siuslaw Middle and High Schools as well as area homeschool students.  \nShow Dates: April 1st to May 25th\, 2026. Make it a point to visit the FEC during business hours (8:30 AM – 5:00 PM\, weekdays) to view this exciting show with over 100 works on display. Galleries One and Five open to the public and admittance is free. Due to private events held at the FEC\, some locations may be temporarily closed to the public. Apologies for any inconvenience. \nFresh Impressions is a wonderful opportunity to embrace\, enrich\, and foster the talents of young artists in the Siuslaw Region. In addition to showcasing their artwork\, both the show and reception encourage them to excel at their studies\, learn what it takes to prepare artwork for a public gallery show\, and discover that — yes — our community really does care about the arts.  \nShow production is supported by art teachers Lauren Suveges (Siuslaw High School) and Christina Ory (Siuslaw Middle School) who have been instrumental in helping students provide art for this exhibit. Funding and other support for this exhibition has been provided by Kiwanis Club of Florence; Florence Arts\, Culture & Entertainment (FACE); Florence Events Center Gallery Committee (Jo Beaudreau\, John Leasure\, Rachel Pearson); Florence Events Center Staff (Tim Mendolia\, Matt Miller\, Kritzia Scaparo); BeauxArts Fine Art Materials\, and the Committee of Random Acts Kindness. \nPlease join us as we celebrate the achievements of these talented young artists! Contact the Florence Events Center\, 715 Quince Street\, 541-997-1994 or Jo Beaudreau at BeauxArts Fine Art Materials\, 541-991-8213\, for show questions.  \nThe Florence Arts\, Culture & Entertainment organization is an independent 501c3 non-profit in support of the Florence Events Center and all who use it. For more information or to volunteer\, please leave a message at 541-991-8811 or go to FlorenceArts.org. \n  \nMedia Folder for Show HERE: https://drive.google.com/drive/folders/1SCLpUXmgQR5Qk5f_-KDrveXVuqpcphfF?usp=drive_link \n 
URL:https://www.rivercal.org/event/2026-fresh-impressions-youth-art-exhibition/
LOCATION:Florence Events Center\, 715 Quince St\, Florence\, OR\, United States
CATEGORIES:-- Florence Events Center,-- Siuslaw School District,Arts & Culture,Education/Classes
ATTACH;FMTTYPE=image/png:https://www.rivercal.org/wp-content/uploads/2026/04/FEC-Poster-8.5-x-11-in.png
GEO:43.973232;-124.101247
X-APPLE-STRUCTURED-LOCATION;VALUE=URI;X-ADDRESS=Florence Events Center 715 Quince St Florence OR United States;X-APPLE-RADIUS=500;X-TITLE=715 Quince St:geo:-124.101247,43.973232
END:VEVENT
BEGIN:VEVENT
DTSTART;TZID=America/Los_Angeles:20260424T103000
DTEND;TZID=America/Los_Angeles:20260424T113000
DTSTAMP:20260424T013242
CREATED:20260128T201550Z
LAST-MODIFIED:20260128T201551Z
UID:10029867-1777026600-1777030200@www.rivercal.org
SUMMARY:Library Storytime (Florence)
DESCRIPTION:Join us for about 30 minutes of singing\, rhyming\, reading\, and play followed by a craft or project.
URL:https://www.rivercal.org/event/library-storytime-florence-2/2026-04-24/
LOCATION:Siuslaw Public Library – Florence\, 1460 9th Street\, Florence\, OR\, 97439\, United States
CATEGORIES:-- Siuslaw Public Library District
ATTACH;FMTTYPE=image/png:https://www.rivercal.org/wp-content/uploads/2023/10/FinalLogoTransparent.png
ORGANIZER;CN="Siuslaw Public Library District":MAILTO:ref@siuslawlibrary.org
GEO:43.974663;-124.10618
X-APPLE-STRUCTURED-LOCATION;VALUE=URI;X-ADDRESS=Siuslaw Public Library – Florence 1460 9th Street Florence OR 97439 United States;X-APPLE-RADIUS=500;X-TITLE=1460 9th Street:geo:-124.10618,43.974663
END:VEVENT
BEGIN:VEVENT
DTSTART;TZID=America/Los_Angeles:20260424T140000
DTEND;TZID=America/Los_Angeles:20260424T150000
DTSTAMP:20260424T013242
CREATED:20260128T201627Z
LAST-MODIFIED:20260128T201628Z
UID:10025179-1777039200-1777042800@www.rivercal.org
SUMMARY:LEGO Club
DESCRIPTION:Make your own LEGO creations at the library. All supplies provided. Ages 5-12.
URL:https://www.rivercal.org/event/lego-club-2/2026-04-24/
LOCATION:Siuslaw Public Library – Florence\, 1460 9th Street\, Florence\, OR\, 97439\, United States
CATEGORIES:-- Siuslaw Public Library District,Clubs & Organizations,Government,Recreation
ATTACH;FMTTYPE=image/jpeg:https://www.rivercal.org/wp-content/uploads/2025/03/LibraryLogoStandard_color-web-300x205-7.jpg
ORGANIZER;CN="Siuslaw Public Library District":MAILTO:ref@siuslawlibrary.org
GEO:43.974663;-124.10618
X-APPLE-STRUCTURED-LOCATION;VALUE=URI;X-ADDRESS=Siuslaw Public Library – Florence 1460 9th Street Florence OR 97439 United States;X-APPLE-RADIUS=500;X-TITLE=1460 9th Street:geo:-124.10618,43.974663
END:VEVENT
BEGIN:VEVENT
DTSTART;TZID=America/Los_Angeles:20260424T180000
DTEND;TZID=America/Los_Angeles:20260424T200000
DTSTAMP:20260424T013242
CREATED:20260403T215819Z
LAST-MODIFIED:20260403T215819Z
UID:10034624-1777053600-1777060800@www.rivercal.org
SUMMARY:Mandala Paint & Sip with 808 Koastal Krafts
DESCRIPTION:Have fun and unwind at this dot painting class for beginners\, hosted by one of our popular Studio artists. \nHave fun\, unwind and learn Acrylic dot painting skills in this after hours class\, presented by Florence artist\, 808 Koastal Krafts. During the evening\, you’ll get to play with paint textures and application techniques\, apply stencils\, and get all the info you’ll need to continue your own dotting practice at home. \nParticipants can enjoy a variety of local and regional wine\, beer and cider\, light refreshments. All tools and materials\, and personalized instruction are included. You will get to take home one or more dot mandala creations to keep or give as gifts. \nNOTE: Beginner dotting class is a prerequisite for more advanced skill classes; please inquire with instructor for more info. \nABOUT THE ARTIST: 808 Koastal Krafts is a beach girl at heart\, inspired by the ocean’s beauty. With 20 years on Maui and now nestled in Florence\, Oregon\, she creates enchanting ocean-inspired crafts using shells and treasures collected over the years.
URL:https://www.rivercal.org/event/mandala-paint-sip-with-808-koastal-krafts-4/
LOCATION:Serene Abundance Studio Space\, 148 Maple Street\, Suite B\, Florence\, OR\, 97439\, United States
CATEGORIES:Arts & Culture,Education/Classes,Recreation
ATTACH;FMTTYPE=image/gif:https://www.rivercal.org/wp-content/uploads/2026/04/Mandala-Dot-Sip-2.gif
ORGANIZER;CN="Serena Appel":MAILTO:inbox@sereneabundancemagic.com
END:VEVENT
BEGIN:VEVENT
DTSTART;TZID=America/Los_Angeles:20260424T190000
DTEND;TZID=America/Los_Angeles:20260424T210000
DTSTAMP:20260424T013242
CREATED:20260219T060722Z
LAST-MODIFIED:20260413T092304Z
UID:10034701-1777057200-1777064400@www.rivercal.org
SUMMARY:C.R.O.W. presents Seussical
DESCRIPTION:Seussical is a fantastical\, magical\, musical extravaganza! \nC.R.O.W. will present 6 Performances at the Florence Events Center! \nFriday\, April 17th at 7 pm\nSaturday\, April 18th at 7 pm\nSunday\, April 19th at 2 pm\nFriday\, April 24th at 7 pm\nSaturday\, April 25th at 7 pm\nSunday\, April 26th at 2 pm \nTickets are on sale now through the Florence Event Center Box Office. 541-997-1994 or www.eventcenter.org. \nABOUT THE SHOW: \nTony winners\, Lynn Ahrens and Stephen Flaherty (Lucky Stiff\, My Favorite Year\, Once on This Island\, Ragtime)\, have lovingly brought to life all of our favorite Dr. Seuss characters\, including Horton the Elephant\, The Cat in the Hat\, Gertrude McFuzz\, lazy Mayzie and a child with a big imagination – Jojo. The colorful characters transport us from the Jungle of Nool to the Circus McGurkus to the invisible world of the Whos. \nThe Cat in the Hat tells the story of Horton\, an elephant who discovers a speck of dust that contains the Whos\, including Jojo\, a Who child sent off to military school for thinking too many “thinks.” Horton faces a double challenge: not only must he protect the Whos from a world of naysayers and dangers\, but he must guard an abandoned egg\, left in his care by the irresponsible Mayzie La Bird. Although Horton faces ridicule\, danger\, kidnapping and a trial\, the intrepid Gertrude McFuzz never loses faith in him. \nUltimately\, the powers of friendship\, loyalty\, family and community are challenged and emerge triumphant. The central theme of the show is about following your heart\, and always being true to your convictions. \nFor more information\, visit www.crowkids.com/seussical
URL:https://www.rivercal.org/event/c-r-o-w-presents-seussical/2026-04-24/
LOCATION:715 Quince St. Florence\, Florence\, OR\, United States
ATTACH;FMTTYPE=image/png:https://www.rivercal.org/wp-content/uploads/2026/02/IMG_2611.png
ORGANIZER;CN="C.R.O.W. Children's Repertory of Oregon Workshops":MAILTO:crowtheatrekids@yahoo.com
GEO:43.893453;-124.110117
END:VEVENT
BEGIN:VEVENT
DTSTART;TZID=America/Los_Angeles:20260424T190000
DTEND;TZID=America/Los_Angeles:20260424T210000
DTSTAMP:20260424T013242
CREATED:20260331T213800Z
LAST-MODIFIED:20260331T213800Z
UID:10034353-1777057200-1777064400@www.rivercal.org
SUMMARY:Spring Concert: Oregon Coast Chamber Orchestra
DESCRIPTION:Join the Oregon Coast Chamber Orchestra for our spring concert series. We’ve been hard at work rehearsing this fun program. We will be performing Handel’s Water Music\, Symphony No 104 “London” by Haydn\, and Dvorak’s Slavonic Dances. Directed by Ernie Hills. Concerts are free and open to all. \nFridays\, April 24 & May 1\, 7 PM at Presbyterian Community Church of Florence\nSunday\, April 26\, 3 PM at Yachats Presbyterian Church \nSee you there!
URL:https://www.rivercal.org/event/spring-concert-oregon-coast-chamber-orchestra/2026-04-24/
LOCATION:Presbyterian Community Church (Presbyterian Church of the Siuslaw)\, 3996 Highway 101 N\, Florence\, OR\, 97439\, United States
CATEGORIES:Arts & Culture
ATTACH;FMTTYPE=image/png:https://www.rivercal.org/wp-content/uploads/2026/03/OCCO-spring-concert-2026-social-media.png
ORGANIZER;CN="Oregon Coast Chamber Orchestra":MAILTO:occorchestraflorence@gmail.com
GEO:44.0011408;-124.0999826
X-APPLE-STRUCTURED-LOCATION;VALUE=URI;X-ADDRESS=Presbyterian Community Church (Presbyterian Church of the Siuslaw) 3996 Highway 101 N Florence OR 97439 United States;X-APPLE-RADIUS=500;X-TITLE=3996 Highway 101 N:geo:-124.0999826,44.0011408
END:VEVENT
END:VCALENDAR