BEGIN:VCALENDAR
VERSION:2.0
PRODID:-//RiverCal – Events in the Siuslaw Region - ECPv6.15.20//NONSGML v1.0//EN
CALSCALE:GREGORIAN
METHOD:PUBLISH
X-ORIGINAL-URL:https://www.rivercal.org
X-WR-CALDESC:Events for RiverCal – Events in the Siuslaw Region
REFRESH-INTERVAL;VALUE=DURATION:PT1H
X-Robots-Tag:noindex
X-PUBLISHED-TTL:PT1H
BEGIN:VTIMEZONE
TZID:America/Los_Angeles
BEGIN:DAYLIGHT
TZOFFSETFROM:-0800
TZOFFSETTO:-0700
TZNAME:PDT
DTSTART:20250309T100000
END:DAYLIGHT
BEGIN:STANDARD
TZOFFSETFROM:-0700
TZOFFSETTO:-0800
TZNAME:PST
DTSTART:20251102T090000
END:STANDARD
BEGIN:DAYLIGHT
TZOFFSETFROM:-0800
TZOFFSETTO:-0700
TZNAME:PDT
DTSTART:20260308T100000
END:DAYLIGHT
BEGIN:STANDARD
TZOFFSETFROM:-0700
TZOFFSETTO:-0800
TZNAME:PST
DTSTART:20261101T090000
END:STANDARD
BEGIN:DAYLIGHT
TZOFFSETFROM:-0800
TZOFFSETTO:-0700
TZNAME:PDT
DTSTART:20270314T100000
END:DAYLIGHT
BEGIN:STANDARD
TZOFFSETFROM:-0700
TZOFFSETTO:-0800
TZNAME:PST
DTSTART:20271107T090000
END:STANDARD
END:VTIMEZONE
BEGIN:VEVENT
DTSTART;TZID=America/Los_Angeles:20260803T130000
DTEND;TZID=America/Los_Angeles:20260803T133000
DTSTAMP:20260421T174443
CREATED:20250331T195339Z
LAST-MODIFIED:20250409T024235Z
UID:10025463-1785762000-1785763800@www.rivercal.org
SUMMARY:WLECN Monthly Neighborhood Emergency Radio Check-in
DESCRIPTION:West Lane Emergency Communications Network is a local neighborhood radio network that conducts a monthly radio check-in on the first Monday of each month at 1:00 pm PST. During an emergency where our normal communications services are compromised or eliminated\, this radio network would enable neighbors to communicate with each other\, other neighborhoods\, and the Emergency Operations Center (EOC) wherever it may be located. The radio check-in is conducted on GMRS (General Mobile Radio Service) channel 22\, utilising our repeater on Herman Peak north of Florence. While you can listen in on any GMRS radio on channel 22\, you must have a radio that can accept programming of send/receive offsets and tones (CH 22R (462.725MHz +5MHz offset  186.2Hz Tone).  Please contact Jay Guettler @ westlaneecn@gmail.com for more information or just join us on the radio at the listed time and date.
URL:https://www.rivercal.org/event/wlecn-monthly-neighborhood-emergency-radio-check-in/2026-08-03/
LOCATION:OR
END:VEVENT
BEGIN:VEVENT
DTSTART;TZID=America/Los_Angeles:20260803T160000
DTEND;TZID=America/Los_Angeles:20260803T170000
DTSTAMP:20260421T174443
CREATED:20260106T221912Z
LAST-MODIFIED:20260106T221912Z
UID:10030570-1785772800-1785776400@www.rivercal.org
SUMMARY:REFIT Low
DESCRIPTION:Get your body moving with a low-impact\, high-energy dance workout. Our class is filled with great music\, tons of laughs and a whole lot of grace. We’re about progress\, not perfection!\nNot a dancer? No worries. Our moves are simple and easy to catch on to. And if you get lost just groove to the music!\nIf you have kids\, bring them! We have two designated play areas (toddler and big kid) just off of the workout space with lots of toys.\nBring a water bottle and your sense of humor!
URL:https://www.rivercal.org/event/refit-low/2026-08-03/
LOCATION:Anchor of Hope Church\, 1318 Rhododendron Drive\, Florence\, OR\, 97439\, United States
CATEGORIES:Education/Classes
ATTACH;FMTTYPE=image/png:https://www.rivercal.org/wp-content/uploads/2026/01/Refit-RiverCal-1.png
GEO:43.9707637;-124.1071156
X-APPLE-STRUCTURED-LOCATION;VALUE=URI;X-ADDRESS=Anchor of Hope Church 1318 Rhododendron Drive Florence OR 97439 United States;X-APPLE-RADIUS=500;X-TITLE=1318 Rhododendron Drive:geo:-124.1071156,43.9707637
END:VEVENT
BEGIN:VEVENT
DTSTART;TZID=America/Los_Angeles:20260803T173000
DTEND;TZID=America/Los_Angeles:20260803T183000
DTSTAMP:20260421T174443
CREATED:20260106T222337Z
LAST-MODIFIED:20260106T222337Z
UID:10030830-1785778200-1785781800@www.rivercal.org
SUMMARY:REFIT High
DESCRIPTION:Get your sweat on with this high-impact\, high-energy cardio dance class. We love to push ourselves hard and watch our strength grow. Our class is filled with great music\, tons of laughs and a whole lot of grace. We’re about progress\, not perfection!\nNot a dancer? No worries. Our moves are simple and easy to catch on to. And if you get lost just groove to the music!\nIf you have kids\, bring them! We have two designated play areas (toddler and big kid) just off of the workout space with lots of toys.\nBring a water bottle and your sense of humor!
URL:https://www.rivercal.org/event/refit-high/2026-08-03/
LOCATION:Anchor of Hope Church\, 1318 Rhododendron Drive\, Florence\, OR\, 97439\, United States
CATEGORIES:Education/Classes
ATTACH;FMTTYPE=image/png:https://www.rivercal.org/wp-content/uploads/2026/01/Refit-RiverCal-1-1.png
GEO:43.9707637;-124.1071156
X-APPLE-STRUCTURED-LOCATION;VALUE=URI;X-ADDRESS=Anchor of Hope Church 1318 Rhododendron Drive Florence OR 97439 United States;X-APPLE-RADIUS=500;X-TITLE=1318 Rhododendron Drive:geo:-124.1071156,43.9707637
END:VEVENT
END:VCALENDAR