BEGIN:VCALENDAR
VERSION:2.0
PRODID:-//RiverCal – Events in the Siuslaw Region - ECPv6.15.20//NONSGML v1.0//EN
CALSCALE:GREGORIAN
METHOD:PUBLISH
X-WR-CALNAME:RiverCal – Events in the Siuslaw Region
X-ORIGINAL-URL:https://www.rivercal.org
X-WR-CALDESC:Events for RiverCal – Events in the Siuslaw Region
REFRESH-INTERVAL;VALUE=DURATION:PT1H
X-Robots-Tag:noindex
X-PUBLISHED-TTL:PT1H
BEGIN:VTIMEZONE
TZID:America/Los_Angeles
BEGIN:DAYLIGHT
TZOFFSETFROM:-0800
TZOFFSETTO:-0700
TZNAME:PDT
DTSTART:20220313T100000
END:DAYLIGHT
BEGIN:STANDARD
TZOFFSETFROM:-0700
TZOFFSETTO:-0800
TZNAME:PST
DTSTART:20221106T090000
END:STANDARD
BEGIN:DAYLIGHT
TZOFFSETFROM:-0800
TZOFFSETTO:-0700
TZNAME:PDT
DTSTART:20230312T100000
END:DAYLIGHT
BEGIN:STANDARD
TZOFFSETFROM:-0700
TZOFFSETTO:-0800
TZNAME:PST
DTSTART:20231105T090000
END:STANDARD
BEGIN:DAYLIGHT
TZOFFSETFROM:-0800
TZOFFSETTO:-0700
TZNAME:PDT
DTSTART:20240310T100000
END:DAYLIGHT
BEGIN:STANDARD
TZOFFSETFROM:-0700
TZOFFSETTO:-0800
TZNAME:PST
DTSTART:20241103T090000
END:STANDARD
END:VTIMEZONE
BEGIN:VEVENT
DTSTART;TZID=America/Los_Angeles:20230427T180000
DTEND;TZID=America/Los_Angeles:20230427T193000
DTSTAMP:20260422T033058
CREATED:20230401T005137Z
LAST-MODIFIED:20230523T183807Z
UID:10015454-1682618400-1682623800@www.rivercal.org
SUMMARY:Chamber:  Inspiring Thursday with RAIN
DESCRIPTION:Are you looking for ways to network and grow your business? \n“RAIN (Regional Accelerator & Innovation Network) is a global nonprofit. RAIN Catalysts exists to reduce barriers to entrepreneurship. We have many free resources including two free networking opportunities each month for Florence Entrepreneurs!\nThe fourth Thursday Jade Rehder the Entrepreneur in Community conducts Inspiring Thursday 6-8pm at the Empowered Living Wellness Center 138 Maple St next to the Siuslaw News.\nYou will have the opportunity to introduce your business and learn about resources available next to grow your business including grants and other funding opportunities. \nFurther information by contacting Jade Rehder Entrepreneur in Community 808-640-5673\nYou can also join our Facebook group Florence Oregon RAIN
URL:https://www.rivercal.org/event/chamber-inspiring-thursday-with-rain-2/
LOCATION:Empowered Living Wellness Center\, 138 Maple St\, Florence\, OR\, United States
CATEGORIES:-- Florence Area Chamber Member Event,Business
ATTACH;FMTTYPE=image/png:https://www.rivercal.org/wp-content/uploads/2023/03/Inspiring-Thursday-FDiI6f.tmp_.png
ORGANIZER;CN="RAIN%2C Florence":MAILTO:jade@oregonrain.org
GEO:43.967065;-124.105563
X-APPLE-STRUCTURED-LOCATION;VALUE=URI;X-ADDRESS=Empowered Living Wellness Center 138 Maple St Florence OR United States;X-APPLE-RADIUS=500;X-TITLE=138 Maple St:geo:-124.105563,43.967065
END:VEVENT
END:VCALENDAR