BEGIN:VCALENDAR
VERSION:2.0
PRODID:-//RiverCal – Events in the Siuslaw Region - ECPv6.15.20//NONSGML v1.0//EN
CALSCALE:GREGORIAN
METHOD:PUBLISH
X-ORIGINAL-URL:https://www.rivercal.org
X-WR-CALDESC:Events for RiverCal – Events in the Siuslaw Region
REFRESH-INTERVAL;VALUE=DURATION:PT1H
X-Robots-Tag:noindex
X-PUBLISHED-TTL:PT1H
BEGIN:VTIMEZONE
TZID:America/Los_Angeles
BEGIN:DAYLIGHT
TZOFFSETFROM:-0800
TZOFFSETTO:-0700
TZNAME:PDT
DTSTART:20240310T100000
END:DAYLIGHT
BEGIN:STANDARD
TZOFFSETFROM:-0700
TZOFFSETTO:-0800
TZNAME:PST
DTSTART:20241103T090000
END:STANDARD
BEGIN:DAYLIGHT
TZOFFSETFROM:-0800
TZOFFSETTO:-0700
TZNAME:PDT
DTSTART:20250309T100000
END:DAYLIGHT
BEGIN:STANDARD
TZOFFSETFROM:-0700
TZOFFSETTO:-0800
TZNAME:PST
DTSTART:20251102T090000
END:STANDARD
BEGIN:DAYLIGHT
TZOFFSETFROM:-0800
TZOFFSETTO:-0700
TZNAME:PDT
DTSTART:20260308T100000
END:DAYLIGHT
BEGIN:STANDARD
TZOFFSETFROM:-0700
TZOFFSETTO:-0800
TZNAME:PST
DTSTART:20261101T090000
END:STANDARD
END:VTIMEZONE
BEGIN:VEVENT
DTSTART;TZID=America/Los_Angeles:20251201T170000
DTEND;TZID=America/Los_Angeles:20251201T193000
DTSTAMP:20260425T133204
CREATED:20251124T230855Z
LAST-MODIFIED:20251124T230855Z
UID:10029807-1764608400-1764617400@www.rivercal.org
SUMMARY:Play & Laugh Family Play Zone: Siuslaw Family Connections
DESCRIPTION:Family Play Zone! A free family event\, all ages welcome with arcade games\, laser tag\, activities and so much more! Monday December 1st 5-7:30pm at Presbyterian Church of Siuslaw. 
URL:https://www.rivercal.org/event/play-laugh-family-play-zone-siuslaw-family-connections/
LOCATION:Presbyterian Church of the Siuslaw\, 3996 US-101\, Florence\, OR 97439\, USA
CATEGORIES:Education/Classes
ATTACH;FMTTYPE=image/jpeg:https://www.rivercal.org/wp-content/uploads/2025/11/Playzone.jpeg
ORGANIZER;CN="Siuslaw Family Connection":MAILTO:siuslawfamilyconnection@gmail.com
END:VEVENT
END:VCALENDAR