BEGIN:VCALENDAR
VERSION:2.0
PRODID:-//RiverCal – Events in the Siuslaw Region - ECPv6.15.20//NONSGML v1.0//EN
CALSCALE:GREGORIAN
METHOD:PUBLISH
X-ORIGINAL-URL:https://www.rivercal.org
X-WR-CALDESC:Events for RiverCal – Events in the Siuslaw Region
REFRESH-INTERVAL;VALUE=DURATION:PT1H
X-Robots-Tag:noindex
X-PUBLISHED-TTL:PT1H
BEGIN:VTIMEZONE
TZID:America/Los_Angeles
BEGIN:DAYLIGHT
TZOFFSETFROM:-0800
TZOFFSETTO:-0700
TZNAME:PDT
DTSTART:20240310T100000
END:DAYLIGHT
BEGIN:STANDARD
TZOFFSETFROM:-0700
TZOFFSETTO:-0800
TZNAME:PST
DTSTART:20241103T090000
END:STANDARD
BEGIN:DAYLIGHT
TZOFFSETFROM:-0800
TZOFFSETTO:-0700
TZNAME:PDT
DTSTART:20250309T100000
END:DAYLIGHT
BEGIN:STANDARD
TZOFFSETFROM:-0700
TZOFFSETTO:-0800
TZNAME:PST
DTSTART:20251102T090000
END:STANDARD
BEGIN:DAYLIGHT
TZOFFSETFROM:-0800
TZOFFSETTO:-0700
TZNAME:PDT
DTSTART:20260308T100000
END:DAYLIGHT
BEGIN:STANDARD
TZOFFSETFROM:-0700
TZOFFSETTO:-0800
TZNAME:PST
DTSTART:20261101T090000
END:STANDARD
END:VTIMEZONE
BEGIN:VEVENT
DTSTART;TZID=America/Los_Angeles:20251125T113000
DTEND;TZID=America/Los_Angeles:20251125T123000
DTSTAMP:20260425T083110
CREATED:20251024T013414Z
LAST-MODIFIED:20251024T013420Z
UID:10028839-1764070200-1764073800@www.rivercal.org
SUMMARY:FLorence Methodist Free Lunch Program
DESCRIPTION:Yes\, there is such a thing as a free lunch.  The Florence Methodist church has been providing a free lunch to anyone who wishes to come every Tuesday and Thursday for over 30 years.  Come enjoy a fresh-cooked meal in our dining room.  Lunch is served from 11:30 to 12:30 every Tuesday and Thursday.  We are located at 333 Kingwood St. in the Florence United Methodist Church (the yellow church).  Everyone is invited.  Come and bring a friend. \n(Note:  Lunch is served 11:30-12:30.  Don’t know why under “recurring events” it says 8:00)
URL:https://www.rivercal.org/event/florence-methodist-free-lunch-program/2025-11-25/
LOCATION:Florence United Methodist Church\, 333 Kingwood Ave\, Florence\, OR\, 97439\, United States
ATTACH;FMTTYPE=image/jpeg:https://www.rivercal.org/wp-content/uploads/2025/10/flyer-green-yes-free-lunch-1-1.jpg
GEO:43.969003;-124.109038
X-APPLE-STRUCTURED-LOCATION;VALUE=URI;X-ADDRESS=Florence United Methodist Church 333 Kingwood Ave Florence OR 97439 United States;X-APPLE-RADIUS=500;X-TITLE=333 Kingwood Ave:geo:-124.109038,43.969003
END:VEVENT
BEGIN:VEVENT
DTSTART;TZID=America/Los_Angeles:20251125T173000
DTEND;TZID=America/Los_Angeles:20251125T183000
DTSTAMP:20260425T083110
CREATED:20251106T182143Z
LAST-MODIFIED:20251106T182143Z
UID:10029701-1764091800-1764095400@www.rivercal.org
SUMMARY:REFIT
DESCRIPTION:A FREE cardio exercise class you can bring your kids to?!\nIt’s true!\n\nCheck out REFIT on Tuesdays at 5:30pm and Fridays at 10am. \nWe’ve got 2 playrooms in our workout space; one for littles and one for older kids. And we love it when kids join in with us! It’s a workout for the whole family!\n\nDon’t have kids? Bring YOU! This is a workout for EVERYbody.\nThe workout can be made high-energy and high-impact\, or it can be completed from a chair at your own level.\nNo matter where you are at in your health\, we’ve got a place for you!
URL:https://www.rivercal.org/event/refit-2/2025-11-25/
LOCATION:Anchor of Hope Church\, 1318 Rhododendron Drive\, Florence\, OR\, 97439\, United States
CATEGORIES:Education/Classes,Recreation
ATTACH;FMTTYPE=image/png:https://www.rivercal.org/wp-content/uploads/2025/11/Refit-RiverCal-1.png
GEO:43.9707637;-124.1071156
X-APPLE-STRUCTURED-LOCATION;VALUE=URI;X-ADDRESS=Anchor of Hope Church 1318 Rhododendron Drive Florence OR 97439 United States;X-APPLE-RADIUS=500;X-TITLE=1318 Rhododendron Drive:geo:-124.1071156,43.9707637
END:VEVENT
BEGIN:VEVENT
DTSTART;TZID=America/Los_Angeles:20251127T113000
DTEND;TZID=America/Los_Angeles:20251127T123000
DTSTAMP:20260425T083110
CREATED:20251024T013414Z
LAST-MODIFIED:20251024T013420Z
UID:10028840-1764243000-1764246600@www.rivercal.org
SUMMARY:FLorence Methodist Free Lunch Program
DESCRIPTION:Yes\, there is such a thing as a free lunch.  The Florence Methodist church has been providing a free lunch to anyone who wishes to come every Tuesday and Thursday for over 30 years.  Come enjoy a fresh-cooked meal in our dining room.  Lunch is served from 11:30 to 12:30 every Tuesday and Thursday.  We are located at 333 Kingwood St. in the Florence United Methodist Church (the yellow church).  Everyone is invited.  Come and bring a friend. \n(Note:  Lunch is served 11:30-12:30.  Don’t know why under “recurring events” it says 8:00)
URL:https://www.rivercal.org/event/florence-methodist-free-lunch-program/2025-11-27/
LOCATION:Florence United Methodist Church\, 333 Kingwood Ave\, Florence\, OR\, 97439\, United States
ATTACH;FMTTYPE=image/jpeg:https://www.rivercal.org/wp-content/uploads/2025/10/flyer-green-yes-free-lunch-1-1.jpg
GEO:43.969003;-124.109038
X-APPLE-STRUCTURED-LOCATION;VALUE=URI;X-ADDRESS=Florence United Methodist Church 333 Kingwood Ave Florence OR 97439 United States;X-APPLE-RADIUS=500;X-TITLE=333 Kingwood Ave:geo:-124.109038,43.969003
END:VEVENT
BEGIN:VEVENT
DTSTART;TZID=America/Los_Angeles:20251127T113000
DTEND;TZID=America/Los_Angeles:20251127T133000
DTSTAMP:20260425T083110
CREATED:20251124T231548Z
LAST-MODIFIED:20251124T231548Z
UID:10029808-1764243000-1764250200@www.rivercal.org
SUMMARY:Florence Community Free Thanksgiving Dinner
DESCRIPTION:Happy week of Thanksgiving! Hope you have all your meal preparations ready to go\, but if not and you don’t want to bother\, then come to the Elks Lodge where the KIWANIS CLUB of FLORENCE will be hosting their annual FREE Thanksgiving dinner. They’ll be serving between 11:30am and 1:30pm. Open to everyone in the community who would like to enjoy a meal and some friendly company. The Lodge is located at 1686 12th Street in Florence.
URL:https://www.rivercal.org/event/florence-community-free-thanksgiving-dinner/
LOCATION:Florence Elks Lodge #1858\, 686 12th Street\, Florence\, OR\, 97439\, United States
CATEGORIES:Clubs & Organizations
ATTACH;FMTTYPE=image/jpeg:https://www.rivercal.org/wp-content/uploads/2025/11/elksthanks.jpeg
ORGANIZER;CN="Kiwanis Club of Florence":MAILTO:florencekiwanis@msn.com
GEO:43.9773485;-124.1061281
X-APPLE-STRUCTURED-LOCATION;VALUE=URI;X-ADDRESS=Florence Elks Lodge #1858 686 12th Street Florence OR 97439 United States;X-APPLE-RADIUS=500;X-TITLE=686 12th Street:geo:-124.1061281,43.9773485
END:VEVENT
END:VCALENDAR