BEGIN:VCALENDAR
VERSION:2.0
PRODID:-//RiverCal – Events in the Siuslaw Region - ECPv6.15.20//NONSGML v1.0//EN
CALSCALE:GREGORIAN
METHOD:PUBLISH
X-ORIGINAL-URL:https://www.rivercal.org
X-WR-CALDESC:Events for RiverCal – Events in the Siuslaw Region
REFRESH-INTERVAL;VALUE=DURATION:PT1H
X-Robots-Tag:noindex
X-PUBLISHED-TTL:PT1H
BEGIN:VTIMEZONE
TZID:America/Los_Angeles
BEGIN:DAYLIGHT
TZOFFSETFROM:-0800
TZOFFSETTO:-0700
TZNAME:PDT
DTSTART:20250309T100000
END:DAYLIGHT
BEGIN:STANDARD
TZOFFSETFROM:-0700
TZOFFSETTO:-0800
TZNAME:PST
DTSTART:20251102T090000
END:STANDARD
BEGIN:DAYLIGHT
TZOFFSETFROM:-0800
TZOFFSETTO:-0700
TZNAME:PDT
DTSTART:20260308T100000
END:DAYLIGHT
BEGIN:STANDARD
TZOFFSETFROM:-0700
TZOFFSETTO:-0800
TZNAME:PST
DTSTART:20261101T090000
END:STANDARD
BEGIN:DAYLIGHT
TZOFFSETFROM:-0800
TZOFFSETTO:-0700
TZNAME:PDT
DTSTART:20270314T100000
END:DAYLIGHT
BEGIN:STANDARD
TZOFFSETFROM:-0700
TZOFFSETTO:-0800
TZNAME:PST
DTSTART:20271107T090000
END:STANDARD
END:VTIMEZONE
BEGIN:VEVENT
DTSTART;TZID=America/Los_Angeles:20260302T160000
DTEND;TZID=America/Los_Angeles:20260302T170000
DTSTAMP:20260420T150919
CREATED:20260106T221912Z
LAST-MODIFIED:20260106T221912Z
UID:10030549-1772467200-1772470800@www.rivercal.org
SUMMARY:REFIT Low
DESCRIPTION:Get your body moving with a low-impact\, high-energy dance workout. Our class is filled with great music\, tons of laughs and a whole lot of grace. We’re about progress\, not perfection!\nNot a dancer? No worries. Our moves are simple and easy to catch on to. And if you get lost just groove to the music!\nIf you have kids\, bring them! We have two designated play areas (toddler and big kid) just off of the workout space with lots of toys.\nBring a water bottle and your sense of humor!
URL:https://www.rivercal.org/event/refit-low/2026-03-02/
LOCATION:Anchor of Hope Church\, 1318 Rhododendron Drive\, Florence\, OR\, 97439\, United States
CATEGORIES:Education/Classes
ATTACH;FMTTYPE=image/png:https://www.rivercal.org/wp-content/uploads/2026/01/Refit-RiverCal-1.png
GEO:43.9707637;-124.1071156
X-APPLE-STRUCTURED-LOCATION;VALUE=URI;X-ADDRESS=Anchor of Hope Church 1318 Rhododendron Drive Florence OR 97439 United States;X-APPLE-RADIUS=500;X-TITLE=1318 Rhododendron Drive:geo:-124.1071156,43.9707637
END:VEVENT
BEGIN:VEVENT
DTSTART;TZID=America/Los_Angeles:20260302T173000
DTEND;TZID=America/Los_Angeles:20260302T183000
DTSTAMP:20260420T150919
CREATED:20260106T222337Z
LAST-MODIFIED:20260106T222337Z
UID:10030809-1772472600-1772476200@www.rivercal.org
SUMMARY:REFIT High
DESCRIPTION:Get your sweat on with this high-impact\, high-energy cardio dance class. We love to push ourselves hard and watch our strength grow. Our class is filled with great music\, tons of laughs and a whole lot of grace. We’re about progress\, not perfection!\nNot a dancer? No worries. Our moves are simple and easy to catch on to. And if you get lost just groove to the music!\nIf you have kids\, bring them! We have two designated play areas (toddler and big kid) just off of the workout space with lots of toys.\nBring a water bottle and your sense of humor!
URL:https://www.rivercal.org/event/refit-high/2026-03-02/
LOCATION:Anchor of Hope Church\, 1318 Rhododendron Drive\, Florence\, OR\, 97439\, United States
CATEGORIES:Education/Classes
ATTACH;FMTTYPE=image/png:https://www.rivercal.org/wp-content/uploads/2026/01/Refit-RiverCal-1-1.png
GEO:43.9707637;-124.1071156
X-APPLE-STRUCTURED-LOCATION;VALUE=URI;X-ADDRESS=Anchor of Hope Church 1318 Rhododendron Drive Florence OR 97439 United States;X-APPLE-RADIUS=500;X-TITLE=1318 Rhododendron Drive:geo:-124.1071156,43.9707637
END:VEVENT
BEGIN:VEVENT
DTSTART;TZID=America/Los_Angeles:20260303T113000
DTEND;TZID=America/Los_Angeles:20260303T123000
DTSTAMP:20260420T150919
CREATED:20251024T013414Z
LAST-MODIFIED:20251024T013420Z
UID:10028867-1772537400-1772541000@www.rivercal.org
SUMMARY:FLorence Methodist Free Lunch Program
DESCRIPTION:Yes\, there is such a thing as a free lunch.  The Florence Methodist church has been providing a free lunch to anyone who wishes to come every Tuesday and Thursday for over 30 years.  Come enjoy a fresh-cooked meal in our dining room.  Lunch is served from 11:30 to 12:30 every Tuesday and Thursday.  We are located at 333 Kingwood St. in the Florence United Methodist Church (the yellow church).  Everyone is invited.  Come and bring a friend. \n(Note:  Lunch is served 11:30-12:30.  Don’t know why under “recurring events” it says 8:00)
URL:https://www.rivercal.org/event/florence-methodist-free-lunch-program/2026-03-03/
LOCATION:Florence United Methodist Church\, 333 Kingwood Ave\, Florence\, OR\, 97439\, United States
ATTACH;FMTTYPE=image/jpeg:https://www.rivercal.org/wp-content/uploads/2025/10/flyer-green-yes-free-lunch-1-1.jpg
GEO:43.969003;-124.109038
X-APPLE-STRUCTURED-LOCATION;VALUE=URI;X-ADDRESS=Florence United Methodist Church 333 Kingwood Ave Florence OR 97439 United States;X-APPLE-RADIUS=500;X-TITLE=333 Kingwood Ave:geo:-124.109038,43.969003
END:VEVENT
BEGIN:VEVENT
DTSTART;TZID=America/Los_Angeles:20260304T104500
DTEND;TZID=America/Los_Angeles:20260304T120000
DTSTAMP:20260420T150919
CREATED:20260224T000022Z
LAST-MODIFIED:20260224T225219Z
UID:10034060-1772621100-1772625600@www.rivercal.org
SUMMARY:FACC March 4th Meeting features  Saint Vince dePaul’s HOPE Community Homes manufactured housing program
DESCRIPTION:The March 4th 2026 regular meeting of the Florence Area Community Coalition features Jacon Taylor\, Development Manager with Saint Vincent dePaul’s HOPE Community Homes\, Oregon’s first non-profit factory-built home manufacturer.  He will explain their innovative contribution to solving our affordable housing crisis. \nLearn how they built Oregon’s first non-profit state-of-the-art 100\,000 square foot manufacturing facility in Eugene. And how since 2024 they have offered factory-built durable and high-quality manufactured homes for low-income Oregon communities and victims of natural disasters. Learn how their ENERGY STAR NEEM+ certification may qualify for energy-saving incentives. \nFACC’s regular monthly meetings start at 10:45 am in the Bromley Room of the Siuslaw Public Library District\, 1460 9th Street in Florence\, and adjourn by noon. Hybrid meetings offer an opportunity to participate with Zoom. After the speaker and a short business meeting\, all those attending\, whether in the room or joining by Zoom\, have an opportunity to share upcoming events\, needs\, and opportunities to learn or participate. \nFACC’s mission is to improve the quality of life in Western Lane County through partnerships\, networking\, volunteerism\, community involvement\, education\, and awareness. As an all-volunteer 501(c)(3) membership organization it has been at this work for over 25 years. \nFACC meetings are free and open to the public. Light refreshments are served. Membership dues are $50 for agencies and organizations and $25 for individuals wishing to join.
URL:https://www.rivercal.org/event/facc-march-4th-meeting-features-saint-vince-depauls-hope-manufactured-housing-program/
LOCATION:Bromley Room @ Siuslaw Library\, 1460 9th St.\, Florence\, OR\, 97439\, United States
CATEGORIES:Clubs & Organizations
ATTACH;FMTTYPE=image/jpeg:https://www.rivercal.org/wp-content/uploads/2026/02/HopeCommunityHomes.jpg
ORGANIZER;CN="Florence Area Community Coalition":MAILTO:florenceareacc@gmail.com
END:VEVENT
BEGIN:VEVENT
DTSTART;TZID=America/Los_Angeles:20260305T113000
DTEND;TZID=America/Los_Angeles:20260305T123000
DTSTAMP:20260420T150919
CREATED:20251024T013414Z
LAST-MODIFIED:20251024T013420Z
UID:10028868-1772710200-1772713800@www.rivercal.org
SUMMARY:FLorence Methodist Free Lunch Program
DESCRIPTION:Yes\, there is such a thing as a free lunch.  The Florence Methodist church has been providing a free lunch to anyone who wishes to come every Tuesday and Thursday for over 30 years.  Come enjoy a fresh-cooked meal in our dining room.  Lunch is served from 11:30 to 12:30 every Tuesday and Thursday.  We are located at 333 Kingwood St. in the Florence United Methodist Church (the yellow church).  Everyone is invited.  Come and bring a friend. \n(Note:  Lunch is served 11:30-12:30.  Don’t know why under “recurring events” it says 8:00)
URL:https://www.rivercal.org/event/florence-methodist-free-lunch-program/2026-03-05/
LOCATION:Florence United Methodist Church\, 333 Kingwood Ave\, Florence\, OR\, 97439\, United States
ATTACH;FMTTYPE=image/jpeg:https://www.rivercal.org/wp-content/uploads/2025/10/flyer-green-yes-free-lunch-1-1.jpg
GEO:43.969003;-124.109038
X-APPLE-STRUCTURED-LOCATION;VALUE=URI;X-ADDRESS=Florence United Methodist Church 333 Kingwood Ave Florence OR 97439 United States;X-APPLE-RADIUS=500;X-TITLE=333 Kingwood Ave:geo:-124.109038,43.969003
END:VEVENT
END:VCALENDAR