BEGIN:VCALENDAR
VERSION:2.0
PRODID:-//RiverCal – Events in the Siuslaw Region - ECPv6.15.20//NONSGML v1.0//EN
CALSCALE:GREGORIAN
METHOD:PUBLISH
X-ORIGINAL-URL:https://www.rivercal.org
X-WR-CALDESC:Events for RiverCal – Events in the Siuslaw Region
REFRESH-INTERVAL;VALUE=DURATION:PT1H
X-Robots-Tag:noindex
X-PUBLISHED-TTL:PT1H
BEGIN:VTIMEZONE
TZID:America/Los_Angeles
BEGIN:DAYLIGHT
TZOFFSETFROM:-0800
TZOFFSETTO:-0700
TZNAME:PDT
DTSTART:20240310T100000
END:DAYLIGHT
BEGIN:STANDARD
TZOFFSETFROM:-0700
TZOFFSETTO:-0800
TZNAME:PST
DTSTART:20241103T090000
END:STANDARD
BEGIN:DAYLIGHT
TZOFFSETFROM:-0800
TZOFFSETTO:-0700
TZNAME:PDT
DTSTART:20250309T100000
END:DAYLIGHT
BEGIN:STANDARD
TZOFFSETFROM:-0700
TZOFFSETTO:-0800
TZNAME:PST
DTSTART:20251102T090000
END:STANDARD
BEGIN:DAYLIGHT
TZOFFSETFROM:-0800
TZOFFSETTO:-0700
TZNAME:PDT
DTSTART:20260308T100000
END:DAYLIGHT
BEGIN:STANDARD
TZOFFSETFROM:-0700
TZOFFSETTO:-0800
TZNAME:PST
DTSTART:20261101T090000
END:STANDARD
END:VTIMEZONE
BEGIN:VEVENT
DTSTART;TZID=America/Los_Angeles:20251106T130000
DTEND;TZID=America/Los_Angeles:20251106T143000
DTSTAMP:20260419T071137
CREATED:20251022T010705Z
LAST-MODIFIED:20251022T010845Z
UID:10028822-1762434000-1762439400@www.rivercal.org
SUMMARY:Marine Debris Mini Mosaics Workshop
DESCRIPTION:Join Oregon Shores and the Siuslaw Watershed Council for a hands-on workshop where beach debris becomes art with meaning! \nCreate ephemeral\, multidimensional “mini mosaics” using real marine debris collected along the Oregon Coast. The session begins with an introduction to how king tides and marine debris shape our shoreline\, followed by a guided discussion on the complex role plastics play in our lives. \nParticipants will then explore bins of cleaned\, color-sorted debris and choose pieces that spark their curiosity—imagining where each item came from or what it once was. Using black foam board as a backdrop\, everyone will design a nature-inspired scene that holds personal significance. \nWhen the artworks are complete\, we’ll take a short “gallery walk” to appreciate one another’s creations before returning all materials to their bins. Together\, we’ll close with a conversation about what we discovered\, how our perspectives may have shifted\, and creative ways we can reduce plastic pollution in our communities. \n  \nThis workshop is free- but space is limited! Sign up here to save your spot.
URL:https://www.rivercal.org/event/marine-debris-mini-mosaics-workshop/
LOCATION:Siuslaw Public Library\, 1500 9th St\, Florence\, OR\, United States
CATEGORIES:-- Siuslaw Public Library District,Arts & Culture,Education/Classes
ATTACH;FMTTYPE=image/png:https://www.rivercal.org/wp-content/uploads/2025/10/Marine-Debris-Mini-Mosaics-at-Siuslaw-Public-Library-Instagram-Post-1-2.png
ORGANIZER;CN="Siuslaw Watershed Council":MAILTO:watershed@siuslaw.org
GEO:43.974663;-124.10618
X-APPLE-STRUCTURED-LOCATION;VALUE=URI;X-ADDRESS=Siuslaw Public Library 1500 9th St Florence OR United States;X-APPLE-RADIUS=500;X-TITLE=1500 9th St:geo:-124.10618,43.974663
END:VEVENT
BEGIN:VEVENT
DTSTART;TZID=America/Los_Angeles:20251122T100000
DTEND;TZID=America/Los_Angeles:20251122T130000
DTSTAMP:20260419T071137
CREATED:20251107T001450Z
LAST-MODIFIED:20251107T001450Z
UID:10029705-1763805600-1763816400@www.rivercal.org
SUMMARY:Mushroom Hunting and Culinary Demonstration
DESCRIPTION:Join us on the 22nd for a guided mushroom harvest!\n\n\nRain or shine (probably rain!)\, we will explore the bounty of the season and learn how to identify\, harvest\, clean\, and cook mushrooms in our very own watershed.
URL:https://www.rivercal.org/event/mushroom-hunting-and-culinary-demonstration/
LOCATION:OR
CATEGORIES:Education/Classes
ATTACH;FMTTYPE=image/png:https://www.rivercal.org/wp-content/uploads/2025/11/mushroom-event-2.png
ORGANIZER;CN="Siuslaw Watershed Council":MAILTO:watershed@siuslaw.org
END:VEVENT
END:VCALENDAR