BEGIN:VCALENDAR
VERSION:2.0
PRODID:-//RiverCal – Events in the Siuslaw Region - ECPv6.15.20//NONSGML v1.0//EN
CALSCALE:GREGORIAN
METHOD:PUBLISH
X-WR-CALNAME:RiverCal – Events in the Siuslaw Region
X-ORIGINAL-URL:https://www.rivercal.org
X-WR-CALDESC:Events for RiverCal – Events in the Siuslaw Region
REFRESH-INTERVAL;VALUE=DURATION:PT1H
X-Robots-Tag:noindex
X-PUBLISHED-TTL:PT1H
BEGIN:VTIMEZONE
TZID:America/Los_Angeles
BEGIN:DAYLIGHT
TZOFFSETFROM:-0800
TZOFFSETTO:-0700
TZNAME:PDT
DTSTART:20250309T100000
END:DAYLIGHT
BEGIN:STANDARD
TZOFFSETFROM:-0700
TZOFFSETTO:-0800
TZNAME:PST
DTSTART:20251102T090000
END:STANDARD
BEGIN:DAYLIGHT
TZOFFSETFROM:-0800
TZOFFSETTO:-0700
TZNAME:PDT
DTSTART:20260308T100000
END:DAYLIGHT
BEGIN:STANDARD
TZOFFSETFROM:-0700
TZOFFSETTO:-0800
TZNAME:PST
DTSTART:20261101T090000
END:STANDARD
BEGIN:DAYLIGHT
TZOFFSETFROM:-0800
TZOFFSETTO:-0700
TZNAME:PDT
DTSTART:20270314T100000
END:DAYLIGHT
BEGIN:STANDARD
TZOFFSETFROM:-0700
TZOFFSETTO:-0800
TZNAME:PST
DTSTART:20271107T090000
END:STANDARD
END:VTIMEZONE
BEGIN:VEVENT
DTSTART;TZID=America/Los_Angeles:20260110T120000
DTEND;TZID=America/Los_Angeles:20260110T140000
DTSTAMP:20260419T111418
CREATED:20251107T002742Z
LAST-MODIFIED:20251107T002742Z
UID:10029706-1768046400-1768053600@www.rivercal.org
SUMMARY:Siuslaw Watershed Council Annual Meeting
DESCRIPTION:Join the Siuslaw Watershed Council for our public annual meeting as we look back on a year of accomplishments and look forward to 2026! All are welcome to join this free potluck event which will include project updates and our Leadership Body and Board of Directors elections.
URL:https://www.rivercal.org/event/siuslaw-watershed-council-annual-meeting/
LOCATION:OR
ATTACH;FMTTYPE=image/png:https://www.rivercal.org/wp-content/uploads/2025/11/SWC-ANNUAL-MEETING-5.png
ORGANIZER;CN="Siuslaw Watershed Council":MAILTO:watershed@siuslaw.org
END:VEVENT
END:VCALENDAR