BEGIN:VCALENDAR
VERSION:2.0
PRODID:-//RiverCal – Events in the Siuslaw Region - ECPv6.15.20//NONSGML v1.0//EN
CALSCALE:GREGORIAN
METHOD:PUBLISH
X-ORIGINAL-URL:https://www.rivercal.org
X-WR-CALDESC:Events for RiverCal – Events in the Siuslaw Region
REFRESH-INTERVAL;VALUE=DURATION:PT1H
X-Robots-Tag:noindex
X-PUBLISHED-TTL:PT1H
BEGIN:VTIMEZONE
TZID:America/Los_Angeles
BEGIN:DAYLIGHT
TZOFFSETFROM:-0800
TZOFFSETTO:-0700
TZNAME:PDT
DTSTART:20250309T100000
END:DAYLIGHT
BEGIN:STANDARD
TZOFFSETFROM:-0700
TZOFFSETTO:-0800
TZNAME:PST
DTSTART:20251102T090000
END:STANDARD
BEGIN:DAYLIGHT
TZOFFSETFROM:-0800
TZOFFSETTO:-0700
TZNAME:PDT
DTSTART:20260308T100000
END:DAYLIGHT
BEGIN:STANDARD
TZOFFSETFROM:-0700
TZOFFSETTO:-0800
TZNAME:PST
DTSTART:20261101T090000
END:STANDARD
BEGIN:DAYLIGHT
TZOFFSETFROM:-0800
TZOFFSETTO:-0700
TZNAME:PDT
DTSTART:20270314T100000
END:DAYLIGHT
BEGIN:STANDARD
TZOFFSETFROM:-0700
TZOFFSETTO:-0800
TZNAME:PST
DTSTART:20271107T090000
END:STANDARD
END:VTIMEZONE
BEGIN:VEVENT
DTSTART;TZID=America/Los_Angeles:20260627T100000
DTEND;TZID=America/Los_Angeles:20260627T120000
DTSTAMP:20260421T190056
CREATED:20260322T234435Z
LAST-MODIFIED:20260322T234435Z
UID:10034199-1782554400-1782561600@www.rivercal.org
SUMMARY:Scotch Broom Removal at John Dellenback Dunes - Saturday\, June 27
DESCRIPTION:Volunteers are needed to help the Oregon Dunes Restoration Collaborative remove invasive Scotch broom from the John Dellenback Dunes on Saturday\, June 27 from 10:00 AM to Noon. John Dellenback Dunes is one of our “Preserve the Best” sites with lots of good open sand dune habitat for native plants and animals; so it is an important location to continue our efforts to remove invasive Scotch broom. It is approximately 0.4 miles uphill on the trail to the worksite. After the event\, it is a short walk to an outstanding viewpoint of large\, open sand dunes with the ocean in the distance. \nWear sturdy\, closed-toe shoes for hiking on the sand and bring work gloves\, water\, and snacks. Please bring shovels\, hand saws\, or loppers if you have them. If you don’t\, ODRC will have tools you can borrow. Day use fees are waived for volunteers at this event. \nDirections: From Florence\, take Hwy 101 South approximately 32.8 miles to the John Dellenback Dunes Trailhead. Turn right (west) into the trailhead. \nFrom Reedsport\, take Hwy 101 South approximately 10.5 miles to the John Dellenback Dunes Trailhead. Turn right (west) into the trailhead. \nFrom North Bend\, take Hwy 101 North approximately 13.0 miles to the John Dellenback Dunes Trailhead. Turn left (west) into the trailhead.
URL:https://www.rivercal.org/event/scotch-broom-removal-at-john-dellenback-dunes-saturday-june-27/
LOCATION:OR
CATEGORIES:Clubs & Organizations,Recreation
ATTACH;FMTTYPE=image/jpeg:https://www.rivercal.org/wp-content/uploads/2026/03/24.08.24_Dellenback-Dunes-2-scaled.jpg
END:VEVENT
END:VCALENDAR