BEGIN:VCALENDAR
VERSION:2.0
PRODID:-//RiverCal – Events in the Siuslaw Region - ECPv6.15.20//NONSGML v1.0//EN
CALSCALE:GREGORIAN
METHOD:PUBLISH
X-ORIGINAL-URL:https://www.rivercal.org
X-WR-CALDESC:Events for RiverCal – Events in the Siuslaw Region
REFRESH-INTERVAL;VALUE=DURATION:PT1H
X-Robots-Tag:noindex
X-PUBLISHED-TTL:PT1H
BEGIN:VTIMEZONE
TZID:America/Los_Angeles
BEGIN:DAYLIGHT
TZOFFSETFROM:-0800
TZOFFSETTO:-0700
TZNAME:PDT
DTSTART:20250309T100000
END:DAYLIGHT
BEGIN:STANDARD
TZOFFSETFROM:-0700
TZOFFSETTO:-0800
TZNAME:PST
DTSTART:20251102T090000
END:STANDARD
BEGIN:DAYLIGHT
TZOFFSETFROM:-0800
TZOFFSETTO:-0700
TZNAME:PDT
DTSTART:20260308T100000
END:DAYLIGHT
BEGIN:STANDARD
TZOFFSETFROM:-0700
TZOFFSETTO:-0800
TZNAME:PST
DTSTART:20261101T090000
END:STANDARD
BEGIN:DAYLIGHT
TZOFFSETFROM:-0800
TZOFFSETTO:-0700
TZNAME:PDT
DTSTART:20270314T100000
END:DAYLIGHT
BEGIN:STANDARD
TZOFFSETFROM:-0700
TZOFFSETTO:-0800
TZNAME:PST
DTSTART:20271107T090000
END:STANDARD
END:VTIMEZONE
BEGIN:VEVENT
DTSTART;TZID=America/Los_Angeles:20260214T083000
DTEND;TZID=America/Los_Angeles:20260214T103000
DTSTAMP:20260424T151459
CREATED:20260113T161830Z
LAST-MODIFIED:20260115T164206Z
UID:10031133-1771057800-1771065000@www.rivercal.org
SUMMARY:Pancake Breakfast
DESCRIPTION:Valentine’s Day Pancake Breakfast sponsored by Elks Lodge to benefit the Pregnancy and Parenting Center.\nSaturday\, February 14th\, from 8:30 – 10:30am.\nPancakes\, sausage\, and coffee for $8.00.\nInvite your Valentine\, friends\, and neighbors!
URL:https://www.rivercal.org/event/pancake-breakfast-2/
LOCATION:Florence Elks Lodge #1858\, 686 12th Street\, Florence\, OR\, 97439\, United States
ATTACH;FMTTYPE=image/png:https://www.rivercal.org/wp-content/uploads/2026/01/Pancake-Breakfast-220-x-300-px-002.png
GEO:43.9773485;-124.1061281
X-APPLE-STRUCTURED-LOCATION;VALUE=URI;X-ADDRESS=Florence Elks Lodge #1858 686 12th Street Florence OR 97439 United States;X-APPLE-RADIUS=500;X-TITLE=686 12th Street:geo:-124.1061281,43.9773485
END:VEVENT
END:VCALENDAR