BEGIN:VCALENDAR
VERSION:2.0
PRODID:-//RiverCal – Events in the Siuslaw Region - ECPv6.15.20//NONSGML v1.0//EN
CALSCALE:GREGORIAN
METHOD:PUBLISH
X-ORIGINAL-URL:https://www.rivercal.org
X-WR-CALDESC:Events for RiverCal – Events in the Siuslaw Region
REFRESH-INTERVAL;VALUE=DURATION:PT1H
X-Robots-Tag:noindex
X-PUBLISHED-TTL:PT1H
BEGIN:VTIMEZONE
TZID:America/Los_Angeles
BEGIN:DAYLIGHT
TZOFFSETFROM:-0800
TZOFFSETTO:-0700
TZNAME:PDT
DTSTART:20250309T100000
END:DAYLIGHT
BEGIN:STANDARD
TZOFFSETFROM:-0700
TZOFFSETTO:-0800
TZNAME:PST
DTSTART:20251102T090000
END:STANDARD
BEGIN:DAYLIGHT
TZOFFSETFROM:-0800
TZOFFSETTO:-0700
TZNAME:PDT
DTSTART:20260308T100000
END:DAYLIGHT
BEGIN:STANDARD
TZOFFSETFROM:-0700
TZOFFSETTO:-0800
TZNAME:PST
DTSTART:20261101T090000
END:STANDARD
BEGIN:DAYLIGHT
TZOFFSETFROM:-0800
TZOFFSETTO:-0700
TZNAME:PDT
DTSTART:20270314T100000
END:DAYLIGHT
BEGIN:STANDARD
TZOFFSETFROM:-0700
TZOFFSETTO:-0800
TZNAME:PST
DTSTART:20271107T090000
END:STANDARD
END:VTIMEZONE
BEGIN:VEVENT
DTSTART;TZID=America/Los_Angeles:20260424T190000
DTEND;TZID=America/Los_Angeles:20260424T210000
DTSTAMP:20260420T165945
CREATED:20260331T213800Z
LAST-MODIFIED:20260331T213800Z
UID:10034353-1777057200-1777064400@www.rivercal.org
SUMMARY:Spring Concert: Oregon Coast Chamber Orchestra
DESCRIPTION:Join the Oregon Coast Chamber Orchestra for our spring concert series. We’ve been hard at work rehearsing this fun program. We will be performing Handel’s Water Music\, Symphony No 104 “London” by Haydn\, and Dvorak’s Slavonic Dances. Directed by Ernie Hills. Concerts are free and open to all. \nFridays\, April 24 & May 1\, 7 PM at Presbyterian Community Church of Florence\nSunday\, April 26\, 3 PM at Yachats Presbyterian Church \nSee you there!
URL:https://www.rivercal.org/event/spring-concert-oregon-coast-chamber-orchestra/2026-04-24/
LOCATION:Presbyterian Community Church (Presbyterian Church of the Siuslaw)\, 3996 Highway 101 N\, Florence\, OR\, 97439\, United States
CATEGORIES:Arts & Culture
ATTACH;FMTTYPE=image/png:https://www.rivercal.org/wp-content/uploads/2026/03/OCCO-spring-concert-2026-social-media.png
ORGANIZER;CN="Oregon Coast Chamber Orchestra":MAILTO:occorchestraflorence@gmail.com
GEO:44.0011408;-124.0999826
X-APPLE-STRUCTURED-LOCATION;VALUE=URI;X-ADDRESS=Presbyterian Community Church (Presbyterian Church of the Siuslaw) 3996 Highway 101 N Florence OR 97439 United States;X-APPLE-RADIUS=500;X-TITLE=3996 Highway 101 N:geo:-124.0999826,44.0011408
END:VEVENT
BEGIN:VEVENT
DTSTART;TZID=America/Los_Angeles:20260426T150000
DTEND;TZID=America/Los_Angeles:20260426T170000
DTSTAMP:20260420T165945
CREATED:20260331T214115Z
LAST-MODIFIED:20260331T214115Z
UID:10034355-1777215600-1777222800@www.rivercal.org
SUMMARY:Spring Concert: Oregon Coast Chamber Orchestra
DESCRIPTION:Join the Oregon Coast Chamber Orchestra for our spring concert series. We’ve been hard at work rehearsing this fun program. We will be performing Handel’s Water Music\, Symphony No 104 “London” by Haydn\, and Dvorak’s Slavonic Dances. Directed by Ernie Hills. Concerts are free and open to all. \nFridays\, April 24 & May 1\, 7 PM at Presbyterian Community Church of Florence\nSunday\, April 26\, 3 PM at Yachats Presbyterian Church \nSee you there!
URL:https://www.rivercal.org/event/spring-concert-oregon-coast-chamber-orchestra-2/
LOCATION:Yachats Community Presbyterian Church\, 360 7th Street\, Yachats\, OR\, 97498\, United States
CATEGORIES:Arts & Culture
ATTACH;FMTTYPE=image/png:https://www.rivercal.org/wp-content/uploads/2026/03/OCCO-spring-concert-2026-social-media-1.png
ORGANIZER;CN="Oregon Coast Chamber Orchestra":MAILTO:occorchestraflorence@gmail.com
END:VEVENT
BEGIN:VEVENT
DTSTART;TZID=America/Los_Angeles:20260429T160000
DTEND;TZID=America/Los_Angeles:20260429T174500
DTSTAMP:20260420T165945
CREATED:20260326T223533Z
LAST-MODIFIED:20260326T223533Z
UID:10034346-1777478400-1777484700@www.rivercal.org
SUMMARY:Beginning Podcast Workshop
DESCRIPTION:Join us for “Crafting Podcasts with Heart: From Spark to First Recording”\, a free workshop presented by Jen Chambers\, host of Same Crime\, Different Time and Beyond the Margins. You’ll learn about the mechanics of podcasting\, live recording\, building a story\, and creating a show that lasts. Participants will get hands-on practice writing an episode and recording an introduction. \nSpace is limited; registration is required for this free workshop. Sign up now. Sponsored by Siuslaw Public Library.
URL:https://www.rivercal.org/event/beginning-podcast-workshop/
LOCATION:Siuslaw Public Library – Florence\, 1460 9th Street\, Florence\, OR\, 97439\, United States
CATEGORIES:-- Siuslaw Public Library District,Arts & Culture,Education/Classes,Government
ATTACH;FMTTYPE=image/png:https://www.rivercal.org/wp-content/uploads/2026/03/Podcast-Flyer-Florence.png
ORGANIZER;CN="Siuslaw Public Library District":MAILTO:ref@siuslawlibrary.org
GEO:43.974663;-124.10618
X-APPLE-STRUCTURED-LOCATION;VALUE=URI;X-ADDRESS=Siuslaw Public Library – Florence 1460 9th Street Florence OR 97439 United States;X-APPLE-RADIUS=500;X-TITLE=1460 9th Street:geo:-124.10618,43.974663
END:VEVENT
BEGIN:VEVENT
DTSTART;TZID=America/Los_Angeles:20260501T190000
DTEND;TZID=America/Los_Angeles:20260501T210000
DTSTAMP:20260420T165946
CREATED:20260331T213800Z
LAST-MODIFIED:20260331T213800Z
UID:10034354-1777662000-1777669200@www.rivercal.org
SUMMARY:Spring Concert: Oregon Coast Chamber Orchestra
DESCRIPTION:Join the Oregon Coast Chamber Orchestra for our spring concert series. We’ve been hard at work rehearsing this fun program. We will be performing Handel’s Water Music\, Symphony No 104 “London” by Haydn\, and Dvorak’s Slavonic Dances. Directed by Ernie Hills. Concerts are free and open to all. \nFridays\, April 24 & May 1\, 7 PM at Presbyterian Community Church of Florence\nSunday\, April 26\, 3 PM at Yachats Presbyterian Church \nSee you there!
URL:https://www.rivercal.org/event/spring-concert-oregon-coast-chamber-orchestra/2026-05-01/
LOCATION:Presbyterian Community Church (Presbyterian Church of the Siuslaw)\, 3996 Highway 101 N\, Florence\, OR\, 97439\, United States
CATEGORIES:Arts & Culture
ATTACH;FMTTYPE=image/png:https://www.rivercal.org/wp-content/uploads/2026/03/OCCO-spring-concert-2026-social-media.png
ORGANIZER;CN="Oregon Coast Chamber Orchestra":MAILTO:occorchestraflorence@gmail.com
GEO:44.0011408;-124.0999826
X-APPLE-STRUCTURED-LOCATION;VALUE=URI;X-ADDRESS=Presbyterian Community Church (Presbyterian Church of the Siuslaw) 3996 Highway 101 N Florence OR 97439 United States;X-APPLE-RADIUS=500;X-TITLE=3996 Highway 101 N:geo:-124.0999826,44.0011408
END:VEVENT
END:VCALENDAR