BEGIN:VCALENDAR
VERSION:2.0
PRODID:-//RiverCal – Events in the Siuslaw Region - ECPv6.15.20//NONSGML v1.0//EN
CALSCALE:GREGORIAN
METHOD:PUBLISH
X-ORIGINAL-URL:https://www.rivercal.org
X-WR-CALDESC:Events for RiverCal – Events in the Siuslaw Region
REFRESH-INTERVAL;VALUE=DURATION:PT1H
X-Robots-Tag:noindex
X-PUBLISHED-TTL:PT1H
BEGIN:VTIMEZONE
TZID:America/Los_Angeles
BEGIN:DAYLIGHT
TZOFFSETFROM:-0800
TZOFFSETTO:-0700
TZNAME:PDT
DTSTART:20250309T100000
END:DAYLIGHT
BEGIN:STANDARD
TZOFFSETFROM:-0700
TZOFFSETTO:-0800
TZNAME:PST
DTSTART:20251102T090000
END:STANDARD
BEGIN:DAYLIGHT
TZOFFSETFROM:-0800
TZOFFSETTO:-0700
TZNAME:PDT
DTSTART:20260308T100000
END:DAYLIGHT
BEGIN:STANDARD
TZOFFSETFROM:-0700
TZOFFSETTO:-0800
TZNAME:PST
DTSTART:20261101T090000
END:STANDARD
BEGIN:DAYLIGHT
TZOFFSETFROM:-0800
TZOFFSETTO:-0700
TZNAME:PDT
DTSTART:20270314T100000
END:DAYLIGHT
BEGIN:STANDARD
TZOFFSETFROM:-0700
TZOFFSETTO:-0800
TZNAME:PST
DTSTART:20271107T090000
END:STANDARD
END:VTIMEZONE
BEGIN:VEVENT
DTSTART;TZID=America/Los_Angeles:20260202T130000
DTEND;TZID=America/Los_Angeles:20260202T133000
DTSTAMP:20260420T174612
CREATED:20250331T195339Z
LAST-MODIFIED:20250409T024235Z
UID:10025457-1770037200-1770039000@www.rivercal.org
SUMMARY:WLECN Monthly Neighborhood Emergency Radio Check-in
DESCRIPTION:West Lane Emergency Communications Network is a local neighborhood radio network that conducts a monthly radio check-in on the first Monday of each month at 1:00 pm PST. During an emergency where our normal communications services are compromised or eliminated\, this radio network would enable neighbors to communicate with each other\, other neighborhoods\, and the Emergency Operations Center (EOC) wherever it may be located. The radio check-in is conducted on GMRS (General Mobile Radio Service) channel 22\, utilising our repeater on Herman Peak north of Florence. While you can listen in on any GMRS radio on channel 22\, you must have a radio that can accept programming of send/receive offsets and tones (CH 22R (462.725MHz +5MHz offset  186.2Hz Tone).  Please contact Jay Guettler @ westlaneecn@gmail.com for more information or just join us on the radio at the listed time and date.
URL:https://www.rivercal.org/event/wlecn-monthly-neighborhood-emergency-radio-check-in/2026-02-02/
LOCATION:OR
END:VEVENT
BEGIN:VEVENT
DTSTART;TZID=America/Los_Angeles:20260202T160000
DTEND;TZID=America/Los_Angeles:20260202T170000
DTSTAMP:20260420T174612
CREATED:20260106T221912Z
LAST-MODIFIED:20260106T221912Z
UID:10030545-1770048000-1770051600@www.rivercal.org
SUMMARY:REFIT Low
DESCRIPTION:Get your body moving with a low-impact\, high-energy dance workout. Our class is filled with great music\, tons of laughs and a whole lot of grace. We’re about progress\, not perfection!\nNot a dancer? No worries. Our moves are simple and easy to catch on to. And if you get lost just groove to the music!\nIf you have kids\, bring them! We have two designated play areas (toddler and big kid) just off of the workout space with lots of toys.\nBring a water bottle and your sense of humor!
URL:https://www.rivercal.org/event/refit-low/2026-02-02/
LOCATION:Anchor of Hope Church\, 1318 Rhododendron Drive\, Florence\, OR\, 97439\, United States
CATEGORIES:Education/Classes
ATTACH;FMTTYPE=image/png:https://www.rivercal.org/wp-content/uploads/2026/01/Refit-RiverCal-1.png
GEO:43.9707637;-124.1071156
X-APPLE-STRUCTURED-LOCATION;VALUE=URI;X-ADDRESS=Anchor of Hope Church 1318 Rhododendron Drive Florence OR 97439 United States;X-APPLE-RADIUS=500;X-TITLE=1318 Rhododendron Drive:geo:-124.1071156,43.9707637
END:VEVENT
BEGIN:VEVENT
DTSTART;TZID=America/Los_Angeles:20260202T163000
DTEND;TZID=America/Los_Angeles:20260202T183000
DTSTAMP:20260420T174612
CREATED:20251105T213524Z
LAST-MODIFIED:20260201T234915Z
UID:10029638-1770049800-1770057000@www.rivercal.org
SUMMARY:MSD: MS Boys BB vs Falls City
DESCRIPTION:
URL:https://www.rivercal.org/event/msd-ms-boys-bb-vs-falls-city/
LOCATION:OR
CATEGORIES:Education/Classes
END:VEVENT
BEGIN:VEVENT
DTSTART;TZID=America/Los_Angeles:20260202T173000
DTEND;TZID=America/Los_Angeles:20260202T183000
DTSTAMP:20260420T174612
CREATED:20260106T222337Z
LAST-MODIFIED:20260106T222337Z
UID:10030805-1770053400-1770057000@www.rivercal.org
SUMMARY:REFIT High
DESCRIPTION:Get your sweat on with this high-impact\, high-energy cardio dance class. We love to push ourselves hard and watch our strength grow. Our class is filled with great music\, tons of laughs and a whole lot of grace. We’re about progress\, not perfection!\nNot a dancer? No worries. Our moves are simple and easy to catch on to. And if you get lost just groove to the music!\nIf you have kids\, bring them! We have two designated play areas (toddler and big kid) just off of the workout space with lots of toys.\nBring a water bottle and your sense of humor!
URL:https://www.rivercal.org/event/refit-high/2026-02-02/
LOCATION:Anchor of Hope Church\, 1318 Rhododendron Drive\, Florence\, OR\, 97439\, United States
CATEGORIES:Education/Classes
ATTACH;FMTTYPE=image/png:https://www.rivercal.org/wp-content/uploads/2026/01/Refit-RiverCal-1-1.png
GEO:43.9707637;-124.1071156
X-APPLE-STRUCTURED-LOCATION;VALUE=URI;X-ADDRESS=Anchor of Hope Church 1318 Rhododendron Drive Florence OR 97439 United States;X-APPLE-RADIUS=500;X-TITLE=1318 Rhododendron Drive:geo:-124.1071156,43.9707637
END:VEVENT
BEGIN:VEVENT
DTSTART;TZID=America/Los_Angeles:20260203T113000
DTEND;TZID=America/Los_Angeles:20260203T123000
DTSTAMP:20260420T174612
CREATED:20251024T013414Z
LAST-MODIFIED:20251024T013420Z
UID:10028859-1770118200-1770121800@www.rivercal.org
SUMMARY:FLorence Methodist Free Lunch Program
DESCRIPTION:Yes\, there is such a thing as a free lunch.  The Florence Methodist church has been providing a free lunch to anyone who wishes to come every Tuesday and Thursday for over 30 years.  Come enjoy a fresh-cooked meal in our dining room.  Lunch is served from 11:30 to 12:30 every Tuesday and Thursday.  We are located at 333 Kingwood St. in the Florence United Methodist Church (the yellow church).  Everyone is invited.  Come and bring a friend. \n(Note:  Lunch is served 11:30-12:30.  Don’t know why under “recurring events” it says 8:00)
URL:https://www.rivercal.org/event/florence-methodist-free-lunch-program/2026-02-03/
LOCATION:Florence United Methodist Church\, 333 Kingwood Ave\, Florence\, OR\, 97439\, United States
ATTACH;FMTTYPE=image/jpeg:https://www.rivercal.org/wp-content/uploads/2025/10/flyer-green-yes-free-lunch-1-1.jpg
GEO:43.969003;-124.109038
X-APPLE-STRUCTURED-LOCATION;VALUE=URI;X-ADDRESS=Florence United Methodist Church 333 Kingwood Ave Florence OR 97439 United States;X-APPLE-RADIUS=500;X-TITLE=333 Kingwood Ave:geo:-124.109038,43.969003
END:VEVENT
BEGIN:VEVENT
DTSTART;TZID=America/Los_Angeles:20260203T120000
DTEND;TZID=America/Los_Angeles:20260203T130000
DTSTAMP:20260420T174612
CREATED:20250319T205319Z
LAST-MODIFIED:20250527T170313Z
UID:10024958-1770120000-1770123600@www.rivercal.org
SUMMARY:Rotary Club of Florence Weekly Meeting
DESCRIPTION:Join us for our weekly Rotary meeting where we provide inspiring\, educational\, and informative programs for our members and their guests.
URL:https://www.rivercal.org/event/rotary-club-of-florence-weekly-meeting/2026-02-03/
LOCATION:Florence Events Center\, 715 Quince St\, Florence\, OR\, United States
CATEGORIES:Clubs & Organizations
ATTACH;FMTTYPE=image/jpeg:https://www.rivercal.org/wp-content/uploads/2025/03/Rotary-Club-of-Florence-Logo.jpg
GEO:43.973232;-124.101247
X-APPLE-STRUCTURED-LOCATION;VALUE=URI;X-ADDRESS=Florence Events Center 715 Quince St Florence OR United States;X-APPLE-RADIUS=500;X-TITLE=715 Quince St:geo:-124.101247,43.973232
END:VEVENT
BEGIN:VEVENT
DTSTART;TZID=America/Los_Angeles:20260204T103000
DTEND;TZID=America/Los_Angeles:20260204T120000
DTSTAMP:20260420T174612
CREATED:20250521T194426Z
LAST-MODIFIED:20250521T202224Z
UID:10021937-1770201000-1770206400@www.rivercal.org
SUMMARY:PPC Playgroup / Grupo de juego
DESCRIPTION:PPC Playgroup for parents/guardians and children 0-5 years’ of age. A safe and fun space to play with your child(ren)\, meet other families\, and make connections. Free! \nPPC Grupo de juego\n0-5 años\nMiércoles\, 10:30 a.m. a mediodía\n¡Encuentre una comunidad y haga conexiones con otras familias locales!\nllamar o enviar un mensaje de texto (541) 999-2427
URL:https://www.rivercal.org/event/fun-connections-playgroup-3/2026-02-04/
LOCATION:Pregnancy and Parenting Center\, 475 Laurel Street\, Florence\, OR\, 97439\, United States
ATTACH;FMTTYPE=image/png:https://www.rivercal.org/wp-content/uploads/2025/05/PPC-PlayGroup-2025.png
END:VEVENT
BEGIN:VEVENT
DTSTART;TZID=America/Los_Angeles:20260204T110000
DTEND;TZID=America/Los_Angeles:20260204T120000
DTSTAMP:20260420T174612
CREATED:20251203T193217Z
LAST-MODIFIED:20251203T193217Z
UID:10025727-1770202800-1770206400@www.rivercal.org
SUMMARY:Library Storytime (Mapleton)
DESCRIPTION:Join us for reading\, singing\, and crafts! Recommended for ages 0-5.
URL:https://www.rivercal.org/event/storytime-mapleton-2-2/2026-02-04/
LOCATION:Siuslaw Public Library – Mapleton\, 88148 Riverview Ave\, Mapleton\, OR\, 97453\, United States
CATEGORIES:-- Siuslaw Public Library District,Education/Classes,Government
ATTACH;FMTTYPE=image/png:https://www.rivercal.org/wp-content/uploads/2025/04/LibraryLogoStandard_color-web-300x205-1.png
ORGANIZER;CN="Siuslaw Public Library District":MAILTO:ref@siuslawlibrary.org
GEO:44.028368;-123.857932
X-APPLE-STRUCTURED-LOCATION;VALUE=URI;X-ADDRESS=Siuslaw Public Library – Mapleton 88148 Riverview Ave Mapleton OR 97453 United States;X-APPLE-RADIUS=500;X-TITLE=88148 Riverview Ave:geo:-123.857932,44.028368
END:VEVENT
BEGIN:VEVENT
DTSTART;TZID=America/Los_Angeles:20260204T163000
DTEND;TZID=America/Los_Angeles:20260204T183000
DTSTAMP:20260420T174612
CREATED:20251107T215034Z
LAST-MODIFIED:20260204T210443Z
UID:10029707-1770222600-1770229800@www.rivercal.org
SUMMARY:MSD: MS Boys BB vs Crow
DESCRIPTION:
URL:https://www.rivercal.org/event/msd-ms-boys-bb-vs-crow/
LOCATION:OR
CATEGORIES:Education/Classes
END:VEVENT
BEGIN:VEVENT
DTSTART;TZID=America/Los_Angeles:20260205T113000
DTEND;TZID=America/Los_Angeles:20260205T123000
DTSTAMP:20260420T174612
CREATED:20251024T013414Z
LAST-MODIFIED:20251024T013420Z
UID:10028860-1770291000-1770294600@www.rivercal.org
SUMMARY:FLorence Methodist Free Lunch Program
DESCRIPTION:Yes\, there is such a thing as a free lunch.  The Florence Methodist church has been providing a free lunch to anyone who wishes to come every Tuesday and Thursday for over 30 years.  Come enjoy a fresh-cooked meal in our dining room.  Lunch is served from 11:30 to 12:30 every Tuesday and Thursday.  We are located at 333 Kingwood St. in the Florence United Methodist Church (the yellow church).  Everyone is invited.  Come and bring a friend. \n(Note:  Lunch is served 11:30-12:30.  Don’t know why under “recurring events” it says 8:00)
URL:https://www.rivercal.org/event/florence-methodist-free-lunch-program/2026-02-05/
LOCATION:Florence United Methodist Church\, 333 Kingwood Ave\, Florence\, OR\, 97439\, United States
ATTACH;FMTTYPE=image/jpeg:https://www.rivercal.org/wp-content/uploads/2025/10/flyer-green-yes-free-lunch-1-1.jpg
GEO:43.969003;-124.109038
X-APPLE-STRUCTURED-LOCATION;VALUE=URI;X-ADDRESS=Florence United Methodist Church 333 Kingwood Ave Florence OR 97439 United States;X-APPLE-RADIUS=500;X-TITLE=333 Kingwood Ave:geo:-124.109038,43.969003
END:VEVENT
BEGIN:VEVENT
DTSTART;TZID=America/Los_Angeles:20260205T140000
DTEND;TZID=America/Los_Angeles:20260205T160000
DTSTAMP:20260420T174612
CREATED:20260204T230149Z
LAST-MODIFIED:20260204T233234Z
UID:10031835-1770300000-1770307200@www.rivercal.org
SUMMARY:FRAA Class: Creativity Through Play!
DESCRIPTION:Get creative for the New Year!\nJoin Greta for her Creativity Through Play!\nGreta likes to open up your creativity and try new things with acrylic paint.  No over thinking\, just doing!  Helps you see lots of new possibilities that you might try.\nThursdays\,  February 5\, 12\, 19 and 26\,  from 2:00–4:00 PM at the FRAA Creative Center\n$160 FRAA members | $200 non-members\nAll materials provided\nAll skill levels welcome\nRegister in person\, by phone\, or online at fraaoregon.org or call (541) 997-4435.\nHosted by Florence Regional Arts Alliance\n#FRAA #FlorenceOR #FlorenceArts #CreativeCenter #ArtClass #creativity     #DIYDecor #CommunityArts #AllLevelsWelcome #ArtInFlorence
URL:https://www.rivercal.org/event/fraa-class-creativity-through-play/2026-02-05/
LOCATION:FRAA Creative Center\, 1458 1st Street\, Florence\, OR\, 97439\, United States
ATTACH;FMTTYPE=image/png:https://www.rivercal.org/wp-content/uploads/2026/02/Creativity-Through-Play-3.png
ORGANIZER;CN="Florence Regional Arts Alliance":MAILTO:fraakristin@gmail.com
END:VEVENT
BEGIN:VEVENT
DTSTART;TZID=America/Los_Angeles:20260205T173000
DTEND;TZID=America/Los_Angeles:20260205T203000
DTSTAMP:20260420T174612
CREATED:20251108T215059Z
LAST-MODIFIED:20260205T211908Z
UID:10029708-1770312600-1770323400@www.rivercal.org
SUMMARY:MSD: HS BB vs Crow(Senior Night)
DESCRIPTION:
URL:https://www.rivercal.org/event/msd-hs-bb-vs-crow/
LOCATION:OR
CATEGORIES:Education/Classes
END:VEVENT
BEGIN:VEVENT
DTSTART;TZID=America/Los_Angeles:20260206T103000
DTEND;TZID=America/Los_Angeles:20260206T113000
DTSTAMP:20260420T174612
CREATED:20260128T201550Z
LAST-MODIFIED:20260128T201551Z
UID:10029845-1770373800-1770377400@www.rivercal.org
SUMMARY:Library Storytime (Florence)
DESCRIPTION:Join us for about 30 minutes of singing\, rhyming\, reading\, and play followed by a craft or project.
URL:https://www.rivercal.org/event/library-storytime-florence-2/2026-02-06/
LOCATION:Siuslaw Public Library – Florence\, 1460 9th Street\, Florence\, OR\, 97439\, United States
CATEGORIES:-- Siuslaw Public Library District
ATTACH;FMTTYPE=image/png:https://www.rivercal.org/wp-content/uploads/2023/10/FinalLogoTransparent.png
ORGANIZER;CN="Siuslaw Public Library District":MAILTO:ref@siuslawlibrary.org
GEO:43.974663;-124.10618
X-APPLE-STRUCTURED-LOCATION;VALUE=URI;X-ADDRESS=Siuslaw Public Library – Florence 1460 9th Street Florence OR 97439 United States;X-APPLE-RADIUS=500;X-TITLE=1460 9th Street:geo:-124.10618,43.974663
END:VEVENT
BEGIN:VEVENT
DTSTART;TZID=America/Los_Angeles:20260206T140000
DTEND;TZID=America/Los_Angeles:20260206T160000
DTSTAMP:20260420T174612
CREATED:20260204T230149Z
LAST-MODIFIED:20260204T233234Z
UID:10031836-1770386400-1770393600@www.rivercal.org
SUMMARY:FRAA Class: Creativity Through Play!
DESCRIPTION:Get creative for the New Year!\nJoin Greta for her Creativity Through Play!\nGreta likes to open up your creativity and try new things with acrylic paint.  No over thinking\, just doing!  Helps you see lots of new possibilities that you might try.\nThursdays\,  February 5\, 12\, 19 and 26\,  from 2:00–4:00 PM at the FRAA Creative Center\n$160 FRAA members | $200 non-members\nAll materials provided\nAll skill levels welcome\nRegister in person\, by phone\, or online at fraaoregon.org or call (541) 997-4435.\nHosted by Florence Regional Arts Alliance\n#FRAA #FlorenceOR #FlorenceArts #CreativeCenter #ArtClass #creativity     #DIYDecor #CommunityArts #AllLevelsWelcome #ArtInFlorence
URL:https://www.rivercal.org/event/fraa-class-creativity-through-play/2026-02-06/
LOCATION:FRAA Creative Center\, 1458 1st Street\, Florence\, OR\, 97439\, United States
ATTACH;FMTTYPE=image/png:https://www.rivercal.org/wp-content/uploads/2026/02/Creativity-Through-Play-3.png
ORGANIZER;CN="Florence Regional Arts Alliance":MAILTO:fraakristin@gmail.com
END:VEVENT
BEGIN:VEVENT
DTSTART;TZID=America/Los_Angeles:20260206T160000
DTEND;TZID=America/Los_Angeles:20260206T174500
DTSTAMP:20260420T174612
CREATED:20250827T192854Z
LAST-MODIFIED:20260326T184814Z
UID:10031805-1770393600-1770399900@www.rivercal.org
SUMMARY:Teen Dungeons & Dragons Club
DESCRIPTION:Teens and tweens\, join us for our Dungeons and Dragons quest at the library!
URL:https://www.rivercal.org/event/teen-dungeons-dragons-club-6/2026-02-06/
LOCATION:Siuslaw Public Library – Florence\, 1460 9th Street\, Florence\, OR\, 97439\, United States
CATEGORIES:-- Siuslaw Public Library District,Clubs & Organizations,Government,Recreation
ATTACH;FMTTYPE=image/png:https://www.rivercal.org/wp-content/uploads/2025/04/LibraryLogoStandard_color-web-300x205-8.png
ORGANIZER;CN="Siuslaw Public Library District":MAILTO:ref@siuslawlibrary.org
GEO:43.974663;-124.10618
X-APPLE-STRUCTURED-LOCATION;VALUE=URI;X-ADDRESS=Siuslaw Public Library – Florence 1460 9th Street Florence OR 97439 United States;X-APPLE-RADIUS=500;X-TITLE=1460 9th Street:geo:-124.10618,43.974663
END:VEVENT
BEGIN:VEVENT
DTSTART;TZID=America/Los_Angeles:20260206T160000
DTEND;TZID=America/Los_Angeles:20260206T190000
DTSTAMP:20260420T174612
CREATED:20260119T202557Z
LAST-MODIFIED:20260119T202557Z
UID:10031142-1770393600-1770404400@www.rivercal.org
SUMMARY:First Step Florence Pancake Dinner
DESCRIPTION:First Step Florence\, transitional housing for families\, is hosting a fundraiser pancake dinner on February 6 from 4- 7:00pm at the Presbyterian Church\, 3996 Hwy 101. Cost is $10 per person\, $25 for family of 4\, Kids under 4 eat free! Meal includes coffee\, tea\, orange juisce\, bacon & sausage.
URL:https://www.rivercal.org/event/first-step-florence-pancake-dinner-2/
LOCATION:Presbyterian Church of the Siuslaw\, 3996 US-101\, Florence\, OR 97439\, USA
ATTACH;FMTTYPE=image/jpeg:https://www.rivercal.org/wp-content/uploads/2026/01/JPG-First-Step-Pancake-Dinner-Feb-6.jpg
ORGANIZER;CN="First Step Florence Solutions for Housing Security":MAILTO:info@firststepflorence.org
END:VEVENT
BEGIN:VEVENT
DTSTART;TZID=America/Los_Angeles:20260206T170000
DTEND;TZID=America/Los_Angeles:20260206T200000
DTSTAMP:20260420T174612
CREATED:20250206T043220Z
LAST-MODIFIED:20260312T170722Z
UID:10024711-1770397200-1770408000@www.rivercal.org
SUMMARY:First Friday After Hours at the Studio
DESCRIPTION:Drop in at Serene Abundance Studio Space every First Friday evening of the month for our community focused After Hours event.  \nYou can look forward to displays of live painting from local and regional artists\, updates on what’s new with our Gallery\, classes and upcoming activities\, fun and danceable music\, an intimate and welcoming space for movement\, connecting and fun\, and of course our community potluck.  \nYou can also expect an open easel or two for you to join in the art making fun\, and the occasional special showcase or performance in a variety of wellness and expressive arts media.  \nAll ages hour between 5 to 6pm – BYOB afterwards. We will have coffee\, tea and water available in addition to refreshments.
URL:https://www.rivercal.org/event/sass-first-fridays/2026-02-06/
LOCATION:Serene Abundance Studio Space\, 148 Maple Street\, Suite B\, Florence\, OR\, 97439\, United States
CATEGORIES:Arts & Culture
ATTACH;FMTTYPE=image/jpeg:https://www.rivercal.org/wp-content/uploads/2025/02/SASS-First-Fridays-Medium-Banner-US-Landscape-scaled.jpg
ORGANIZER;CN="Serena Appel":MAILTO:inbox@sereneabundancemagic.com
END:VEVENT
BEGIN:VEVENT
DTSTART;TZID=America/Los_Angeles:20260207T130000
DTEND;TZID=America/Los_Angeles:20260207T140000
DTSTAMP:20260420T174612
CREATED:20260128T204817Z
LAST-MODIFIED:20260128T204817Z
UID:10031806-1770469200-1770472800@www.rivercal.org
SUMMARY:Georgia & Armenia: Life at a Crossroads
DESCRIPTION:Join Bill Benson and Vicki Sieber-Benson for a look at their recent trip to Georgia and Armenia. They will share photos and talk about their adventures in these countries at the crossroads of Europe and Asia. You’ll hear about architecture\, politics\, food\, and culture. Free and open to all. Sponsored by Siuslaw Public Library.
URL:https://www.rivercal.org/event/georgia-armenia-life-at-a-crossroads/
LOCATION:Siuslaw Public Library – Florence\, 1460 9th Street\, Florence\, OR\, 97439\, United States
CATEGORIES:-- Siuslaw Public Library District,Arts & Culture,Education/Classes,Government
ATTACH;FMTTYPE=image/jpeg:https://www.rivercal.org/wp-content/uploads/2026/01/Georgia-Armenia-Program-2026-landscape.jpg
ORGANIZER;CN="Siuslaw Public Library District":MAILTO:ref@siuslawlibrary.org
GEO:43.974663;-124.10618
X-APPLE-STRUCTURED-LOCATION;VALUE=URI;X-ADDRESS=Siuslaw Public Library – Florence 1460 9th Street Florence OR 97439 United States;X-APPLE-RADIUS=500;X-TITLE=1460 9th Street:geo:-124.10618,43.974663
END:VEVENT
BEGIN:VEVENT
DTSTART;TZID=America/Los_Angeles:20260207T133000
DTEND;TZID=America/Los_Angeles:20260207T160000
DTSTAMP:20260420T174612
CREATED:20260126T235908Z
LAST-MODIFIED:20260126T235908Z
UID:10031519-1770471000-1770480000@www.rivercal.org
SUMMARY:The Transformation Process ... being it\, experiencing it\, facilitating it.
DESCRIPTION:Florence Unitarian Universalist Fellowship (FUUF) \nFebruary 7\, 2026 – The Transformation Process – Being it; Experiencing it; Facilitating it!\nAll living systems experience periodic transformation—shifting from old stages of being into new ones that align more fully with a changing environment.  On Saturday\, February 7\, 2026 (1:30–4:00 PM)\, Dr. Ruth Miller will lead a seminar exploring the stages of transformation as identified by researchers across multiple disciplines.  This workshop is for anyone experiencing transition\, supporting others through change\, or seeking a shared understanding of transformation. \nFlorence Unitarian Universalist Fellowship\n87738 Highway 101 at Heceta Beach Road\nDoors open at 1:15; workshop begins at 1:30\nEveryone is welcome to join us\nFor more information\, please contact:  Sally Wantz ~ Florence.Unitarian@gmail.com
URL:https://www.rivercal.org/event/the-transformation-process-being-it-experiencing-it-facilitating-it/
LOCATION:OR
END:VEVENT
BEGIN:VEVENT
DTSTART;TZID=America/Los_Angeles:20260207T133000
DTEND;TZID=America/Los_Angeles:20260207T160000
DTSTAMP:20260420T174612
CREATED:20260205T204422Z
LAST-MODIFIED:20260205T204422Z
UID:10033665-1770471000-1770480000@www.rivercal.org
SUMMARY:Workshop to explore The Transformation Process
DESCRIPTION:February 7\, 2026 – The Transformation Process – Being it; Experiencing it; Facilitating it!\nAll living systems experience periodic transformation—shifting from old stages of being into new ones that align more fully with a changing environment.  On Saturday\, February 7\, 2026 (1:30–4:00 PM)\, Dr. Ruth Miller will lead a seminar exploring the stages of transformation as identified by researchers across multiple disciplines.  This workshop is for anyone experiencing transition\, supporting others through change\, or seeking a shared understanding of transformation. \nFlorence Unitarian Universalist Fellowship\n87738 Highway 101 at Heceta Beach Road\nDoors open at 1:15; workshop begins at 1:30\nEveryone is welcome to join us
URL:https://www.rivercal.org/event/workshop-to-explore-the-transformation-process/
LOCATION:OR
CATEGORIES:Education/Classes
END:VEVENT
BEGIN:VEVENT
DTSTART;TZID=America/Los_Angeles:20260207T140000
DTEND;TZID=America/Los_Angeles:20260207T160000
DTSTAMP:20260420T174612
CREATED:20260204T230149Z
LAST-MODIFIED:20260204T233234Z
UID:10031837-1770472800-1770480000@www.rivercal.org
SUMMARY:FRAA Class: Creativity Through Play!
DESCRIPTION:Get creative for the New Year!\nJoin Greta for her Creativity Through Play!\nGreta likes to open up your creativity and try new things with acrylic paint.  No over thinking\, just doing!  Helps you see lots of new possibilities that you might try.\nThursdays\,  February 5\, 12\, 19 and 26\,  from 2:00–4:00 PM at the FRAA Creative Center\n$160 FRAA members | $200 non-members\nAll materials provided\nAll skill levels welcome\nRegister in person\, by phone\, or online at fraaoregon.org or call (541) 997-4435.\nHosted by Florence Regional Arts Alliance\n#FRAA #FlorenceOR #FlorenceArts #CreativeCenter #ArtClass #creativity     #DIYDecor #CommunityArts #AllLevelsWelcome #ArtInFlorence
URL:https://www.rivercal.org/event/fraa-class-creativity-through-play/2026-02-07/
LOCATION:FRAA Creative Center\, 1458 1st Street\, Florence\, OR\, 97439\, United States
ATTACH;FMTTYPE=image/png:https://www.rivercal.org/wp-content/uploads/2026/02/Creativity-Through-Play-3.png
ORGANIZER;CN="Florence Regional Arts Alliance":MAILTO:fraakristin@gmail.com
END:VEVENT
END:VCALENDAR