BEGIN:VCALENDAR
VERSION:2.0
PRODID:-//RiverCal – Events in the Siuslaw Region - ECPv6.15.20//NONSGML v1.0//EN
CALSCALE:GREGORIAN
METHOD:PUBLISH
X-WR-CALNAME:RiverCal – Events in the Siuslaw Region
X-ORIGINAL-URL:https://www.rivercal.org
X-WR-CALDESC:Events for RiverCal – Events in the Siuslaw Region
REFRESH-INTERVAL;VALUE=DURATION:PT1H
X-Robots-Tag:noindex
X-PUBLISHED-TTL:PT1H
BEGIN:VTIMEZONE
TZID:America/Los_Angeles
BEGIN:DAYLIGHT
TZOFFSETFROM:-0800
TZOFFSETTO:-0700
TZNAME:PDT
DTSTART:20250309T100000
END:DAYLIGHT
BEGIN:STANDARD
TZOFFSETFROM:-0700
TZOFFSETTO:-0800
TZNAME:PST
DTSTART:20251102T090000
END:STANDARD
BEGIN:DAYLIGHT
TZOFFSETFROM:-0800
TZOFFSETTO:-0700
TZNAME:PDT
DTSTART:20260308T100000
END:DAYLIGHT
BEGIN:STANDARD
TZOFFSETFROM:-0700
TZOFFSETTO:-0800
TZNAME:PST
DTSTART:20261101T090000
END:STANDARD
BEGIN:DAYLIGHT
TZOFFSETFROM:-0800
TZOFFSETTO:-0700
TZNAME:PDT
DTSTART:20270314T100000
END:DAYLIGHT
BEGIN:STANDARD
TZOFFSETFROM:-0700
TZOFFSETTO:-0800
TZNAME:PST
DTSTART:20271107T090000
END:STANDARD
END:VTIMEZONE
BEGIN:VEVENT
DTSTART;TZID=America/Los_Angeles:20260401T080000
DTEND;TZID=America/Los_Angeles:20260504T170000
DTSTAMP:20260419T204658
CREATED:20260414T231002Z
LAST-MODIFIED:20260414T231449Z
UID:10034714-1775030400-1777914000@www.rivercal.org
SUMMARY:2026 Fresh Impressions Youth Art Exhibition
DESCRIPTION:  \nYou’re Invited! \nTake a Fresh Look at Youth Art!  \nGala Reception\, April 30th\, 2026: An Artists Reception and Awards Ceremony is planned for April 23rd from 5:00 to 7:00 PM\, with awards announced at 6:00 PM. This all-ages event is free and open to the public\, and visitors will have plenty of time to view the art\, enjoy refreshments\, chat with the artists\, and perhaps purchase one of their works.  \nProceeds from all art sales go directly to the Youth Artists.  \nInfo about the show: \nThe Gallery Committee of Florence Arts\, Culture & Entertainment (FACE)\, is thrilled to announce the 2026 Fresh Impressions Youth Art Exhibition is now open for viewing!  \nThis annual exhibition is a Florence favorite\, showcasing the incredible artistic skills of students at Siuslaw Middle and High Schools as well as area homeschool students.  \nShow Dates: April 1st to May 25th\, 2026. Make it a point to visit the FEC during business hours (8:30 AM – 5:00 PM\, weekdays) to view this exciting show with over 100 works on display. Galleries One and Five open to the public and admittance is free. Due to private events held at the FEC\, some locations may be temporarily closed to the public. Apologies for any inconvenience. \nFresh Impressions is a wonderful opportunity to embrace\, enrich\, and foster the talents of young artists in the Siuslaw Region. In addition to showcasing their artwork\, both the show and reception encourage them to excel at their studies\, learn what it takes to prepare artwork for a public gallery show\, and discover that — yes — our community really does care about the arts.  \nShow production is supported by art teachers Lauren Suveges (Siuslaw High School) and Christina Ory (Siuslaw Middle School) who have been instrumental in helping students provide art for this exhibit. Funding and other support for this exhibition has been provided by Kiwanis Club of Florence; Florence Arts\, Culture & Entertainment (FACE); Florence Events Center Gallery Committee (Jo Beaudreau\, John Leasure\, Rachel Pearson); Florence Events Center Staff (Tim Mendolia\, Matt Miller\, Kritzia Scaparo); BeauxArts Fine Art Materials\, and the Committee of Random Acts Kindness. \nPlease join us as we celebrate the achievements of these talented young artists! Contact the Florence Events Center\, 715 Quince Street\, 541-997-1994 or Jo Beaudreau at BeauxArts Fine Art Materials\, 541-991-8213\, for show questions.  \nThe Florence Arts\, Culture & Entertainment organization is an independent 501c3 non-profit in support of the Florence Events Center and all who use it. For more information or to volunteer\, please leave a message at 541-991-8811 or go to FlorenceArts.org. \n  \nMedia Folder for Show HERE: https://drive.google.com/drive/folders/1SCLpUXmgQR5Qk5f_-KDrveXVuqpcphfF?usp=drive_link \n 
URL:https://www.rivercal.org/event/2026-fresh-impressions-youth-art-exhibition/
LOCATION:Florence Events Center\, 715 Quince St\, Florence\, OR\, United States
CATEGORIES:-- Florence Events Center,-- Siuslaw School District,Arts & Culture,Education/Classes
ATTACH;FMTTYPE=image/png:https://www.rivercal.org/wp-content/uploads/2026/04/FEC-Poster-8.5-x-11-in.png
GEO:43.973232;-124.101247
X-APPLE-STRUCTURED-LOCATION;VALUE=URI;X-ADDRESS=Florence Events Center 715 Quince St Florence OR United States;X-APPLE-RADIUS=500;X-TITLE=715 Quince St:geo:-124.101247,43.973232
END:VEVENT
BEGIN:VEVENT
DTSTART;TZID=America/Los_Angeles:20260430T170000
DTEND;TZID=America/Los_Angeles:20260602T190000
DTSTAMP:20260419T204658
CREATED:20260414T223839Z
LAST-MODIFIED:20260414T230758Z
UID:10034713-1777568400-1780426800@www.rivercal.org
SUMMARY:2026 Fresh Impressions Youth Art Exhibition Reception
DESCRIPTION:  \nYou’re Invited! \nTake a Fresh Look at Youth Art!  \nGala Reception\, April 30th\, 2026: An Artists Reception and Awards Ceremony is planned for April 23rd from 5:00 to 7:00 PM\, with awards announced at 6:00 PM. This all-ages event is free and open to the public\, and visitors will have plenty of time to view the art\, enjoy refreshments\, chat with the artists\, and perhaps purchase one of their works.  \nProceeds from all art sales go directly to the Youth Artists.  \nInfo about the show: \nThe Gallery Committee of Florence Arts\, Culture & Entertainment (FACE)\, is thrilled to announce the 2026 Fresh Impressions Youth Art Exhibition is now open for viewing!  \nThis annual exhibition is a Florence favorite\, showcasing the incredible artistic skills of students at Siuslaw Middle and High Schools as well as area homeschool students.  \nShow Dates: April 1st to May 25th\, 2026. Make it a point to visit the FEC during business hours (8:30 AM – 5:00 PM\, weekdays) to view this exciting show with over 100 works on display. Galleries One and Five open to the public and admittance is free. Due to private events held at the FEC\, some locations may be temporarily closed to the public. Apologies for any inconvenience. \nFresh Impressions is a wonderful opportunity to embrace\, enrich\, and foster the talents of young artists in the Siuslaw Region. In addition to showcasing their artwork\, both the show and reception encourage them to excel at their studies\, learn what it takes to prepare artwork for a public gallery show\, and discover that — yes — our community really does care about the arts.  \nShow production is supported by art teachers Lauren Suveges (Siuslaw High School) and Christina Ory (Siuslaw Middle School) who have been instrumental in helping students provide art for this exhibit. Funding and other support for this exhibition has been provided by Kiwanis Club of Florence; Florence Arts\, Culture & Entertainment (FACE); Florence Events Center Gallery Committee (Jo Beaudreau\, John Leasure\, Rachel Pearson); Florence Events Center Staff (Tim Mendolia\, Matt Miller\, Kritzia Scaparo); BeauxArts Fine Art Materials\, and the Committee of Random Acts Kindness. \nPlease join us as we celebrate the achievements of these talented young artists! Contact the Florence Events Center\, 715 Quince Street\, 541-997-1994 or Jo Beaudreau at BeauxArts Fine Art Materials\, 541-991-8213\, for show questions.  \nThe Florence Arts\, Culture & Entertainment organization is an independent 501c3 non-profit in support of the Florence Events Center and all who use it. For more information or to volunteer\, please leave a message at 541-991-8811 or go to FlorenceArts.org. \n  \nMedia Folder for Show HERE: https://drive.google.com/drive/folders/1SCLpUXmgQR5Qk5f_-KDrveXVuqpcphfF?usp=drive_link \n 
URL:https://www.rivercal.org/event/2026freshimpressionsyouthartexhibitionreception/
LOCATION:Florence Events Center\, 715 Quince St\, Florence\, OR\, United States
CATEGORIES:-- Florence Events Center,-- Siuslaw School District,Arts & Culture,Education/Classes
ATTACH;FMTTYPE=image/png:https://www.rivercal.org/wp-content/uploads/2026/04/2026-Fresh-Impressions-Reception-Event-Poster-2.png
GEO:43.973232;-124.101247
X-APPLE-STRUCTURED-LOCATION;VALUE=URI;X-ADDRESS=Florence Events Center 715 Quince St Florence OR United States;X-APPLE-RADIUS=500;X-TITLE=715 Quince St:geo:-124.101247,43.973232
END:VEVENT
BEGIN:VEVENT
DTSTART;VALUE=DATE:20260601
DTEND;VALUE=DATE:20260602
DTSTAMP:20260419T204658
CREATED:20260403T220929Z
LAST-MODIFIED:20260403T220929Z
UID:10034626-1780272000-1780358399@www.rivercal.org
SUMMARY:Elm Park Call for Art Deadline
DESCRIPTION:DEADLINE: June 1st! \nApply Now! \nCall for Art\nElm Park Early Learning Center & Apartments \nElm Park Apartments and Elm Park Early Learning Center\, in partnership with Florence Regional Arts Alliance (FRAA) and BeauxArts Fine Art Materials\, is pleased to invite emerging\, mid-career\, and established artists to submit 2D &/or 3D original artwork for their property. \nElm Park Apartments is an affordable rental housing complex located at 1051 Greenwood Street\, and Elm Park Early Learning Center is a co-located four-classroom childcare center at 1001 Greenwood Street. Both are in the City of Florence\, north-west of the City of Florence Justice Center. The property is currently under construction\, with plans to install the art from this call upon completion of construction and the grand opening of the property. Additional information about this project and its impact on our community is listed at the end of the application under Background Information. \nThere are several locations for art on these properties\, and the call requests two types of art. Each location has specific dimensions and particular requirements. \n\n2D works will be purchased and placed in the Elm Park Apartments’ Community Room and Rental Office\, which will welcome visitors and residents\, and in the entry corridor of the Elm Park Early Learning Center\, which will welcome children and parents each morning. \n3D\, up to two possible locations for outdoor sculptural work that will be purchased and installed outside. One east of outside the Community Building and the other between Buildings D & E.\n\nThe Art selected for these locations will provide community pride\, give artists an opportunity to share their art in an area with high visibility and create a sense of place for our community members and visitors.  \nThere will be an Application & Project Presentation about this Call for Art on April 14\, 2026 from 5:30 to 6:30 p.m. at the FRAA Creative Center (1458 1st Street)\, right around the corner from the FRAA Gallery. The presentation will cover the Call for Art as well as the Elm Park Property and Development. \nApply and pass on this opportunity via the Florence Regional Arts Alliance Website: bit.ly/CallForElmParkArt \nDeadline to apply is June 1st\, 2026 at 11:59 p.m. For more information visit FRAAOregon.org or email the Elm Park Call for Art Email at ElmParkCallForArt@gmail.com.
URL:https://www.rivercal.org/event/elm-park-call-for-art-deadline/
LOCATION:Florence Regional Arts Alliance (FRAA)\, 120 Maple Street\, Florence\, OR\, 97439\, United States
CATEGORIES:Arts & Culture,Business
ATTACH;FMTTYPE=image/png:https://www.rivercal.org/wp-content/uploads/2026/04/Call-for-Art-Elm-Park.png
GEO:43.966982;-124.105391
X-APPLE-STRUCTURED-LOCATION;VALUE=URI;X-ADDRESS=Florence Regional Arts Alliance (FRAA) 120 Maple Street Florence OR 97439 United States;X-APPLE-RADIUS=500;X-TITLE=120 Maple Street:geo:-124.105391,43.966982
END:VEVENT
END:VCALENDAR