BEGIN:VCALENDAR
VERSION:2.0
PRODID:-//RiverCal – Events in the Siuslaw Region - ECPv6.15.20//NONSGML v1.0//EN
CALSCALE:GREGORIAN
METHOD:PUBLISH
X-ORIGINAL-URL:https://www.rivercal.org
X-WR-CALDESC:Events for RiverCal – Events in the Siuslaw Region
REFRESH-INTERVAL;VALUE=DURATION:PT1H
X-Robots-Tag:noindex
X-PUBLISHED-TTL:PT1H
BEGIN:VTIMEZONE
TZID:America/Los_Angeles
BEGIN:DAYLIGHT
TZOFFSETFROM:-0800
TZOFFSETTO:-0700
TZNAME:PDT
DTSTART:20220313T100000
END:DAYLIGHT
BEGIN:STANDARD
TZOFFSETFROM:-0700
TZOFFSETTO:-0800
TZNAME:PST
DTSTART:20221106T090000
END:STANDARD
BEGIN:DAYLIGHT
TZOFFSETFROM:-0800
TZOFFSETTO:-0700
TZNAME:PDT
DTSTART:20230312T100000
END:DAYLIGHT
BEGIN:STANDARD
TZOFFSETFROM:-0700
TZOFFSETTO:-0800
TZNAME:PST
DTSTART:20231105T090000
END:STANDARD
BEGIN:DAYLIGHT
TZOFFSETFROM:-0800
TZOFFSETTO:-0700
TZNAME:PDT
DTSTART:20240310T100000
END:DAYLIGHT
BEGIN:STANDARD
TZOFFSETFROM:-0700
TZOFFSETTO:-0800
TZNAME:PST
DTSTART:20241103T090000
END:STANDARD
END:VTIMEZONE
BEGIN:VEVENT
DTSTART;TZID=America/Los_Angeles:20230903T120000
DTEND;TZID=America/Los_Angeles:20230903T160000
DTSTAMP:20260420T001953
CREATED:20230628T230225Z
LAST-MODIFIED:20230825T182847Z
UID:10019102-1693742400-1693756800@www.rivercal.org
SUMMARY:Elements of Art Studio Tour
DESCRIPTION:Open Studio Art Tour Featuring Local Artists – Come see where the MAGIC HAPPENS	 \nOn September 2nd\, 3rd\, 16th\, and 17th Dragon Art and BeauxArts Fine Art Materials and Gallery are hosting the first annual Elements of Art Studio Tour and Artist Registry Event. \nParticipants will purchase a ticket which includes a catalogue of local artists with beautiful pictures of their studios\, artwork\, and information about how participants can contact them to order art. In addition\, participants will receive a passport to: tour local artist studios\, ask them questions\, buy art\, and see how and where art is produced in our area. Studios will be open from Noon-4 on each of the two weekends involved for the event. \nLearn more at ElementsOfArtStudioTour.com \nElements of Art Studio Tour Website: ElementsOfArtStudioTour.com\nElements of Art Studio Tour Facebook Page: facebook.com/elementsofartstudiotour\nElements of Art Studio Tour Facebook Event Page: bit.ly/ElementsOfArtStudioTourFBEvent \n  \nhttps://m.facebook.com/events/643611301003767?view=permalink&id=643611417670422&mibextid=Nif5oz
URL:https://www.rivercal.org/event/the-elements-of-art-studio-tour/2023-09-03/
CATEGORIES:-- City of Florence,-- Florence Area Chamber Member Event,Arts & Culture,Business,Education/Classes,Recreation
ATTACH;FMTTYPE=image/png:https://www.rivercal.org/wp-content/uploads/2023/08/Open-Studio-Tour-Image.png
ORGANIZER;CN="Elements of Art Studio Tour":MAILTO:elementsofartstudiotour@gmail.com
END:VEVENT
BEGIN:VEVENT
DTSTART;TZID=America/Los_Angeles:20230902T120000
DTEND;TZID=America/Los_Angeles:20230902T160000
DTSTAMP:20260420T001953
CREATED:20230628T230225Z
LAST-MODIFIED:20230825T182847Z
UID:10019101-1693656000-1693670400@www.rivercal.org
SUMMARY:Elements of Art Studio Tour
DESCRIPTION:Open Studio Art Tour Featuring Local Artists – Come see where the MAGIC HAPPENS	 \nOn September 2nd\, 3rd\, 16th\, and 17th Dragon Art and BeauxArts Fine Art Materials and Gallery are hosting the first annual Elements of Art Studio Tour and Artist Registry Event. \nParticipants will purchase a ticket which includes a catalogue of local artists with beautiful pictures of their studios\, artwork\, and information about how participants can contact them to order art. In addition\, participants will receive a passport to: tour local artist studios\, ask them questions\, buy art\, and see how and where art is produced in our area. Studios will be open from Noon-4 on each of the two weekends involved for the event. \nLearn more at ElementsOfArtStudioTour.com \nElements of Art Studio Tour Website: ElementsOfArtStudioTour.com\nElements of Art Studio Tour Facebook Page: facebook.com/elementsofartstudiotour\nElements of Art Studio Tour Facebook Event Page: bit.ly/ElementsOfArtStudioTourFBEvent \n  \nhttps://m.facebook.com/events/643611301003767?view=permalink&id=643611417670422&mibextid=Nif5oz
URL:https://www.rivercal.org/event/the-elements-of-art-studio-tour/2023-09-02/
CATEGORIES:-- City of Florence,-- Florence Area Chamber Member Event,Arts & Culture,Business,Education/Classes,Recreation
ATTACH;FMTTYPE=image/png:https://www.rivercal.org/wp-content/uploads/2023/08/Open-Studio-Tour-Image.png
ORGANIZER;CN="Elements of Art Studio Tour":MAILTO:elementsofartstudiotour@gmail.com
END:VEVENT
END:VCALENDAR