BEGIN:VCALENDAR
VERSION:2.0
PRODID:-//RiverCal – Events in the Siuslaw Region - ECPv6.15.20//NONSGML v1.0//EN
CALSCALE:GREGORIAN
METHOD:PUBLISH
X-WR-CALNAME:RiverCal – Events in the Siuslaw Region
X-ORIGINAL-URL:https://www.rivercal.org
X-WR-CALDESC:Events for RiverCal – Events in the Siuslaw Region
REFRESH-INTERVAL;VALUE=DURATION:PT1H
X-Robots-Tag:noindex
X-PUBLISHED-TTL:PT1H
BEGIN:VTIMEZONE
TZID:America/Los_Angeles
BEGIN:DAYLIGHT
TZOFFSETFROM:-0800
TZOFFSETTO:-0700
TZNAME:PDT
DTSTART:20250309T100000
END:DAYLIGHT
BEGIN:STANDARD
TZOFFSETFROM:-0700
TZOFFSETTO:-0800
TZNAME:PST
DTSTART:20251102T090000
END:STANDARD
BEGIN:DAYLIGHT
TZOFFSETFROM:-0800
TZOFFSETTO:-0700
TZNAME:PDT
DTSTART:20260308T100000
END:DAYLIGHT
BEGIN:STANDARD
TZOFFSETFROM:-0700
TZOFFSETTO:-0800
TZNAME:PST
DTSTART:20261101T090000
END:STANDARD
BEGIN:DAYLIGHT
TZOFFSETFROM:-0800
TZOFFSETTO:-0700
TZNAME:PDT
DTSTART:20270314T100000
END:DAYLIGHT
BEGIN:STANDARD
TZOFFSETFROM:-0700
TZOFFSETTO:-0800
TZNAME:PST
DTSTART:20271107T090000
END:STANDARD
END:VTIMEZONE
BEGIN:VEVENT
DTSTART;TZID=America/Los_Angeles:20260423T150000
DTEND;TZID=America/Los_Angeles:20260423T180000
DTSTAMP:20260421T065951
CREATED:20260306T003915Z
LAST-MODIFIED:20260306T004010Z
UID:10034172-1776956400-1776967200@www.rivercal.org
SUMMARY:Bridge Lane Florence
DESCRIPTION:Bridge Lane will take place Thursday\, April 23\, 2026\, from 3:00–6:00 pm at the Florence Events Center. \nThis event brings together hiring employers\, education and workforce training providers\, and community resource organizations to help reduce common barriers to employment and support successful job connections. Employers will have the opportunity to meet candidates seeking entry-level\, part-time\, full-time\, and training-supported positions in a welcoming\, low-pressure environment. \nBridge Lane is intentionally scheduled after school and work hours and is designed to be accessible for families\, students\, and individuals reentering the workforce. Supports such as\, child friendly activities\, and on-site resume assistance help ensure strong attendance and meaningful engagement with job seekers.
URL:https://www.rivercal.org/event/bridge-lane-florence/
LOCATION:FEC – SELECT Florence Events Center\, OR
ATTACH;FMTTYPE=image/png:https://www.rivercal.org/wp-content/uploads/2026/03/BRIDGE-LANE-FLORENCE-POSTER-Copy-2-scaled.png
ORGANIZER;CN="Collaborative EDO (Economic Development Organization)":MAILTO:info@collaborativeedo.org
END:VEVENT
END:VCALENDAR