BEGIN:VCALENDAR
VERSION:2.0
PRODID:-//RiverCal – Events in the Siuslaw Region - ECPv6.15.20//NONSGML v1.0//EN
CALSCALE:GREGORIAN
METHOD:PUBLISH
X-WR-CALNAME:RiverCal – Events in the Siuslaw Region
X-ORIGINAL-URL:https://www.rivercal.org
X-WR-CALDESC:Events for RiverCal – Events in the Siuslaw Region
REFRESH-INTERVAL;VALUE=DURATION:PT1H
X-Robots-Tag:noindex
X-PUBLISHED-TTL:PT1H
BEGIN:VTIMEZONE
TZID:America/Los_Angeles
BEGIN:DAYLIGHT
TZOFFSETFROM:-0800
TZOFFSETTO:-0700
TZNAME:PDT
DTSTART:20230312T100000
END:DAYLIGHT
BEGIN:STANDARD
TZOFFSETFROM:-0700
TZOFFSETTO:-0800
TZNAME:PST
DTSTART:20231105T090000
END:STANDARD
BEGIN:DAYLIGHT
TZOFFSETFROM:-0800
TZOFFSETTO:-0700
TZNAME:PDT
DTSTART:20240310T100000
END:DAYLIGHT
BEGIN:STANDARD
TZOFFSETFROM:-0700
TZOFFSETTO:-0800
TZNAME:PST
DTSTART:20241103T090000
END:STANDARD
BEGIN:DAYLIGHT
TZOFFSETFROM:-0800
TZOFFSETTO:-0700
TZNAME:PDT
DTSTART:20250309T100000
END:DAYLIGHT
BEGIN:STANDARD
TZOFFSETFROM:-0700
TZOFFSETTO:-0800
TZNAME:PST
DTSTART:20251102T090000
END:STANDARD
END:VTIMEZONE
BEGIN:VEVENT
DTSTART;TZID=America/Los_Angeles:20240420T084500
DTEND;TZID=America/Los_Angeles:20240420T140000
DTSTAMP:20260420T120125
CREATED:20240409T225445Z
LAST-MODIFIED:20240416T230417Z
UID:10021751-1713602700-1713621600@www.rivercal.org
SUMMARY:Women Build Event w/ Habitat
DESCRIPTION:2024 Women Build with Habitat for Humanity: Empower\, Build\, Transform \nUnite for Community Strength and StabilityWhat is Women Build? Habitat for Humanity’s Women Build has united volunteers since 1991\, creating safer\, stronger communities through the collective power of women. This program empowers women to lead and build\, providing stability and independence to families in need. \nOur Vision We empower women to actively shape their communities through construction. Habitat offers hands-on learning experiences\, equipping women with the skills to effect positive change and foster community development.Event Details for 2024 Mark your calendars for Florence Habitat’s Women Build on April 19 and 20. This event is an opportunity to learn\, build\, and connect with a community dedicated to positive change.Why Join Women Build? \nEmpowerment: Gain new skills in construction and leadership.Inclusivity: No construction experience? No problem! Everyone is welcome. \nRegistration Benefits \nComprehensive Training: Learn construction skills from experienced professionals.Lunch Provided: Stay energized with lunch included for all participants.Free T-Shirt: Wear your Women Build t-shirt with pride\, a symbol of your contribution and spirit. \nHow to Get Involved \nRegister: Participation requires registration to ensure a safe and organized experience.Everyone Welcome: Whether you’re new to construction or have years of experience\, your contribution is valuable. \nContact and Registration Ready to make a difference? Contact Ivy Rash at ivy@florencehabitat.org or visit FlorenceHabitat.org to register. Join us in empowering women and building communities\, one home at a time.Let’s build a future where every hand makes a difference\, together at the 2024 Women Build!
URL:https://www.rivercal.org/event/women-build-event-w-habitat-2/
LOCATION:2004/2016 Hwy 101 Florence\, OR 97439
END:VEVENT
BEGIN:VEVENT
DTSTART;TZID=America/Los_Angeles:20240419T084500
DTEND;TZID=America/Los_Angeles:20240419T140000
DTSTAMP:20260420T120125
CREATED:20240409T225445Z
LAST-MODIFIED:20240416T230417Z
UID:10021750-1713516300-1713535200@www.rivercal.org
SUMMARY:Women Build Event w/ Habitat
DESCRIPTION:2024 Women Build with Habitat for Humanity: Empower\, Build\, Transform \nUnite for Community Strength and StabilityWhat is Women Build? Habitat for Humanity’s Women Build has united volunteers since 1991\, creating safer\, stronger communities through the collective power of women. This program empowers women to lead and build\, providing stability and independence to families in need. \nOur Vision We empower women to actively shape their communities through construction. Habitat offers hands-on learning experiences\, equipping women with the skills to effect positive change and foster community development.Event Details for 2024 Mark your calendars for Florence Habitat’s Women Build on April 19 and 20. This event is an opportunity to learn\, build\, and connect with a community dedicated to positive change.Why Join Women Build? \nEmpowerment: Gain new skills in construction and leadership.Inclusivity: No construction experience? No problem! Everyone is welcome. \nRegistration Benefits \nComprehensive Training: Learn construction skills from experienced professionals.Lunch Provided: Stay energized with lunch included for all participants.Free T-Shirt: Wear your Women Build t-shirt with pride\, a symbol of your contribution and spirit. \nHow to Get Involved \nRegister: Participation requires registration to ensure a safe and organized experience.Everyone Welcome: Whether you’re new to construction or have years of experience\, your contribution is valuable. \nContact and Registration Ready to make a difference? Contact Ivy Rash at ivy@florencehabitat.org or visit FlorenceHabitat.org to register. Join us in empowering women and building communities\, one home at a time.Let’s build a future where every hand makes a difference\, together at the 2024 Women Build!
URL:https://www.rivercal.org/event/women-build-event-w-habitat/
LOCATION:2004/2016 Hwy 101 Florence\, OR 97439
END:VEVENT
END:VCALENDAR