BEGIN:VCALENDAR
VERSION:2.0
PRODID:-//RiverCal – Events in the Siuslaw Region - ECPv6.15.20//NONSGML v1.0//EN
CALSCALE:GREGORIAN
METHOD:PUBLISH
X-ORIGINAL-URL:https://www.rivercal.org
X-WR-CALDESC:Events for RiverCal – Events in the Siuslaw Region
REFRESH-INTERVAL;VALUE=DURATION:PT1H
X-Robots-Tag:noindex
X-PUBLISHED-TTL:PT1H
BEGIN:VTIMEZONE
TZID:America/Los_Angeles
BEGIN:DAYLIGHT
TZOFFSETFROM:-0800
TZOFFSETTO:-0700
TZNAME:PDT
DTSTART:20220313T100000
END:DAYLIGHT
BEGIN:STANDARD
TZOFFSETFROM:-0700
TZOFFSETTO:-0800
TZNAME:PST
DTSTART:20221106T090000
END:STANDARD
BEGIN:DAYLIGHT
TZOFFSETFROM:-0800
TZOFFSETTO:-0700
TZNAME:PDT
DTSTART:20230312T100000
END:DAYLIGHT
BEGIN:STANDARD
TZOFFSETFROM:-0700
TZOFFSETTO:-0800
TZNAME:PST
DTSTART:20231105T090000
END:STANDARD
BEGIN:DAYLIGHT
TZOFFSETFROM:-0800
TZOFFSETTO:-0700
TZNAME:PDT
DTSTART:20240310T100000
END:DAYLIGHT
BEGIN:STANDARD
TZOFFSETFROM:-0700
TZOFFSETTO:-0800
TZNAME:PST
DTSTART:20241103T090000
END:STANDARD
BEGIN:DAYLIGHT
TZOFFSETFROM:-0800
TZOFFSETTO:-0700
TZNAME:PDT
DTSTART:20250309T100000
END:DAYLIGHT
BEGIN:STANDARD
TZOFFSETFROM:-0700
TZOFFSETTO:-0800
TZNAME:PST
DTSTART:20251102T090000
END:STANDARD
BEGIN:DAYLIGHT
TZOFFSETFROM:-0800
TZOFFSETTO:-0700
TZNAME:PDT
DTSTART:20260308T100000
END:DAYLIGHT
BEGIN:STANDARD
TZOFFSETFROM:-0700
TZOFFSETTO:-0800
TZNAME:PST
DTSTART:20261101T090000
END:STANDARD
BEGIN:DAYLIGHT
TZOFFSETFROM:-0800
TZOFFSETTO:-0700
TZNAME:PDT
DTSTART:20270314T100000
END:DAYLIGHT
BEGIN:STANDARD
TZOFFSETFROM:-0700
TZOFFSETTO:-0800
TZNAME:PST
DTSTART:20271107T090000
END:STANDARD
END:VTIMEZONE
BEGIN:VEVENT
DTSTART;TZID=America/Los_Angeles:20260311T120000
DTEND;TZID=America/Los_Angeles:20260311T170000
DTSTAMP:20260419T223721
CREATED:20260223T194626Z
LAST-MODIFIED:20260223T194626Z
UID:10034059-1773230400-1773248400@www.rivercal.org
SUMMARY:Vintage Pop Up Paper & Ephemera Shop at BeauxArts Fine Art Materials
DESCRIPTION:  \nExplore Tables Filled with Paper Goods and Ephemera:\nPerfect for Journaling\, Scrapbooking\,\nMixed Media Art\, & Treasure Hunting. \nCome Dig\, Discover\, and Leave Inspired\nwith Your New Creative Treasures! \nMoorehead’s Vintage Pop Up Paper & Ephemera Shop at BeauxArts from Noon to 5pm on March 11th. \nCASH PREFERRED For Vendor \nQuestions? Stop by BeauxArts Fine Art Materials
URL:https://www.rivercal.org/event/vintage-pop-up-paper-ephemera-shop-at-beauxarts-fine-art-materials/
LOCATION:BeauxArts Fine Art Materials\, 2285 Highway 101\, Suite H (Coastal Fitness Plaza)\, Florence\, OR\, 97439\, United States
CATEGORIES:Arts & Culture,Business,Education/Classes
ATTACH;FMTTYPE=image/png:https://www.rivercal.org/wp-content/uploads/2026/02/Pop-up-Vintage-Paper-Ephemera-Shop-Mooreheads-March-11th-1920-x-1080-px-1.png
END:VEVENT
BEGIN:VEVENT
DTSTART;TZID=America/Los_Angeles:20250530T173000
DTEND;TZID=America/Los_Angeles:20250530T183000
DTSTAMP:20260419T223721
CREATED:20250517T181232Z
LAST-MODIFIED:20250517T181232Z
UID:10025859-1748626200-1748629800@www.rivercal.org
SUMMARY:Info Session & Call for Art - 2025 Elements of Art Studio Tour
DESCRIPTION:Info Session & Call for Artists for Local Studio Art Tour \nThe Elements of Art Studio Tour is kicking off this year to feature homegrown local artists.  This local creative partnership between Dragon Art Studio and BeauxArts Fine Art Materials has brought forth a creative cultural and economic opportunity for all types of creatives at all levels of skill for a Studio Tour. This self guided open studio tour takes place over two weeks in September (9/6-7 and 9/20-21 from noon to 4pm) to provide people ample opportunities to experience multiple locations. \nA call for artists to be in the Tour is going on now. Deadline to apply is June 16th\, 2025. Register and learn more at ElementsOfArtStudioTour.com. Artists may also apply later than the date but might miss the printed materials opportunity.  \nAn information session about the Open Studio Tour\, Elements of Art Studio Tour\, will be held on May 30th at 5:30pm at BeauxArts Fine Art Materials\, 2285 Highway 101\, Suite H in Florence. This session will share how the tour will work for artist participants and be an opportunity for people to sign up to be on the tour. \nArtists in the tour will have an opportunity to sell their art with no commission taken\, connect with patrons of the Arts and share their incredible talent\, while giving participants of the Tour a look into how and where the Artist creates – where the magic happens!  This experience provides Tour participants a fun and fresh look at their favorite local artists and chance to discover new Artists and their work. \nArtists will be showcased in an Artists Directory in print and online allowing patrons to be able to connect with Artists after the show for commission works\, further purchases and giving artists the opportunity to build their audience. If Artists only want to be listed in the Artists Directory\, that is an opportunity too. \nTour participants will be able to get their passports stamped for chances to win prizes and art.  For those patrons interested in visiting the tour locations\, passes can be purchased at ElementsOfArtStudioTour.com. \nPatrons of the Arts (and fellow Artists) have an opportunity to sponsor an Artist on the tour.  Our Directory of Artists and the Studio Tour is one way we hope to bring awareness\, business and collaboration to local artists. We are striving to keep costs low for Artists – any contributions will go towards paying artists fees into this event and towards the publishing and running of the artist registry\, website\, and programming for artists. You can also help by buying art when you are on the tour and later from our talented artists! \nBasic artist information will be needed to participate and compliance for family friendly art will be needed.  An opportunity to learn how to merchandise your work and sell will be provided to Artists before the tour. Contact The Elements of Art at ElementsOfArtStudioTour@gmail.com  (Kassy Keppol of Dragon Art Studio & Jo Beaudreau of BeauxArts Fine Art Materials) or visit the website\, ElementsOfArtStudioTour.com\, for more information. \n  \nPress Kit & Informational Links: \nElements of Art Studio Tour Website: ElementsOfArtStudioTour.com \nElements of Art Studio Tour Facebook Page: facebook.com/elementsofartstudiotour \nFacebook Event Link: facebook.com/share/18ynS41gqA/  \nMedia Packet with Logo and Press Releases: bit.ly/2025PressKitElementsOfArtStudioTour
URL:https://www.rivercal.org/event/info-session-call-for-art-2025-elements-of-art-studio-tour/
LOCATION:BeauxArts Fine Art Materials\, 2285 Highway 101\, Suite H (Coastal Fitness Plaza)\, Florence\, OR\, 97439\, United States
CATEGORIES:Arts & Culture,Business
ATTACH;FMTTYPE=image/png:https://www.rivercal.org/wp-content/uploads/2025/05/2025-Call-to-Artists-Info-Session-1.png
END:VEVENT
BEGIN:VEVENT
DTSTART;TZID=America/Los_Angeles:20240404T173000
DTEND;TZID=America/Los_Angeles:20240404T183000
DTSTAMP:20260419T223721
CREATED:20240225T002908Z
LAST-MODIFIED:20240225T002909Z
UID:10021126-1712251800-1712255400@www.rivercal.org
SUMMARY:Info Session & Call for Art - 2024 Elements of Art Studio Tour
DESCRIPTION:The Elements of Art Studio Tour is kicking off this year to feature homegrown local artists. This local creative partnership between Dragon Art Studio and BeauxArts Fine Art Materials has brought forth a creative cultural and economic opportunity for all types of creatives at all levels of skill for a Studio Tour. This self guided open studio tour takes place over two weeks in September (9/7-8 and 9/21-22 from noon to 4pm) to provide people ample opportunities to experience multiple locations. \nA call for artists to be in the Tour is going on now. Deadline to apply is May 1st. Register and learn more at ElementsOfArtStudioTour.com. Artists may also apply later than the date but might miss the printed materials opportunity.\nAn information session about the Open Studio Tour\, Elements of Art Studio Tour\, will be held on April 4th at 5:30pm at BeauxArts Fine Art Materials\, 2285 Highway 101\, Suite H in Florence. \nThis session will share how the tour will work for artist participants and be an opportunity for people to sign up to be on the tour.\n(Session will have virtual option\, please contact Organizers at ElementsOfArtStudioTour@gmail.com)\nArtists in the tour will have an opportunity to sell their art with no commission taken\, connect with patrons of the Arts and share their incredible talent\, while giving participants of the Tour a look into how and where the Artist creates – where the magic happens! This experience provides Tour participants a fun and fresh look at their favorite local artists and chance to discover new Artists and their work. \nArtists will be showcased in an Artists Directory in print and online allowing patrons to be able to connect with Artists after the show for commission works\, further purchases and giving artists the opportunity to build their audience. If Artists only want to be listed in the Artists Directory\, that is an opportunity too. \nTour participants will be able to get their passports stamped for chances to win prizes and art. For those patrons interested in visiting the tour locations\, passes can be purchased at ElementsOfArtStudioTour.com. \nPatrons of the Arts (and fellow Artists) have an opportunity to sponsor an Artist on the tour. Many of the artists in our area lost business and profits during the covid pandemic\, or have had trouble getting their businesses off the ground. Our Directory of Artists and the Studio Tour is one way we hope to bring business and collaboration to local artists. We are striving to keep costs low\, but donations will go towards paying artists fees into this event and towards the publishing and running of the artist registry\, website\, and programming for artists. You can also help by buying art when you are on the tour and later from our talented artists! \nBasic artist information will be needed to participate and compliance for family friendly art will be needed. An opportunity to learn how to merchandise your work and sell will be provided to Artists before the tour. Contact The Elements of Art at ElementsOfArtStudioTour@gmail.com (Kassy Keppol of Dragon Art Studio & Jo Beaudreau of BeauxArts Fine Art Materials) or visit the website\, ElementsOfArtStudioTour.com\, for more information
URL:https://www.rivercal.org/event/info-session-call-for-art-2024-elements-of-art-studio-tour/
LOCATION:BeauxArts Fine Art Materials\, 2285 Highway 101\, Suite H (Coastal Fitness Plaza)\, Florence\, OR\, 97439\, United States
ATTACH;FMTTYPE=image/png:https://www.rivercal.org/wp-content/uploads/2024/02/Still-Time-to-Sign-Up.png
END:VEVENT
BEGIN:VEVENT
DTSTART;TZID=America/Los_Angeles:20230906T093000
DTEND;TZID=America/Los_Angeles:20230906T120000
DTSTAMP:20260419T223721
CREATED:20230903T225515Z
LAST-MODIFIED:20230903T225515Z
UID:10019180-1693992600-1694001600@www.rivercal.org
SUMMARY:Explore Ink & Watercolor Landscape with Teakki
DESCRIPTION:Youth Artist Teakki would like to share his creative art style and watercolor experience with you! Learn his style and methods using ink and watercolor in a unique landscape composition (as seen in workshop poster). Let loose learning from a new perspective. This class is geared to adults. \nDate: 9/6/23\nTime: 9:30am to Noon\nLocation: BeauxArts Fine Art Materials (2285 Highway 101 Suite H – in the Coastal Fitness Plaza) \nRegistration is $60 per student.\nClass size is limited. \nQuality Supplies included with take home materials valued at over $60\, with an additional opportunity to purchase supplies used at a discount. \nAbout the Artist & Instructor\nTeakki is know in our local area for exploring art in various medium and his developing his style. He is interested in the tradition of sharing the knowledge of his skills with others. \nAbout the Studio\nThis Workshop will take place at BeauxArts Fine Art Materials\, your local discount Art supply\, studio space at the shop. This is a unique inspiring location that inspires people of all ages to be creative.  \nQuestions? Contact Jo Beaudreau at 541-991-8213 \nIs this class full? Can’t at to cart? Stop by or Call BeauxArts to sign up for the waiting list.
URL:https://www.rivercal.org/event/explore-ink-watercolor-landscape-with-teakki/
LOCATION:BeauxArts Fine Art Materials\, 2285 Highway 101\, Suite H (Coastal Fitness Plaza)\, Florence\, OR\, 97439\, United States
CATEGORIES:Arts & Culture,Education/Classes
ATTACH;FMTTYPE=image/png:https://www.rivercal.org/wp-content/uploads/2023/09/Teakki-Tree-Watercolor-Experiments-Workshop-Flyer-Facebook-Cover.png
END:VEVENT
BEGIN:VEVENT
DTSTART;TZID=America/Los_Angeles:20230830T180000
DTEND;TZID=America/Los_Angeles:20230830T190000
DTSTAMP:20260419T223721
CREATED:20230825T180342Z
LAST-MODIFIED:20230825T182454Z
UID:10017279-1693418400-1693422000@www.rivercal.org
SUMMARY:Info Session & Call for Art - Elements of Art Studio Tour
DESCRIPTION:The Elements of Art Studio Tour is kicking off this year to feature homegrown local artists.  This local creative partnership between Dragon Art Studio and BeauxArts Fine Art Materials has brought forth a creative cultural and economic opportunity for all types of creatives at all levels of skill for a Studio Tour. This self guided open studio tour takes place over two weeks in September (9/2-3 and 9/16-17 from noon to 4pm) to provide people ample opportunities to experience multiple locations. \nA call for artists to be in the Tour is going on now. Deadline to apply is August 30th. Register and learn more at ElementsOfArtStudioTour.com. Artists may also apply later than the date but might miss the printed materials opportunity.  \nAn information session about the Open Studio Tour\, Elements of Art Studio Tour\, will be held on August 30th at 6pm at BeauxArts Fine Art Materials\, 2285 Highway 101\, Suite H in Florence. This session will share how the tour will work for artist participants and be an opportunity for people to sign up to be in the tour. \nArtists in the tour will have an opportunity to sell their art with no commission taken\, connect with patrons of the Arts and share their incredible talent\, while giving participants of the Tour a look into how and where the Artist creates – where the magic happens!  This experience provides Tour participants a fun and fresh look at their favorite local artists and chance to discover new Artists and their work. \nArtists will be showcased in an Artists Directory in print and online allowing patrons to be able to connect with Artists after the show for commission works\, further purchases and giving artists the opportunity to build their audience. If Artists only want to be listed in the Artists Directory\, that is an opportunity too. \nTour participants will be able to get their passports stamped for chances to win prizes and art.   For those patrons interested in visiting the tour locations\, passes can be purchased at ElementsOfArtStudioTour.com. \nPatrons of the Arts (and fellow Artists) have an opportunity to sponsor an Artist on the tour.  Many of the artists in our area lost business and profits during the covid pandemic\, or have had trouble getting their businesses off the ground. Our Directory of Artists and the Studio Tour is one way we hope to bring business and collaboration to local artists. We are striving to keep costs low\, but donations will go towards paying artists fees into this event and towards the publishing and running of the artist registry\, website\, and programming for artists. You can also help by buying art when you are on the tour and later from our talented artists! \nBasic artist information will be needed to participate and compliance for family friendly art will be needed.  An opportunity to learn how to merchandise your work and sell will be provided to Artists before the tour. Contact The Elements of Art at ElementsOfArtStudioTour@gmail.com  (Kassy Keppol of Dragon Art Studio & Jo Beaudreau of BeauxArts Fine Art Materials) or visit the website\, ElementsOfArtStudioTour.com\, for more information. \nInformational Links:\nElements of Art Studio Tour Website: ElementsOfArtStudioTour.com\nElements of Art Studio Tour Facebook Page: facebook.com/elementsofartstudiotour\nElements of Art Studio Tour Facebook Event Page: bit.ly/ElementsOfArtStudioTourFBEvent
URL:https://www.rivercal.org/event/info-session-call-for-art-elements-of-art-studio-tour/
LOCATION:BeauxArts Fine Art Materials\, 2285 Highway 101\, Suite H (Coastal Fitness Plaza)\, Florence\, OR\, 97439\, United States
CATEGORIES:Arts & Culture,Business,Clubs & Organizations
ATTACH;FMTTYPE=image/png:https://www.rivercal.org/wp-content/uploads/2023/08/1.png
ORGANIZER;CN="Elements of Art Studio Tour":MAILTO:elementsofartstudiotour@gmail.com
END:VEVENT
END:VCALENDAR