BEGIN:VCALENDAR
VERSION:2.0
PRODID:-//RiverCal – Events in the Siuslaw Region - ECPv6.15.20//NONSGML v1.0//EN
CALSCALE:GREGORIAN
METHOD:PUBLISH
X-ORIGINAL-URL:https://www.rivercal.org
X-WR-CALDESC:Events for RiverCal – Events in the Siuslaw Region
REFRESH-INTERVAL;VALUE=DURATION:PT1H
X-Robots-Tag:noindex
X-PUBLISHED-TTL:PT1H
BEGIN:VTIMEZONE
TZID:America/Los_Angeles
BEGIN:DAYLIGHT
TZOFFSETFROM:-0800
TZOFFSETTO:-0700
TZNAME:PDT
DTSTART:20250309T100000
END:DAYLIGHT
BEGIN:STANDARD
TZOFFSETFROM:-0700
TZOFFSETTO:-0800
TZNAME:PST
DTSTART:20251102T090000
END:STANDARD
BEGIN:DAYLIGHT
TZOFFSETFROM:-0800
TZOFFSETTO:-0700
TZNAME:PDT
DTSTART:20260308T100000
END:DAYLIGHT
BEGIN:STANDARD
TZOFFSETFROM:-0700
TZOFFSETTO:-0800
TZNAME:PST
DTSTART:20261101T090000
END:STANDARD
BEGIN:DAYLIGHT
TZOFFSETFROM:-0800
TZOFFSETTO:-0700
TZNAME:PDT
DTSTART:20270314T100000
END:DAYLIGHT
BEGIN:STANDARD
TZOFFSETFROM:-0700
TZOFFSETTO:-0800
TZNAME:PST
DTSTART:20271107T090000
END:STANDARD
END:VTIMEZONE
BEGIN:VEVENT
DTSTART;TZID=America/Los_Angeles:20260425T100000
DTEND;TZID=America/Los_Angeles:20260425T140000
DTSTAMP:20260421T144408
CREATED:20260125T230510Z
LAST-MODIFIED:20260420T233406Z
UID:10031150-1777111200-1777125600@www.rivercal.org
SUMMARY:MSD: Mapleton Foodshare/Resource center
DESCRIPTION:Open for shopping for food\, basic need supplies and household needs. Last entry at 1:45
URL:https://www.rivercal.org/event/msd-mapleton-foodshare-resource-center-12/
LOCATION:Mapleton Food Share\, Mapleton\, OR\, United States
CATEGORIES:Education/Classes
GEO:44.010088;-123.901261
END:VEVENT
BEGIN:VEVENT
DTSTART;TZID=America/Los_Angeles:20260514T100000
DTEND;TZID=America/Los_Angeles:20260514T140000
DTSTAMP:20260421T144408
CREATED:20260213T220531Z
LAST-MODIFIED:20260420T233418Z
UID:10033672-1778752800-1778767200@www.rivercal.org
SUMMARY:MSD: Mapleton Foodshare/Resource center
DESCRIPTION:Open for shopping for food\, basic need supplies and household needs. Last entry at 1:45
URL:https://www.rivercal.org/event/msd-mapleton-foodshare-resource-center-13/
LOCATION:Mapleton Food Share\, Mapleton\, OR\, United States
CATEGORIES:Education/Classes
GEO:44.010088;-123.901261
END:VEVENT
BEGIN:VEVENT
DTSTART;TZID=America/Los_Angeles:20260530T100000
DTEND;TZID=America/Los_Angeles:20260530T140000
DTSTAMP:20260421T144408
CREATED:20260301T221950Z
LAST-MODIFIED:20260420T233431Z
UID:10034141-1780135200-1780149600@www.rivercal.org
SUMMARY:MSD: Mapleton Foodshare/Resource center
DESCRIPTION:Open for shopping for food\, basic need supplies and household needs. Last entry at 1:45
URL:https://www.rivercal.org/event/msd-mapleton-foodshare-resource-center-14/
LOCATION:Mapleton Food Share\, Mapleton\, OR\, United States
CATEGORIES:Education/Classes
GEO:44.010088;-123.901261
END:VEVENT
BEGIN:VEVENT
DTSTART;TZID=America/Los_Angeles:20260611T100000
DTEND;TZID=America/Los_Angeles:20260611T140000
DTSTAMP:20260421T144408
CREATED:20260313T232007Z
LAST-MODIFIED:20260420T233442Z
UID:10034190-1781172000-1781186400@www.rivercal.org
SUMMARY:MSD: Mapleton Foodshare/Resource center
DESCRIPTION:Open for shopping for food\, basic need supplies and household needs. Last entry at 1:45
URL:https://www.rivercal.org/event/msd-mapleton-foodshare-resource-center-15/
LOCATION:Mapleton Food Share\, Mapleton\, OR\, United States
CATEGORIES:Education/Classes
GEO:44.010088;-123.901261
END:VEVENT
BEGIN:VEVENT
DTSTART;TZID=America/Los_Angeles:20260627T100000
DTEND;TZID=America/Los_Angeles:20260627T140000
DTSTAMP:20260421T144408
CREATED:20260329T213459Z
LAST-MODIFIED:20260420T233443Z
UID:10034350-1782554400-1782568800@www.rivercal.org
SUMMARY:MSD: Mapleton Foodshare/Resource center
DESCRIPTION:Open for shopping for food\, basic need supplies and household needs. Last entry at 1:45
URL:https://www.rivercal.org/event/msd-mapleton-foodshare-resource-center-16/
LOCATION:Mapleton Food Share\, Mapleton\, OR\, United States
CATEGORIES:Education/Classes
GEO:44.010088;-123.901261
END:VEVENT
BEGIN:VEVENT
DTSTART;TZID=America/Los_Angeles:20260709T100000
DTEND;TZID=America/Los_Angeles:20260709T140000
DTSTAMP:20260421T144408
CREATED:20260410T221957Z
LAST-MODIFIED:20260420T233443Z
UID:10034696-1783591200-1783605600@www.rivercal.org
SUMMARY:MSD: Mapleton Foodshare/Resource center
DESCRIPTION:Open for shopping for food\, basic need supplies and household needs. Last entry at 1:45
URL:https://www.rivercal.org/event/msd-mapleton-foodshare-resource-center-17/
LOCATION:Mapleton Food Share\, Mapleton\, OR\, United States
CATEGORIES:Education/Classes
GEO:44.010088;-123.901261
END:VEVENT
END:VCALENDAR