BEGIN:VCALENDAR
VERSION:2.0
PRODID:-//RiverCal – Events in the Siuslaw Region - ECPv6.15.20//NONSGML v1.0//EN
CALSCALE:GREGORIAN
METHOD:PUBLISH
X-WR-CALNAME:RiverCal – Events in the Siuslaw Region
X-ORIGINAL-URL:https://www.rivercal.org
X-WR-CALDESC:Events for RiverCal – Events in the Siuslaw Region
REFRESH-INTERVAL;VALUE=DURATION:PT1H
X-Robots-Tag:noindex
X-PUBLISHED-TTL:PT1H
BEGIN:VTIMEZONE
TZID:America/Los_Angeles
BEGIN:DAYLIGHT
TZOFFSETFROM:-0800
TZOFFSETTO:-0700
TZNAME:PDT
DTSTART:20240310T100000
END:DAYLIGHT
BEGIN:STANDARD
TZOFFSETFROM:-0700
TZOFFSETTO:-0800
TZNAME:PST
DTSTART:20241103T090000
END:STANDARD
BEGIN:DAYLIGHT
TZOFFSETFROM:-0800
TZOFFSETTO:-0700
TZNAME:PDT
DTSTART:20250309T100000
END:DAYLIGHT
BEGIN:STANDARD
TZOFFSETFROM:-0700
TZOFFSETTO:-0800
TZNAME:PST
DTSTART:20251102T090000
END:STANDARD
BEGIN:DAYLIGHT
TZOFFSETFROM:-0800
TZOFFSETTO:-0700
TZNAME:PDT
DTSTART:20260308T100000
END:DAYLIGHT
BEGIN:STANDARD
TZOFFSETFROM:-0700
TZOFFSETTO:-0800
TZNAME:PST
DTSTART:20261101T090000
END:STANDARD
END:VTIMEZONE
BEGIN:VEVENT
DTSTART;TZID=America/Los_Angeles:20250326T103000
DTEND;TZID=America/Los_Angeles:20250326T120000
DTSTAMP:20260421T113903
CREATED:20241230T175243Z
LAST-MODIFIED:20241230T175243Z
UID:10024227-1742985000-1742990400@www.rivercal.org
SUMMARY:Playgroup for Families @ the Pregnancy & Parenting Center
DESCRIPTION:
URL:https://www.rivercal.org/event/playgroup-for-families-the-pregnancy-parenting-center-76/
LOCATION:Pregnancy and Parenting Center\, 1525 12th Street\, Suite G (in Florence Business Center)\, Florence\, 97439
END:VEVENT
BEGIN:VEVENT
DTSTART;TZID=America/Los_Angeles:20250312T103000
DTEND;TZID=America/Los_Angeles:20250312T120000
DTSTAMP:20260421T113903
CREATED:20241230T175226Z
LAST-MODIFIED:20241230T175226Z
UID:10024217-1741775400-1741780800@www.rivercal.org
SUMMARY:Playgroup for Families @ the Pregnancy & Parenting Center
DESCRIPTION:
URL:https://www.rivercal.org/event/playgroup-for-families-the-pregnancy-parenting-center-74/
LOCATION:Pregnancy and Parenting Center\, 1525 12th Street\, Suite G (in Florence Business Center)\, Florence\, 97439
END:VEVENT
BEGIN:VEVENT
DTSTART;TZID=America/Los_Angeles:20250305T103000
DTEND;TZID=America/Los_Angeles:20250305T120000
DTSTAMP:20260421T113903
CREATED:20241230T175208Z
LAST-MODIFIED:20241230T175208Z
UID:10024211-1741170600-1741176000@www.rivercal.org
SUMMARY:Playgroup for Families @ the Pregnancy & Parenting Center
DESCRIPTION:
URL:https://www.rivercal.org/event/playgroup-for-families-the-pregnancy-parenting-center-73/
LOCATION:Pregnancy and Parenting Center\, 1525 12th Street\, Suite G (in Florence Business Center)\, Florence\, 97439
END:VEVENT
END:VCALENDAR