BEGIN:VCALENDAR
VERSION:2.0
PRODID:-//RiverCal – Events in the Siuslaw Region - ECPv6.15.20//NONSGML v1.0//EN
CALSCALE:GREGORIAN
METHOD:PUBLISH
X-WR-CALNAME:RiverCal – Events in the Siuslaw Region
X-ORIGINAL-URL:https://www.rivercal.org
X-WR-CALDESC:Events for RiverCal – Events in the Siuslaw Region
REFRESH-INTERVAL;VALUE=DURATION:PT1H
X-Robots-Tag:noindex
X-PUBLISHED-TTL:PT1H
BEGIN:VTIMEZONE
TZID:America/Los_Angeles
BEGIN:DAYLIGHT
TZOFFSETFROM:-0800
TZOFFSETTO:-0700
TZNAME:PDT
DTSTART:20220313T100000
END:DAYLIGHT
BEGIN:STANDARD
TZOFFSETFROM:-0700
TZOFFSETTO:-0800
TZNAME:PST
DTSTART:20221106T090000
END:STANDARD
BEGIN:DAYLIGHT
TZOFFSETFROM:-0800
TZOFFSETTO:-0700
TZNAME:PDT
DTSTART:20230312T100000
END:DAYLIGHT
BEGIN:STANDARD
TZOFFSETFROM:-0700
TZOFFSETTO:-0800
TZNAME:PST
DTSTART:20231105T090000
END:STANDARD
BEGIN:DAYLIGHT
TZOFFSETFROM:-0800
TZOFFSETTO:-0700
TZNAME:PDT
DTSTART:20240310T100000
END:DAYLIGHT
BEGIN:STANDARD
TZOFFSETFROM:-0700
TZOFFSETTO:-0800
TZNAME:PST
DTSTART:20241103T090000
END:STANDARD
BEGIN:DAYLIGHT
TZOFFSETFROM:-0800
TZOFFSETTO:-0700
TZNAME:PDT
DTSTART:20250309T100000
END:DAYLIGHT
BEGIN:STANDARD
TZOFFSETFROM:-0700
TZOFFSETTO:-0800
TZNAME:PST
DTSTART:20251102T090000
END:STANDARD
END:VTIMEZONE
BEGIN:VEVENT
DTSTART;TZID=America/Los_Angeles:20240822T130000
DTEND;TZID=America/Los_Angeles:20240822T143000
DTSTAMP:20260420T003632
CREATED:20230911T231942Z
LAST-MODIFIED:20230911T231942Z
UID:10019216-1724331600-1724337000@www.rivercal.org
SUMMARY:Parkinson's Disease Support Group
DESCRIPTION:This support group meets on the 4th Thursday of the month at 1:00pm at St. Andrew’s Episcopal\, 2125 19th St in Florence.  It is open to people with Parkinson’s\, care partners\, family\, and friends.  If you are interested in attending\, please reach out to JoAnne (541.633.3330) prior to attending your first meeting.
URL:https://www.rivercal.org/event/parkinsons-disease-support-group/2024-08-22/
LOCATION:St. Andrew’s Episcopal Church\, 2136 19th Street\, Florence\, OR\, 97439\, United States
ATTACH;FMTTYPE=image/png:https://www.rivercal.org/wp-content/uploads/2023/09/logo-color-tagline.png
ORGANIZER;CN="Nonprofit Association of Oregon":MAILTO:training@nonprofitoregon.org
GEO:43.9831709;-124.0970376
X-APPLE-STRUCTURED-LOCATION;VALUE=URI;X-ADDRESS=St. Andrew’s Episcopal Church 2136 19th Street Florence OR 97439 United States;X-APPLE-RADIUS=500;X-TITLE=2136 19th Street:geo:-124.0970376,43.9831709
END:VEVENT
BEGIN:VEVENT
DTSTART;TZID=America/Los_Angeles:20240725T130000
DTEND;TZID=America/Los_Angeles:20240725T143000
DTSTAMP:20260420T003632
CREATED:20230911T231942Z
LAST-MODIFIED:20230911T231942Z
UID:10019215-1721912400-1721917800@www.rivercal.org
SUMMARY:Parkinson's Disease Support Group
DESCRIPTION:This support group meets on the 4th Thursday of the month at 1:00pm at St. Andrew’s Episcopal\, 2125 19th St in Florence.  It is open to people with Parkinson’s\, care partners\, family\, and friends.  If you are interested in attending\, please reach out to JoAnne (541.633.3330) prior to attending your first meeting.
URL:https://www.rivercal.org/event/parkinsons-disease-support-group/2024-07-25/
LOCATION:St. Andrew’s Episcopal Church\, 2136 19th Street\, Florence\, OR\, 97439\, United States
ATTACH;FMTTYPE=image/png:https://www.rivercal.org/wp-content/uploads/2023/09/logo-color-tagline.png
ORGANIZER;CN="Nonprofit Association of Oregon":MAILTO:training@nonprofitoregon.org
GEO:43.9831709;-124.0970376
X-APPLE-STRUCTURED-LOCATION;VALUE=URI;X-ADDRESS=St. Andrew’s Episcopal Church 2136 19th Street Florence OR 97439 United States;X-APPLE-RADIUS=500;X-TITLE=2136 19th Street:geo:-124.0970376,43.9831709
END:VEVENT
BEGIN:VEVENT
DTSTART;TZID=America/Los_Angeles:20240627T130000
DTEND;TZID=America/Los_Angeles:20240627T143000
DTSTAMP:20260420T003632
CREATED:20230911T231942Z
LAST-MODIFIED:20230911T231942Z
UID:10019214-1719493200-1719498600@www.rivercal.org
SUMMARY:Parkinson's Disease Support Group
DESCRIPTION:This support group meets on the 4th Thursday of the month at 1:00pm at St. Andrew’s Episcopal\, 2125 19th St in Florence.  It is open to people with Parkinson’s\, care partners\, family\, and friends.  If you are interested in attending\, please reach out to JoAnne (541.633.3330) prior to attending your first meeting.
URL:https://www.rivercal.org/event/parkinsons-disease-support-group/2024-06-27/
LOCATION:St. Andrew’s Episcopal Church\, 2136 19th Street\, Florence\, OR\, 97439\, United States
ATTACH;FMTTYPE=image/png:https://www.rivercal.org/wp-content/uploads/2023/09/logo-color-tagline.png
ORGANIZER;CN="Nonprofit Association of Oregon":MAILTO:training@nonprofitoregon.org
GEO:43.9831709;-124.0970376
X-APPLE-STRUCTURED-LOCATION;VALUE=URI;X-ADDRESS=St. Andrew’s Episcopal Church 2136 19th Street Florence OR 97439 United States;X-APPLE-RADIUS=500;X-TITLE=2136 19th Street:geo:-124.0970376,43.9831709
END:VEVENT
BEGIN:VEVENT
DTSTART;TZID=America/Los_Angeles:20240523T130000
DTEND;TZID=America/Los_Angeles:20240523T143000
DTSTAMP:20260420T003632
CREATED:20230911T231942Z
LAST-MODIFIED:20230911T231942Z
UID:10019213-1716469200-1716474600@www.rivercal.org
SUMMARY:Parkinson's Disease Support Group
DESCRIPTION:This support group meets on the 4th Thursday of the month at 1:00pm at St. Andrew’s Episcopal\, 2125 19th St in Florence.  It is open to people with Parkinson’s\, care partners\, family\, and friends.  If you are interested in attending\, please reach out to JoAnne (541.633.3330) prior to attending your first meeting.
URL:https://www.rivercal.org/event/parkinsons-disease-support-group/2024-05-23/
LOCATION:St. Andrew’s Episcopal Church\, 2136 19th Street\, Florence\, OR\, 97439\, United States
ATTACH;FMTTYPE=image/png:https://www.rivercal.org/wp-content/uploads/2023/09/logo-color-tagline.png
ORGANIZER;CN="Nonprofit Association of Oregon":MAILTO:training@nonprofitoregon.org
GEO:43.9831709;-124.0970376
X-APPLE-STRUCTURED-LOCATION;VALUE=URI;X-ADDRESS=St. Andrew’s Episcopal Church 2136 19th Street Florence OR 97439 United States;X-APPLE-RADIUS=500;X-TITLE=2136 19th Street:geo:-124.0970376,43.9831709
END:VEVENT
BEGIN:VEVENT
DTSTART;TZID=America/Los_Angeles:20240425T130000
DTEND;TZID=America/Los_Angeles:20240425T143000
DTSTAMP:20260420T003632
CREATED:20230911T231942Z
LAST-MODIFIED:20230911T231942Z
UID:10019212-1714050000-1714055400@www.rivercal.org
SUMMARY:Parkinson's Disease Support Group
DESCRIPTION:This support group meets on the 4th Thursday of the month at 1:00pm at St. Andrew’s Episcopal\, 2125 19th St in Florence.  It is open to people with Parkinson’s\, care partners\, family\, and friends.  If you are interested in attending\, please reach out to JoAnne (541.633.3330) prior to attending your first meeting.
URL:https://www.rivercal.org/event/parkinsons-disease-support-group/2024-04-25/
LOCATION:St. Andrew’s Episcopal Church\, 2136 19th Street\, Florence\, OR\, 97439\, United States
ATTACH;FMTTYPE=image/png:https://www.rivercal.org/wp-content/uploads/2023/09/logo-color-tagline.png
ORGANIZER;CN="Nonprofit Association of Oregon":MAILTO:training@nonprofitoregon.org
GEO:43.9831709;-124.0970376
X-APPLE-STRUCTURED-LOCATION;VALUE=URI;X-ADDRESS=St. Andrew’s Episcopal Church 2136 19th Street Florence OR 97439 United States;X-APPLE-RADIUS=500;X-TITLE=2136 19th Street:geo:-124.0970376,43.9831709
END:VEVENT
BEGIN:VEVENT
DTSTART;TZID=America/Los_Angeles:20240328T130000
DTEND;TZID=America/Los_Angeles:20240328T143000
DTSTAMP:20260420T003632
CREATED:20230911T231942Z
LAST-MODIFIED:20230911T231942Z
UID:10019211-1711630800-1711636200@www.rivercal.org
SUMMARY:Parkinson's Disease Support Group
DESCRIPTION:This support group meets on the 4th Thursday of the month at 1:00pm at St. Andrew’s Episcopal\, 2125 19th St in Florence.  It is open to people with Parkinson’s\, care partners\, family\, and friends.  If you are interested in attending\, please reach out to JoAnne (541.633.3330) prior to attending your first meeting.
URL:https://www.rivercal.org/event/parkinsons-disease-support-group/2024-03-28/
LOCATION:St. Andrew’s Episcopal Church\, 2136 19th Street\, Florence\, OR\, 97439\, United States
ATTACH;FMTTYPE=image/png:https://www.rivercal.org/wp-content/uploads/2023/09/logo-color-tagline.png
ORGANIZER;CN="Nonprofit Association of Oregon":MAILTO:training@nonprofitoregon.org
GEO:43.9831709;-124.0970376
X-APPLE-STRUCTURED-LOCATION;VALUE=URI;X-ADDRESS=St. Andrew’s Episcopal Church 2136 19th Street Florence OR 97439 United States;X-APPLE-RADIUS=500;X-TITLE=2136 19th Street:geo:-124.0970376,43.9831709
END:VEVENT
BEGIN:VEVENT
DTSTART;TZID=America/Los_Angeles:20240222T130000
DTEND;TZID=America/Los_Angeles:20240222T143000
DTSTAMP:20260420T003632
CREATED:20230911T231942Z
LAST-MODIFIED:20230911T231942Z
UID:10019210-1708606800-1708612200@www.rivercal.org
SUMMARY:Parkinson's Disease Support Group
DESCRIPTION:This support group meets on the 4th Thursday of the month at 1:00pm at St. Andrew’s Episcopal\, 2125 19th St in Florence.  It is open to people with Parkinson’s\, care partners\, family\, and friends.  If you are interested in attending\, please reach out to JoAnne (541.633.3330) prior to attending your first meeting.
URL:https://www.rivercal.org/event/parkinsons-disease-support-group/2024-02-22/
LOCATION:St. Andrew’s Episcopal Church\, 2136 19th Street\, Florence\, OR\, 97439\, United States
ATTACH;FMTTYPE=image/png:https://www.rivercal.org/wp-content/uploads/2023/09/logo-color-tagline.png
ORGANIZER;CN="Nonprofit Association of Oregon":MAILTO:training@nonprofitoregon.org
GEO:43.9831709;-124.0970376
X-APPLE-STRUCTURED-LOCATION;VALUE=URI;X-ADDRESS=St. Andrew’s Episcopal Church 2136 19th Street Florence OR 97439 United States;X-APPLE-RADIUS=500;X-TITLE=2136 19th Street:geo:-124.0970376,43.9831709
END:VEVENT
BEGIN:VEVENT
DTSTART;TZID=America/Los_Angeles:20240125T130000
DTEND;TZID=America/Los_Angeles:20240125T143000
DTSTAMP:20260420T003632
CREATED:20230911T231942Z
LAST-MODIFIED:20230911T231942Z
UID:10019209-1706187600-1706193000@www.rivercal.org
SUMMARY:Parkinson's Disease Support Group
DESCRIPTION:This support group meets on the 4th Thursday of the month at 1:00pm at St. Andrew’s Episcopal\, 2125 19th St in Florence.  It is open to people with Parkinson’s\, care partners\, family\, and friends.  If you are interested in attending\, please reach out to JoAnne (541.633.3330) prior to attending your first meeting.
URL:https://www.rivercal.org/event/parkinsons-disease-support-group/2024-01-25/
LOCATION:St. Andrew’s Episcopal Church\, 2136 19th Street\, Florence\, OR\, 97439\, United States
ATTACH;FMTTYPE=image/png:https://www.rivercal.org/wp-content/uploads/2023/09/logo-color-tagline.png
ORGANIZER;CN="Nonprofit Association of Oregon":MAILTO:training@nonprofitoregon.org
GEO:43.9831709;-124.0970376
X-APPLE-STRUCTURED-LOCATION;VALUE=URI;X-ADDRESS=St. Andrew’s Episcopal Church 2136 19th Street Florence OR 97439 United States;X-APPLE-RADIUS=500;X-TITLE=2136 19th Street:geo:-124.0970376,43.9831709
END:VEVENT
BEGIN:VEVENT
DTSTART;TZID=America/Los_Angeles:20231228T130000
DTEND;TZID=America/Los_Angeles:20231228T143000
DTSTAMP:20260420T003632
CREATED:20230911T231942Z
LAST-MODIFIED:20230911T231942Z
UID:10019208-1703768400-1703773800@www.rivercal.org
SUMMARY:Parkinson's Disease Support Group
DESCRIPTION:This support group meets on the 4th Thursday of the month at 1:00pm at St. Andrew’s Episcopal\, 2125 19th St in Florence.  It is open to people with Parkinson’s\, care partners\, family\, and friends.  If you are interested in attending\, please reach out to JoAnne (541.633.3330) prior to attending your first meeting.
URL:https://www.rivercal.org/event/parkinsons-disease-support-group/2023-12-28/
LOCATION:St. Andrew’s Episcopal Church\, 2136 19th Street\, Florence\, OR\, 97439\, United States
ATTACH;FMTTYPE=image/png:https://www.rivercal.org/wp-content/uploads/2023/09/logo-color-tagline.png
ORGANIZER;CN="Nonprofit Association of Oregon":MAILTO:training@nonprofitoregon.org
GEO:43.9831709;-124.0970376
X-APPLE-STRUCTURED-LOCATION;VALUE=URI;X-ADDRESS=St. Andrew’s Episcopal Church 2136 19th Street Florence OR 97439 United States;X-APPLE-RADIUS=500;X-TITLE=2136 19th Street:geo:-124.0970376,43.9831709
END:VEVENT
BEGIN:VEVENT
DTSTART;TZID=America/Los_Angeles:20231123T130000
DTEND;TZID=America/Los_Angeles:20231123T143000
DTSTAMP:20260420T003632
CREATED:20230911T231942Z
LAST-MODIFIED:20230911T231942Z
UID:10019207-1700744400-1700749800@www.rivercal.org
SUMMARY:Parkinson's Disease Support Group
DESCRIPTION:This support group meets on the 4th Thursday of the month at 1:00pm at St. Andrew’s Episcopal\, 2125 19th St in Florence.  It is open to people with Parkinson’s\, care partners\, family\, and friends.  If you are interested in attending\, please reach out to JoAnne (541.633.3330) prior to attending your first meeting.
URL:https://www.rivercal.org/event/parkinsons-disease-support-group/2023-11-23/
LOCATION:St. Andrew’s Episcopal Church\, 2136 19th Street\, Florence\, OR\, 97439\, United States
ATTACH;FMTTYPE=image/png:https://www.rivercal.org/wp-content/uploads/2023/09/logo-color-tagline.png
ORGANIZER;CN="Nonprofit Association of Oregon":MAILTO:training@nonprofitoregon.org
GEO:43.9831709;-124.0970376
X-APPLE-STRUCTURED-LOCATION;VALUE=URI;X-ADDRESS=St. Andrew’s Episcopal Church 2136 19th Street Florence OR 97439 United States;X-APPLE-RADIUS=500;X-TITLE=2136 19th Street:geo:-124.0970376,43.9831709
END:VEVENT
BEGIN:VEVENT
DTSTART;TZID=America/Los_Angeles:20231026T130000
DTEND;TZID=America/Los_Angeles:20231026T143000
DTSTAMP:20260420T003632
CREATED:20230911T231942Z
LAST-MODIFIED:20230911T231942Z
UID:10019206-1698325200-1698330600@www.rivercal.org
SUMMARY:Parkinson's Disease Support Group
DESCRIPTION:This support group meets on the 4th Thursday of the month at 1:00pm at St. Andrew’s Episcopal\, 2125 19th St in Florence.  It is open to people with Parkinson’s\, care partners\, family\, and friends.  If you are interested in attending\, please reach out to JoAnne (541.633.3330) prior to attending your first meeting.
URL:https://www.rivercal.org/event/parkinsons-disease-support-group/2023-10-26/
LOCATION:St. Andrew’s Episcopal Church\, 2136 19th Street\, Florence\, OR\, 97439\, United States
ATTACH;FMTTYPE=image/png:https://www.rivercal.org/wp-content/uploads/2023/09/logo-color-tagline.png
ORGANIZER;CN="Nonprofit Association of Oregon":MAILTO:training@nonprofitoregon.org
GEO:43.9831709;-124.0970376
X-APPLE-STRUCTURED-LOCATION;VALUE=URI;X-ADDRESS=St. Andrew’s Episcopal Church 2136 19th Street Florence OR 97439 United States;X-APPLE-RADIUS=500;X-TITLE=2136 19th Street:geo:-124.0970376,43.9831709
END:VEVENT
BEGIN:VEVENT
DTSTART;TZID=America/Los_Angeles:20230928T130000
DTEND;TZID=America/Los_Angeles:20230928T143000
DTSTAMP:20260420T003632
CREATED:20230911T231942Z
LAST-MODIFIED:20230911T231942Z
UID:10019205-1695906000-1695911400@www.rivercal.org
SUMMARY:Parkinson's Disease Support Group
DESCRIPTION:This support group meets on the 4th Thursday of the month at 1:00pm at St. Andrew’s Episcopal\, 2125 19th St in Florence.  It is open to people with Parkinson’s\, care partners\, family\, and friends.  If you are interested in attending\, please reach out to JoAnne (541.633.3330) prior to attending your first meeting.
URL:https://www.rivercal.org/event/parkinsons-disease-support-group/2023-09-28/
LOCATION:St. Andrew’s Episcopal Church\, 2136 19th Street\, Florence\, OR\, 97439\, United States
ATTACH;FMTTYPE=image/png:https://www.rivercal.org/wp-content/uploads/2023/09/logo-color-tagline.png
ORGANIZER;CN="Nonprofit Association of Oregon":MAILTO:training@nonprofitoregon.org
GEO:43.9831709;-124.0970376
X-APPLE-STRUCTURED-LOCATION;VALUE=URI;X-ADDRESS=St. Andrew’s Episcopal Church 2136 19th Street Florence OR 97439 United States;X-APPLE-RADIUS=500;X-TITLE=2136 19th Street:geo:-124.0970376,43.9831709
END:VEVENT
END:VCALENDAR