BEGIN:VCALENDAR
VERSION:2.0
PRODID:-//RiverCal – Events in the Siuslaw Region - ECPv6.15.20//NONSGML v1.0//EN
CALSCALE:GREGORIAN
METHOD:PUBLISH
X-WR-CALNAME:RiverCal – Events in the Siuslaw Region
X-ORIGINAL-URL:https://www.rivercal.org
X-WR-CALDESC:Events for RiverCal – Events in the Siuslaw Region
REFRESH-INTERVAL;VALUE=DURATION:PT1H
X-Robots-Tag:noindex
X-PUBLISHED-TTL:PT1H
BEGIN:VTIMEZONE
TZID:America/Los_Angeles
BEGIN:DAYLIGHT
TZOFFSETFROM:-0800
TZOFFSETTO:-0700
TZNAME:PDT
DTSTART:20230312T100000
END:DAYLIGHT
BEGIN:STANDARD
TZOFFSETFROM:-0700
TZOFFSETTO:-0800
TZNAME:PST
DTSTART:20231105T090000
END:STANDARD
BEGIN:DAYLIGHT
TZOFFSETFROM:-0800
TZOFFSETTO:-0700
TZNAME:PDT
DTSTART:20240310T100000
END:DAYLIGHT
BEGIN:STANDARD
TZOFFSETFROM:-0700
TZOFFSETTO:-0800
TZNAME:PST
DTSTART:20241103T090000
END:STANDARD
BEGIN:DAYLIGHT
TZOFFSETFROM:-0800
TZOFFSETTO:-0700
TZNAME:PDT
DTSTART:20250309T100000
END:DAYLIGHT
BEGIN:STANDARD
TZOFFSETFROM:-0700
TZOFFSETTO:-0800
TZNAME:PST
DTSTART:20251102T090000
END:STANDARD
BEGIN:DAYLIGHT
TZOFFSETFROM:-0800
TZOFFSETTO:-0700
TZNAME:PDT
DTSTART:20260308T100000
END:DAYLIGHT
BEGIN:STANDARD
TZOFFSETFROM:-0700
TZOFFSETTO:-0800
TZNAME:PST
DTSTART:20261101T090000
END:STANDARD
END:VTIMEZONE
BEGIN:VEVENT
DTSTART;TZID=America/Los_Angeles:20250921T120000
DTEND;TZID=America/Los_Angeles:20250921T160000
DTSTAMP:20260424T012249
CREATED:20250517T185829Z
LAST-MODIFIED:20250517T190104Z
UID:10025866-1758456000-1758470400@www.rivercal.org
SUMMARY:Elements of Art Studio Tour - Weekend 2
DESCRIPTION:Open Studio Art Tour Featuring Local Artists – Come see where the MAGIC HAPPENS \nThe Elements of Art Studio Tour is getting ready to kick off for the 2025 season featuring local artists. This local creative partnership between Dragon Art Studio and BeauxArts Fine Art Materials has brought forth a creative cultural and economic opportunity for all types of creatives at all levels of skill.  \nThe self guided Open Studio Tour takes place over two weeks in September (9/6-7 and 9/20-21 from noon to 4pm) to provide people ample opportunities to experience multiple locations. \nParticipants of the tour get a look into how and where the artist creates – where the magic happens!  This experience provides tour participants a fun and fresh look at their favorite local artists and chances to discover new artists and their work. Tour participants will be able to get their passports stamped for chances to win prizes and art.  For those patrons interested in visiting the tour locations\, passes can be purchased at ElementsOfArtStudioTour.com. \nArtists will also be showcased all year in our artist directory and website allowing patrons to connect after the show for commission work and further purchases. This will also help artists to build their audience.  \nPatrons of the arts (and fellow artists) have an opportunity to sponsor an artist on the tour.  Many of the artists in our area lost business and profits during the covid pandemic\, or have had trouble getting their businesses off the ground. Our directory of artists and the studio tour is one way we hope to bring business and collaboration to local artists. We are striving to keep costs low\, but donations will go towards paying artists fees into this event and towards the publishing and running of the artist registry\, website\, and programming for artists. You can also help by buying art when you are on the tour and later from our talented artists! \nContact The Elements of Art at ElementsOfArtStudioTour@gmail.com  (Kassy Keppol of Dragon Art Studio & Jo Beaudreau of BeauxArts Fine Art Materials) or visit the website\, ElementsOfArtStudioTour.com\, for more information.
URL:https://www.rivercal.org/event/2025-elements-of-art-studio-tour-weekend-2/2025-09-21/
LOCATION:Various Locations See ElementsOfArtStudioTour.com
CATEGORIES:Arts & Culture,Business,Education/Classes
ATTACH;FMTTYPE=image/png:https://www.rivercal.org/wp-content/uploads/2025/05/2025-Elements-of-Art-Tour-Weekend-2-Event-Cover-1920-x-1080-px.png
END:VEVENT
BEGIN:VEVENT
DTSTART;TZID=America/Los_Angeles:20250920T120000
DTEND;TZID=America/Los_Angeles:20250920T160000
DTSTAMP:20260424T012249
CREATED:20250517T185829Z
LAST-MODIFIED:20250517T190104Z
UID:10025865-1758369600-1758384000@www.rivercal.org
SUMMARY:Elements of Art Studio Tour - Weekend 2
DESCRIPTION:Open Studio Art Tour Featuring Local Artists – Come see where the MAGIC HAPPENS \nThe Elements of Art Studio Tour is getting ready to kick off for the 2025 season featuring local artists. This local creative partnership between Dragon Art Studio and BeauxArts Fine Art Materials has brought forth a creative cultural and economic opportunity for all types of creatives at all levels of skill.  \nThe self guided Open Studio Tour takes place over two weeks in September (9/6-7 and 9/20-21 from noon to 4pm) to provide people ample opportunities to experience multiple locations. \nParticipants of the tour get a look into how and where the artist creates – where the magic happens!  This experience provides tour participants a fun and fresh look at their favorite local artists and chances to discover new artists and their work. Tour participants will be able to get their passports stamped for chances to win prizes and art.  For those patrons interested in visiting the tour locations\, passes can be purchased at ElementsOfArtStudioTour.com. \nArtists will also be showcased all year in our artist directory and website allowing patrons to connect after the show for commission work and further purchases. This will also help artists to build their audience.  \nPatrons of the arts (and fellow artists) have an opportunity to sponsor an artist on the tour.  Many of the artists in our area lost business and profits during the covid pandemic\, or have had trouble getting their businesses off the ground. Our directory of artists and the studio tour is one way we hope to bring business and collaboration to local artists. We are striving to keep costs low\, but donations will go towards paying artists fees into this event and towards the publishing and running of the artist registry\, website\, and programming for artists. You can also help by buying art when you are on the tour and later from our talented artists! \nContact The Elements of Art at ElementsOfArtStudioTour@gmail.com  (Kassy Keppol of Dragon Art Studio & Jo Beaudreau of BeauxArts Fine Art Materials) or visit the website\, ElementsOfArtStudioTour.com\, for more information.
URL:https://www.rivercal.org/event/2025-elements-of-art-studio-tour-weekend-2/2025-09-20/
LOCATION:Various Locations See ElementsOfArtStudioTour.com
CATEGORIES:Arts & Culture,Business,Education/Classes
ATTACH;FMTTYPE=image/png:https://www.rivercal.org/wp-content/uploads/2025/05/2025-Elements-of-Art-Tour-Weekend-2-Event-Cover-1920-x-1080-px.png
END:VEVENT
BEGIN:VEVENT
DTSTART;TZID=America/Los_Angeles:20250907T120000
DTEND;TZID=America/Los_Angeles:20250907T160000
DTSTAMP:20260424T012249
CREATED:20250517T185711Z
LAST-MODIFIED:20250517T202341Z
UID:10025862-1757246400-1757260800@www.rivercal.org
SUMMARY:Elements of Art Studio Tour - Weekend 1
DESCRIPTION:Open Studio Art Tour Featuring Local Artists – Come see where the MAGIC HAPPENS \nThe Elements of Art Studio Tour is getting ready to kick off for the 2025 season featuring local artists. This local creative partnership between Dragon Art Studio and BeauxArts Fine Art Materials has brought forth a creative cultural and economic opportunity for all types of creatives at all levels of skill.  \nThe self guided Open Studio Tour takes place over two weeks in September (9/6-7 and 9/20-21 from noon to 4pm) to provide people ample opportunities to experience multiple locations. \nParticipants of the tour get a look into how and where the artist creates – where the magic happens!  This experience provides tour participants a fun and fresh look at their favorite local artists and chances to discover new artists and their work. Tour participants will be able to get their passports stamped for chances to win prizes and art.  For those patrons interested in visiting the tour locations\, passes can be purchased at ElementsOfArtStudioTour.com. \nArtists will also be showcased all year in our artist directory and website allowing patrons to connect after the show for commission work and further purchases. This will also help artists to build their audience.  \nPatrons of the arts (and fellow artists) have an opportunity to sponsor an artist on the tour.  Many of the artists in our area lost business and profits during the covid pandemic\, or have had trouble getting their businesses off the ground. Our directory of artists and the studio tour is one way we hope to bring business and collaboration to local artists. We are striving to keep costs low\, but donations will go towards paying artists fees into this event and towards the publishing and running of the artist registry\, website\, and programming for artists. You can also help by buying art when you are on the tour and later from our talented artists! \nContact The Elements of Art at ElementsOfArtStudioTour@gmail.com  (Kassy Keppol of Dragon Art Studio & Jo Beaudreau of BeauxArts Fine Art Materials) or visit the website\, ElementsOfArtStudioTour.com\, for more information.
URL:https://www.rivercal.org/event/2025-elements-of-art-studio-tour-weekend-1/2025-09-07/
LOCATION:Various Locations See ElementsOfArtStudioTour.com
CATEGORIES:Arts & Culture,Business,Education/Classes
ATTACH;FMTTYPE=image/png:https://www.rivercal.org/wp-content/uploads/2025/05/2025-Elements-of-Art-Tour-Weekend-1-Event-Cover-1920-x-1080-px.png
END:VEVENT
BEGIN:VEVENT
DTSTART;TZID=America/Los_Angeles:20250906T120000
DTEND;TZID=America/Los_Angeles:20250906T160000
DTSTAMP:20260424T012249
CREATED:20250517T185711Z
LAST-MODIFIED:20250517T202341Z
UID:10025861-1757160000-1757174400@www.rivercal.org
SUMMARY:Elements of Art Studio Tour - Weekend 1
DESCRIPTION:Open Studio Art Tour Featuring Local Artists – Come see where the MAGIC HAPPENS \nThe Elements of Art Studio Tour is getting ready to kick off for the 2025 season featuring local artists. This local creative partnership between Dragon Art Studio and BeauxArts Fine Art Materials has brought forth a creative cultural and economic opportunity for all types of creatives at all levels of skill.  \nThe self guided Open Studio Tour takes place over two weeks in September (9/6-7 and 9/20-21 from noon to 4pm) to provide people ample opportunities to experience multiple locations. \nParticipants of the tour get a look into how and where the artist creates – where the magic happens!  This experience provides tour participants a fun and fresh look at their favorite local artists and chances to discover new artists and their work. Tour participants will be able to get their passports stamped for chances to win prizes and art.  For those patrons interested in visiting the tour locations\, passes can be purchased at ElementsOfArtStudioTour.com. \nArtists will also be showcased all year in our artist directory and website allowing patrons to connect after the show for commission work and further purchases. This will also help artists to build their audience.  \nPatrons of the arts (and fellow artists) have an opportunity to sponsor an artist on the tour.  Many of the artists in our area lost business and profits during the covid pandemic\, or have had trouble getting their businesses off the ground. Our directory of artists and the studio tour is one way we hope to bring business and collaboration to local artists. We are striving to keep costs low\, but donations will go towards paying artists fees into this event and towards the publishing and running of the artist registry\, website\, and programming for artists. You can also help by buying art when you are on the tour and later from our talented artists! \nContact The Elements of Art at ElementsOfArtStudioTour@gmail.com  (Kassy Keppol of Dragon Art Studio & Jo Beaudreau of BeauxArts Fine Art Materials) or visit the website\, ElementsOfArtStudioTour.com\, for more information.
URL:https://www.rivercal.org/event/2025-elements-of-art-studio-tour-weekend-1/2025-09-06/
LOCATION:Various Locations See ElementsOfArtStudioTour.com
CATEGORIES:Arts & Culture,Business,Education/Classes
ATTACH;FMTTYPE=image/png:https://www.rivercal.org/wp-content/uploads/2025/05/2025-Elements-of-Art-Tour-Weekend-1-Event-Cover-1920-x-1080-px.png
END:VEVENT
BEGIN:VEVENT
DTSTART;TZID=America/Los_Angeles:20240922T120000
DTEND;TZID=America/Los_Angeles:20240922T160000
DTSTAMP:20260424T012249
CREATED:20240225T004618Z
LAST-MODIFIED:20240225T004619Z
UID:10021131-1727006400-1727020800@www.rivercal.org
SUMMARY:Elements of Art Studio Tour 2024 (Weekend 2 of 2)
DESCRIPTION:Open Studio Art Tour Featuring Local Artists – Come see where the MAGIC HAPPENS \nOn September 7th\, 8th\, 21st\, and 22nd (1st and 3rd Weekends in September Annually) Dragon Art and BeauxArts Fine Art Materials and Gallery are hosting the the Elements of Art Studio Tour and Artist Registry Event. \nParticipants will purchase a ticket which includes a catalogue of local artists with beautiful pictures of their studios\, artwork\, and information about how participants can contact them to order art. In addition\, participants will receive a passport to: tour local artist studios\, ask them questions\, buy art\, and see how and where art is produced in our area. Studios will be open from Noon-4 on each of the two weekends involved for the event. \nLearn more at ElementsOfArtStudioTour.com \nElements of Art Studio Tour Website: ElementsOfArtStudioTour.com\nElements of Art Studio Tour Facebook Page: facebook.com/elementsofartstudiotour
URL:https://www.rivercal.org/event/elements-of-art-studio-tour-2024-weekend-2-of-2-2/
LOCATION:Various Locations See ElementsOfArtStudioTour.com
CATEGORIES:Arts & Culture,Business
ATTACH;FMTTYPE=image/png:https://www.rivercal.org/wp-content/uploads/2024/02/EOAT-River-Cal-Header.png
END:VEVENT
BEGIN:VEVENT
DTSTART;TZID=America/Los_Angeles:20240921T120000
DTEND;TZID=America/Los_Angeles:20240921T160000
DTSTAMP:20260424T012249
CREATED:20240225T004447Z
LAST-MODIFIED:20240225T004735Z
UID:10021130-1726920000-1726934400@www.rivercal.org
SUMMARY:Elements of Art Studio Tour 2024 (Weekend 2 of 2)
DESCRIPTION:Open Studio Art Tour Featuring Local Artists – Come see where the MAGIC HAPPENS \nOn September 7th\, 8th\, 21st\, and 22nd (1st and 3rd Weekends in September Annually) Dragon Art and BeauxArts Fine Art Materials and Gallery are hosting the the Elements of Art Studio Tour and Artist Registry Event. \nParticipants will purchase a ticket which includes a catalogue of local artists with beautiful pictures of their studios\, artwork\, and information about how participants can contact them to order art. In addition\, participants will receive a passport to: tour local artist studios\, ask them questions\, buy art\, and see how and where art is produced in our area. Studios will be open from Noon-4 on each of the two weekends involved for the event. \nLearn more at ElementsOfArtStudioTour.com \nElements of Art Studio Tour Website: ElementsOfArtStudioTour.com\nElements of Art Studio Tour Facebook Page: facebook.com/elementsofartstudiotour
URL:https://www.rivercal.org/event/elements-of-art-studio-tour-2024-weekend-2-of-2/
LOCATION:Various Locations See ElementsOfArtStudioTour.com
CATEGORIES:Arts & Culture,Business
ATTACH;FMTTYPE=image/png:https://www.rivercal.org/wp-content/uploads/2024/02/EOAT-River-Cal-Header.png
END:VEVENT
BEGIN:VEVENT
DTSTART;TZID=America/Los_Angeles:20240908T120000
DTEND;TZID=America/Los_Angeles:20240908T160000
DTSTAMP:20260424T012249
CREATED:20240225T004318Z
LAST-MODIFIED:20240225T004828Z
UID:10021129-1725796800-1725811200@www.rivercal.org
SUMMARY:Elements of Art Studio Tour 2024 (Weekend 1 of 2)
DESCRIPTION:Open Studio Art Tour Featuring Local Artists – Come see where the MAGIC HAPPENS \nOn September 7th\, 8th\, 21st\, and 22nd (1st and 3rd Weekends in September Annually) Dragon Art and BeauxArts Fine Art Materials and Gallery are hosting the the Elements of Art Studio Tour and Artist Registry Event. \nParticipants will purchase a ticket which includes a catalogue of local artists with beautiful pictures of their studios\, artwork\, and information about how participants can contact them to order art. In addition\, participants will receive a passport to: tour local artist studios\, ask them questions\, buy art\, and see how and where art is produced in our area. Studios will be open from Noon-4 on each of the two weekends involved for the event. \nLearn more at ElementsOfArtStudioTour.com \nElements of Art Studio Tour Website: ElementsOfArtStudioTour.com\nElements of Art Studio Tour Facebook Page: facebook.com/elementsofartstudiotour
URL:https://www.rivercal.org/event/elements-of-art-studio-tour-2024-weekend-1-of-2-2/
LOCATION:Various Locations See ElementsOfArtStudioTour.com
CATEGORIES:Arts & Culture,Business
ATTACH;FMTTYPE=image/png:https://www.rivercal.org/wp-content/uploads/2024/02/EOAT-River-Cal-Header.png
END:VEVENT
BEGIN:VEVENT
DTSTART;TZID=America/Los_Angeles:20240907T120000
DTEND;TZID=America/Los_Angeles:20240907T160000
DTSTAMP:20260424T012249
CREATED:20240225T004143Z
LAST-MODIFIED:20240225T004143Z
UID:10021128-1725710400-1725724800@www.rivercal.org
SUMMARY:Elements of Art Studio Tour 2024 (Weekend 1 of 2)
DESCRIPTION:Open Studio Art Tour Featuring Local Artists – Come see where the MAGIC HAPPENS \nOn September 7th\, 8th\, 21st\, and 22nd (1st and 3rd Weekends in September Annually) Dragon Art and BeauxArts Fine Art Materials and Gallery are hosting the the Elements of Art Studio Tour and Artist Registry Event. \nParticipants will purchase a ticket which includes a catalogue of local artists with beautiful pictures of their studios\, artwork\, and information about how participants can contact them to order art. In addition\, participants will receive a passport to: tour local artist studios\, ask them questions\, buy art\, and see how and where art is produced in our area. Studios will be open from Noon-4 on each of the two weekends involved for the event. \nLearn more at ElementsOfArtStudioTour.com \nElements of Art Studio Tour Website: ElementsOfArtStudioTour.com\nElements of Art Studio Tour Facebook Page: facebook.com/elementsofartstudiotour
URL:https://www.rivercal.org/event/elements-of-art-studio-tour-2024-weekend-1-of-2/2024-09-07/2/
LOCATION:Various Locations See ElementsOfArtStudioTour.com
CATEGORIES:Arts & Culture,Education/Classes
ATTACH;FMTTYPE=image/png:https://www.rivercal.org/wp-content/uploads/2024/02/EOAT-River-Cal-Header.png
END:VEVENT
BEGIN:VEVENT
DTSTART;TZID=America/Los_Angeles:20240907T080000
DTEND;TZID=America/Los_Angeles:20240907T170000
DTSTAMP:20260424T012249
CREATED:20240225T004143Z
LAST-MODIFIED:20240225T004143Z
UID:10021127-1725696000-1725728400@www.rivercal.org
SUMMARY:Elements of Art Studio Tour 2024 (Weekend 1 of 2)
DESCRIPTION:Open Studio Art Tour Featuring Local Artists – Come see where the MAGIC HAPPENS \nOn September 7th\, 8th\, 21st\, and 22nd (1st and 3rd Weekends in September Annually) Dragon Art and BeauxArts Fine Art Materials and Gallery are hosting the the Elements of Art Studio Tour and Artist Registry Event. \nParticipants will purchase a ticket which includes a catalogue of local artists with beautiful pictures of their studios\, artwork\, and information about how participants can contact them to order art. In addition\, participants will receive a passport to: tour local artist studios\, ask them questions\, buy art\, and see how and where art is produced in our area. Studios will be open from Noon-4 on each of the two weekends involved for the event. \nLearn more at ElementsOfArtStudioTour.com \nElements of Art Studio Tour Website: ElementsOfArtStudioTour.com\nElements of Art Studio Tour Facebook Page: facebook.com/elementsofartstudiotour
URL:https://www.rivercal.org/event/elements-of-art-studio-tour-2024-weekend-1-of-2/2024-09-07/1/
LOCATION:Various Locations See ElementsOfArtStudioTour.com
CATEGORIES:Arts & Culture,Education/Classes
ATTACH;FMTTYPE=image/png:https://www.rivercal.org/wp-content/uploads/2024/02/EOAT-River-Cal-Header.png
END:VEVENT
END:VCALENDAR